Workbook

Sheet 시험결과
A1: 이동식에어컨디셔너 효율등급 계산시트(1/2)
A2: [적용기준 : 효율관리기자재 운용규정 제 2024-169호]
A3: 1. 일반사항 | I3: * 노란셀 입력
A4: 제조사/제조국 | B4: 직접입력 | F4: 판매사 | G4: 직접입력
A5: 모델명 | B5: 직접입력 | F5: 안전인증번호 | G5: 직접입력
A6: 냉 매 | B6: 직접입력 | F6: 정격냉방능력[W] | G6: 직접입력
A7: 압축기 형태 | B7: 고정용량형 | F7: 넥크워크 기능 | G7: 일반제품
A8: 증발기 덕트 | B8: 토출덕트 | F8: 응축기 덕트 | G8: 토출덕트
A9: 정격전원 | B9: 직접입력 | F9: 대기모드 | G9: 수동대기모드
A11: 2. 시험결과
A12: 시험항목 | D12: 시험결과 [W] | E12: 시스템 제어 결과
E13: 압축기 주파수 [Hz] | F13: 증발기 팬 [운전모드 or RPM] | G13: 응축기 팬 [RPM] | H13: EEV 개도 [pulse] | I13: EEV full open [pulse]
A14: 냉방표준 | B14: 정격 | C14: 능력 | D14: 결과입력 | E14: 직접입력 | F14: 직접입력 | G14: 직접입력 | H14: 직접입력 | I14: 직접입력
C15: 소비전력 | D15: 결과입력 | E15: 직접입력 | F15: 직접입력 | G15: 직접입력 | H15: 직접입력 | I15: 직접입력
B16: 중간 | C16: 능력 | D16: 결과입력 | E16: 직접입력 | F16: 직접입력 | G16: 직접입력 | H16: 직접입력 | I16: 직접입력
C17: 소비전력 | D17: 결과입력 | E17: 직접입력 | F17: 직접입력 | G17: 직접입력 | H17: 직접입력 | I17: 직접입력
A18: 냉방저온 | B18: 최소 | C18: 능력 | D18: 결과입력 | E18: 직접입력 | F18: 직접입력 | G18: 직접입력 | H18: 직접입력 | I18: 직접입력
C19: 소비전력 | D19: 결과입력 | E19: 직접입력 | F19: 직접입력 | G19: 직접입력 | H19: 직접입력 | I19: 직접입력
A20: 대기전력 | D20: 결과입력
A22: 3. 계산결과
A23: 시험항목 | C23: 단위 | D23: 정격값 | E23: 시험결과 | F23: 합부 판정 | G23: 허용오차범위 | I23: 소수점 자리
A24: 정격냉방능력 | C24: W | D24: =G6 -> 직접입력 | E24: - | F24: - | G24: - | I24: 정수
A25: 냉방표준능력(측정) | C25: W | D25: =D24 -> 직접입력 | E25: =D14 -> 결과입력 | F25: =IF(E25>=D25*0.95, "합격", "불합격") -> #VALUE! | G25: 표시값의 95 % 이상 | I25: 정수
A26: 냉방표준소비전력(측정) | C26: W | D26: 직접입력 | E26: =D15 -> 결과입력 | F26: - | I26: 정수
A27: 연간소비전력량 | C27: kW·h/년 | D27: =E27 -> #VALUE! | E27: =IF($B$7="고정용량형",고정용량형!E7,IF($B$7="가변용량형",'가변용량(일반)'!E9)) -> #VALUE! | F27: - | I27: 첫째
A28: 1시간소비전력량 | C28: W·h | D28: =E28 -> #VALUE! | E28: =IF($B$7="고정용량형",고정용량형!G7, IF($B$7="가변용량형",'가변용량(일반)'!G9,"??")) -> #VALUE! | F28: - | I28: 정수
A29: 냉방기간에너지소비효율(CSPF) | C29: W/W | D29: =E29 -> #VALUE! | E29: =IF($B$7="고정용량형",고정용량형!D7, IF($B$7="가변용량형",'가변용량(일반)'!D9,"??")) -> #VALUE! | F29: =IF(E29>=D29*0.95, "합격", "불합격") -> #VALUE! | G29: 표시값의 95 % 이상 | I29: 셋째
A30: 대기전력 | C30: W | D30: 직접입력 | E30: =ROUNDUP(D20,1) -> #VALUE! | F30: - | I30: 첫째
A31: 1시간사용시 CO2배출량 | C31: g/h | D31: =E31 -> #VALUE! | E31: =IF($B$7="고정용량형",고정용량형!H7, IF($B$7="가변용량형",'가변용량(일반)'!H9,"??")) -> #VALUE! | F31: =IF(E31<=D31*1.1, "합격", "불합격") -> #VALUE! | G31: 표시값의 110 % 이하 | I31: 정수
A32: 냉방기간월간소비전력량 | C32: kW·h/월 | D32: =E32 -> #VALUE! | E32: =IF($B$7="고정용량형",고정용량형!F7, IF($B$7="가변용량형",'가변용량(일반)'!F9,"??")) -> #VALUE! | F32: =IF(E32<=D32*1.1, "합격", "불합격") -> #VALUE! | G32: 표시값의 110 % 이하 | I32: 첫째
A33: 냉방기간 총소비전력량 | D33: =E33 -> #VALUE! | E33: =IF($B$7="고정용량형",고정용량형!J7, IF($B$7="가변용량형",'가변용량(일반)'!J9,"??")) -> #VALUE! | F33: - | I33: 첫째
A34: 월간에너지비용 | C34: 원/월 | D34: =E34 -> #VALUE! | E34: =IF($B$7="고정용량형",고정용량형!K7, IF($B$7="가변용량형",'가변용량(일반)'!K9,"??")) -> #VALUE! | F34: =IF(E34<=D34*1.1, "합격", "불합격") -> #VALUE! | G34: 표시값의 110 % 이하 | I34: 정수
A35: 소비효율등급부여지표(R) | C35: - | D35: =E35 -> #VALUE! | E35: =E29 -> #VALUE! | F35: - | I35: -
A36: 소비효율등급 | C36: - | D36: 직접입력 | E36: 직접입력 | F36: - | I36: -
A39: 4. 효율 등급표

Sheet 고정용량형
A1: 이동식에어컨디셔너 효율등급 계산시트(2/2)
B3: 모델명 | F3: =시험결과!B5 -> 직접입력
B4: 정격냉방능력 | F4: =시험결과!G6 -> 직접입력
B6: 결과 | D6: CSPF | E6: 냉방기간연간소비전력량(kWh) | F6: 냉방기간 월간소비전력량 (kWh/월) | G6: 1시간 소비전력량 (W/h) | H6: CO2 배출량 (g/h) | I6: 냉방기간 총 냉방량 합계 (kWh) | J6: 냉방기간 총 냉방소비전력량합계 (kWh) | K6: 월간에너지비용 [\]
D7: =M14 -> #VALUE! | E7: =M16 -> #VALUE! | F7: =ROUND(E7/4,1) -> #VALUE! | G7: =ROUND(E7*1000/941,0) -> #VALUE! | H7: =G7*0.425 -> #VALUE! | I7: =M12 -> #VALUE! | J7: =M13 -> #VALUE! | K7: =ROUND(F7*221,-3) -> #VALUE!
B10: CSPF for Fixed Speed Capacity Unit
C12: Test Result Input | D12: Test mode | G12: Rate | J12: Result | K12: CSTL(kWh) | M12: =K40/1000 -> #VALUE!
D13: Standard (27/19℃, 35/24℃) | F13: Capa.(W) | G13: =시험결과!D14 -> 결과입력 | K13: CSTE(kWh)_냉방기간총냉방소비전력량 합계 | M13: =L40/1000 -> #VALUE!
F14: Power(W) | G14: =시험결과!D15 -> 결과입력 | K14: CSPF | M14: =M12/M13 -> #VALUE!
D15: Degradation Coefficient(CD) | G15: 0.25 | K15: Monthly HSTE(kWh) | M15: =ROUND(M16/4,1) -> #VALUE!
K16: 냉방기간연간소비전력량(kWh) | M16: =ROUND(M13*2.5,1) -> #VALUE!
E17: Test condition | G17: Rating Capacity
E18: ID side | F18: OD side | G18: Capacity | H18: Power | I18: COP
E19: DBT/WBT | F19: DBT/WBT | G19: W | H19: W
C20: Standard Capa. | E20: 27/19 | F20: 35/24 | G20: =G13 -> 결과입력 | H20: =G14 -> 결과입력 | I20: =G20/H20 -> #VALUE!
C21: Low temp. Capa. | F21: 29/19 | G21: =1.077*G20 -> #VALUE! | H21: =H20*0.914 -> #VALUE! | I21: =G21/H21 -> #VALUE!
C23: j | D23: Temp. | E23: Hours | F23: BLc | G23: Φ'cr(tj) | H23: X(tj) | I23: PLF(tj) | J23: P'c(tj) | K23: x*Φ'cr(tj) | L23: X*P'c(tj) | M23: COP
D24: ℃ | E24: h | F24: W | K24: *nj | L24: *nj/PLF(tj)
C25: 1 | D25: 24 | E25: 152 | F25: =F$4*(D25-23)/12 -> #VALUE! | G25: =G$20+(G$21-G$20)*(35-D25)/6 -> #VALUE! | H25: =IF(F25>=G25,1,F25/G25) -> #VALUE! | I25: =1-G$15*(1-H25) -> #VALUE! | J25: =H$20+(H$21-H$20)*(35-D25)/6 -> #VALUE! | K25: =H25*G25*E25 -> #VALUE! | L25: =H25*J25*E25/I25 -> #VALUE! | M25: =K25/L25 -> #VALUE!
C26: =C25+1 -> 2 | D26: 25 | E26: 146 | F26: =F$4*(D26-23)/12 -> #VALUE! | G26: =G$20+(G$21-G$20)*(35-D26)/6 -> #VALUE! | H26: =IF(F26>=G26,1,F26/G26) -> #VALUE! | I26: =1-G$15*(1-H26) -> #VALUE! | J26: =H$20+(H$21-H$20)*(35-D26)/6 -> #VALUE! | K26: =H26*G26*E26 -> #VALUE! | L26: =H26*J26*E26/I26 -> #VALUE! | M26: =K26/L26 -> #VALUE!
C27: =C26+1 -> 3 | D27: 26 | E27: 140 | F27: =F$4*(D27-23)/12 -> #VALUE! | G27: =G$20+(G$21-G$20)*(35-D27)/6 -> #VALUE! | H27: =IF(F27>=G27,1,F27/G27) -> #VALUE! | I27: =1-G$15*(1-H27) -> #VALUE! | J27: =H$20+(H$21-H$20)*(35-D27)/6 -> #VALUE! | K27: =H27*G27*E27 -> #VALUE! | L27: =H27*J27*E27/I27 -> #VALUE! | M27: =K27/L27 -> #VALUE!
C28: =C27+1 -> 4 | D28: 27 | E28: 130 | F28: =F$4*(D28-23)/12 -> #VALUE! | G28: =G$20+(G$21-G$20)*(35-D28)/6 -> #VALUE! | H28: =IF(F28>=G28,1,F28/G28) -> #VALUE! | I28: =1-G$15*(1-H28) -> #VALUE! | J28: =H$20+(H$21-H$20)*(35-D28)/6 -> #VALUE! | K28: =H28*G28*E28 -> #VALUE! | L28: =H28*J28*E28/I28 -> #VALUE! | M28: =K28/L28 -> #VALUE!
C29: =C28+1 -> 5 | D29: 28 | E29: 112 | F29: =F$4*(D29-23)/12 -> #VALUE! | G29: =G$20+(G$21-G$20)*(35-D29)/6 -> #VALUE! | H29: =IF(F29>=G29,1,F29/G29) -> #VALUE! | I29: =1-G$15*(1-H29) -> #VALUE! | J29: =H$20+(H$21-H$20)*(35-D29)/6 -> #VALUE! | K29: =H29*G29*E29 -> #VALUE! | L29: =H29*J29*E29/I29 -> #VALUE! | M29: =K29/L29 -> #VALUE!
C30: =C29+1 -> 6 | D30: 29 | E30: 89 | F30: =F$4*(D30-23)/12 -> #VALUE! | G30: =G$20+(G$21-G$20)*(35-D30)/6 -> #VALUE! | H30: =IF(F30>=G30,1,F30/G30) -> #VALUE! | I30: =1-G$15*(1-H30) -> #VALUE! | J30: =H$20+(H$21-H$20)*(35-D30)/6 -> #VALUE! | K30: =H30*G30*E30 -> #VALUE! | L30: =H30*J30*E30/I30 -> #VALUE! | M30: =K30/L30 -> #VALUE!
C31: =C30+1 -> 7 | D31: 30 | E31: 69 | F31: =F$4*(D31-23)/12 -> #VALUE! | G31: =G$20+(G$21-G$20)*(35-D31)/6 -> #VALUE! | H31: =IF(F31>=G31,1,F31/G31) -> #VALUE! | I31: =1-G$15*(1-H31) -> #VALUE! | J31: =H$20+(H$21-H$20)*(35-D31)/6 -> #VALUE! | K31: =H31*G31*E31 -> #VALUE! | L31: =H31*J31*E31/I31 -> #VALUE! | M31: =K31/L31 -> #VALUE!
C32: =C31+1 -> 8 | D32: 31 | E32: 47 | F32: =F$4*(D32-23)/12 -> #VALUE! | G32: =G$20+(G$21-G$20)*(35-D32)/6 -> #VALUE! | H32: =IF(F32>=G32,1,F32/G32) -> #VALUE! | I32: =1-G$15*(1-H32) -> #VALUE! | J32: =H$20+(H$21-H$20)*(35-D32)/6 -> #VALUE! | K32: =H32*G32*E32 -> #VALUE! | L32: =H32*J32*E32/I32 -> #VALUE! | M32: =K32/L32 -> #VALUE!
C33: =C32+1 -> 9 | D33: 32 | E33: 29 | F33: =F$4*(D33-23)/12 -> #VALUE! | G33: =G$20+(G$21-G$20)*(35-D33)/6 -> #VALUE! | H33: =IF(F33>=G33,1,F33/G33) -> #VALUE! | I33: =1-G$15*(1-H33) -> #VALUE! | J33: =H$20+(H$21-H$20)*(35-D33)/6 -> #VALUE! | K33: =H33*G33*E33 -> #VALUE! | L33: =H33*J33*E33/I33 -> #VALUE! | M33: =K33/L33 -> #VALUE!
C34: =C33+1 -> 10 | D34: 33 | E34: 14 | F34: =F$4*(D34-23)/12 -> #VALUE! | G34: =G$20+(G$21-G$20)*(35-D34)/6 -> #VALUE! | H34: =IF(F34>=G34,1,F34/G34) -> #VALUE! | I34: =1-G$15*(1-H34) -> #VALUE! | J34: =H$20+(H$21-H$20)*(35-D34)/6 -> #VALUE! | K34: =H34*G34*E34 -> #VALUE! | L34: =H34*J34*E34/I34 -> #VALUE! | M34: =K34/L34 -> #VALUE!
C35: =C34+1 -> 11 | D35: 34 | E35: 6 | F35: =F$4*(D35-23)/12 -> #VALUE! | G35: =G$20+(G$21-G$20)*(35-D35)/6 -> #VALUE! | H35: =IF(F35>=G35,1,F35/G35) -> #VALUE! | I35: =1-G$15*(1-H35) -> #VALUE! | J35: =H$20+(H$21-H$20)*(35-D35)/6 -> #VALUE! | K35: =H35*G35*E35 -> #VALUE! | L35: =H35*J35*E35/I35 -> #VALUE! | M35: =K35/L35 -> #VALUE!
C36: =C35+1 -> 12 | D36: 35 | E36: 4 | F36: =F$4*(D36-23)/12 -> #VALUE! | G36: =G$20+(G$21-G$20)*(35-D36)/6 -> #VALUE! | H36: =IF(F36>=G36,1,F36/G36) -> #VALUE! | I36: =1-G$15*(1-H36) -> #VALUE! | J36: =H$20+(H$21-H$20)*(35-D36)/6 -> #VALUE! | K36: =H36*G36*E36 -> #VALUE! | L36: =H36*J36*E36/I36 -> #VALUE! | M36: =K36/L36 -> #VALUE!
C37: =C36+1 -> 13 | D37: 36 | E37: 2 | F37: =F$4*(D37-23)/12 -> #VALUE! | G37: =G$20+(G$21-G$20)*(35-D37)/6 -> #VALUE! | H37: =IF(F37>=G37,1,F37/G37) -> #VALUE! | I37: =1-G$15*(1-H37) -> #VALUE! | J37: =H$20+(H$21-H$20)*(35-D37)/6 -> #VALUE! | K37: =H37*G37*E37 -> #VALUE! | L37: =H37*J37*E37/I37 -> #VALUE! | M37: =K37/L37 -> #VALUE!
... C39: =C38+1 -> 15 | D39: 38 | E39: 0 | F39: =F$4*(D39-23)/12 -> #VALUE! | G39: =G$20+(G$21-G$20)*(35-D39)/6 -> #VALUE! | H39: =IF(F39>=G39,1,F39/G39) -> #VALUE! | I39: =1-G$15*(1-H39) -> #VALUE! | J39: =H$20+(H$21-H$20)*(35-D39)/6 -> #VALUE! | K39: =H39*G39*E39 -> #VALUE! | L39: =H39*J39*E39/I39 -> #VALUE! | M39: =K39/L39 -> #VALUE!
C40: 계 | E40: =SUM(E25:E39) -> 941 | K40: =SUM(K25:K39) -> #VALUE! | L40: =SUM(L25:L39) -> #VALUE! | M40: =K40/L40 -> #VALUE!

Sheet 가변용량(일반)
B1: 전기냉방기 효율등급 계산시트(2/2)
C3: 모델명 | H3: =시험결과!B5 -> 직접입력
C4: 정격냉방능력 | H4: =시험결과!G6 -> 직접입력
B6: 가변용량형 (3점식) CSPF
C8: 결과 | D8: CSPF | E8: 냉방기간연간소비전력량(kWh) | F8: 냉방기간 월간소비전력량 (kWh/월) | G8: 1시간 소비전력량 (W/h) | H8: CO2 배출량 (g/h) | I8: 냉방기간 총 냉방량 합계 (kWh) | J8: 냉방기간 총 냉방소비전력량합계 (kWh) | K8: 월간에너지비용 [\]
D9: =U36 -> #VALUE! | E9: =ROUND(J9*2.5,1) -> #VALUE! | F9: =ROUND(E9/4,1) -> #VALUE! | G9: =ROUND(E9*1000/941,0) -> #VALUE! | H9: =G9*0.425 -> #VALUE! | I9: =R36/1000 -> #VALUE! | J9: =ROUND(S36/1000,1) -> #VALUE! | K9: =ROUND(F9*221,-3) -> #VALUE!
E12: 시험조건 | G12: 최소운전 | J12: 중간운전 | M12: 정격운전 | P12: 온도저하계수 | S12: 0.25
E13: 실내측 | F13: 실외측 | G13: 능력 | H13: 소비전력 | I13: EER | J13: 능력 | K13: 소비전력 | L13: EER | M13: 능력 | N13: 소비전력 | O13: EER | P13: 결과보간
E14: 건구/습구 | F14: 건구/습구 | G14: W | H14: W | J14: W | K14: W | M14: W | N14: W | P14: 온도(ta) | Q14: =(70*G16-58*G15+23*H4)/(2*G16-2*G15+H4) -> #VALUE! | R14: 전력(ta) | S14: =H15+(H16-H15)*(35-Q14)/6 -> #VALUE! | T14: 능력(ta) | U14: =($G$15-$G$16)/(35-29)*(Q14-35)+$G$15 -> #VALUE!
C15: 표준조건 | E15: 27/19 | F15: 35/24 | G15: =ROUND(G16/1.077,0) -> #VALUE! | H15: =ROUND(H16/0.864,0) -> #VALUE! | I15: =G15/H15 -> #VALUE! | J15: =ROUND(시험결과!D16,0) -> #VALUE! | K15: =ROUND(시험결과!D17,0) -> #VALUE! | L15: =J15/K15 -> #VALUE! | M15: =ROUND(시험결과!D14,0) -> #VALUE! | N15: =ROUND(시험결과!D15,0) -> #VALUE! | O15: =M15/N15 -> #VALUE! | P15: 온도(tb) | Q15: =(70*M16-58*M15+23*H4)/(2*M16-2*M15+H4) -> #VALUE! | R15: 전력(tb) | S15: =N15+(N16-N15)*(35-Q15)/6 -> #VALUE! | T15: 능력(tb) | U15: =($M$15-$M$16)/(35-29)*(Q15-35)+$M$15 -> #VALUE!
C16: 저온조건 | F16: 29/19 | G16: =ROUND(시험결과!D18,0) -> #VALUE! | H16: =ROUND(시험결과!D19,0) -> #VALUE! | I16: =G16/H16 -> #VALUE! | J16: =ROUND(1.077*J15,0) -> #VALUE! | K16: =ROUND(0.864*K15,0) -> #VALUE! | L16: =J16/K16 -> #VALUE! | M16: =ROUND(1.077*M15,0) -> #VALUE! | N16: =ROUND(0.864*N15,0) -> #VALUE! | O16: =M16/N16 -> #VALUE! | P16: 온도(tc) | Q16: =(70*J16-58*J15+23*H4)/(2*J16-2*J15+H4) -> #VALUE! | R16: 전력(tc) | S16: =K15+(K16-K15)*(35-Q16)/6 -> #VALUE! | T16: 능력(tc) | U16: =($J$15-$J$16)/(35-29)*(Q16-35)+$J$15 -> #VALUE!
C18: 온도빈 | G18: 최소운전 | H18: 최소운전 | I18: 중간운전 | J18: 중간운전 | K18: 정격운전 | L18: 정격운전 | M18: 운전 | R18: 냉방기간 | S18: 냉방기간
C19: 온도구분 | D19: 온도 | E19: 시간 | F19: 건물부하 | G19: 냉방능력 | H19: 소비전력 | I19: 냉방능력 | J19: 소비전력 | K19: 냉방능력 | L19: 소비전력 | M19: 조건 | N19: 가동율 | O19: 운전비율 | P19: 냉방능력 | Q19: 소비전력 | R19: 냉방량 | S19: 냉방소비전력량 | T19: EER | U19: CSPF
C20: J | D20: ℃ | E20: h | F20: W | G20: W | H20: W | I20: W | J20: W | K20: W | L20: W | M20: (1,2,3,4) | N20: X | O20: PLF | P20: W | Q20: W | R20: Wh | S20: Wh
C21: 1 | D21: =23+C21 -> 24 | E21: 152 | F21: =$H$4*(D21-23)/12 -> #VALUE! | G21: =($G$15-$G$16)/(35-29)*(D21-35)+$G$15 -> #VALUE! | H21: =($H$15-$H$16)/(35-29)*(D21-35)+$H$15 -> #VALUE! | I21: =($J$15-$J$16)/(35-29)*(D21-35)+$J$15 -> #VALUE! | J21: =($K$15-$K$16)/(35-29)*(D21-35)+$K$15 -> #VALUE! | K21: =($M$15-$M$16)/(35-29)*(D21-35)+$M$15 -> #VALUE! | L21: =($N$15-$N$16)/(35-29)*(D21-35)+$N$15 -> #VALUE! | M21: =IF(F21<=G21,1,IF(F21<=I21,2,IF(F21<=K21,3,IF(F21>K21,4)))) -> #VALUE! | N21: =(1<=F21/G21)+(1>F21/G21)*(F21/G21) -> #VALUE! | O21: =1-$S$12*(1-N21) -> #VALUE! | P21: =($F21<=$G21)*$G21+(($G21<$F21)*($F21<=$I21))*$F21+(($I21<$F21)*($F21<=$K21))*$F21+($F21>$K21)*$K21 -> #VALUE! | Q21: =($F21<=$G21)*$H21+(($G21<$F21)*($F21<=$I21))*IF($G21=$I21,0,(($S$16-$S$14)/($Q$16-$Q$14)*($D21-$Q$16)+$S$16))+(($I21<$F21)*($F21<=$K21))*IF($I21=$K21,0,(($S$15-$S$16)/($Q$15-$Q$16)*($D21-$Q$15)+$S$15))+($F21>$K21)*$L21 -> #VALUE! | R21: =$P21*$N21*$E21 -> #VALUE! | S21: =$Q21*$N21/$O21*$E21 -> #VALUE! | T21: =$P21/$Q21 -> #VALUE! | U21: =R21/S21 -> #VALUE!
C22: =C21+1 -> 2 | D22: =23+C22 -> 25 | E22: 146 | F22: =$H$4*(D22-23)/12 -> #VALUE! | G22: =($G$15-$G$16)/(35-29)*(D22-35)+$G$15 -> #VALUE! | H22: =($H$15-$H$16)/(35-29)*(D22-35)+$H$15 -> #VALUE! | I22: =($J$15-$J$16)/(35-29)*(D22-35)+$J$15 -> #VALUE! | J22: =($K$15-$K$16)/(35-29)*(D22-35)+$K$15 -> #VALUE! | K22: =($M$15-$M$16)/(35-29)*(D22-35)+$M$15 -> #VALUE! | L22: =($N$15-$N$16)/(35-29)*(D22-35)+$N$15 -> #VALUE! | M22: =IF(F22<=G22,1,IF(F22<=I22,2,IF(F22<=K22,3,IF(F22>K22,4)))) -> #VALUE! | N22: =(1<=F22/G22)+(1>F22/G22)*(F22/G22) -> #VALUE! | O22: =1-$S$12*(1-N22) -> #VALUE! | P22: =($F22<=$G22)*$G22+(($G22<$F22)*($F22<=$I22))*$F22+(($I22<$F22)*($F22<=$K22))*$F22+($F22>$K22)*$K22 -> #VALUE! | Q22: =($F22<=$G22)*$H22+(($G22<$F22)*($F22<=$I22))*IF($G22=$I22,0,(($S$16-$S$14)/($Q$16-$Q$14)*($D22-$Q$16)+$S$16))+(($I22<$F22)*($F22<=$K22))*IF($I22=$K22,0,(($S$15-$S$16)/($Q$15-$Q$16)*($D22-$Q$15)+$S$15))+($F22>$K22)*$L22 -> #VALUE! | R22: =$P22*$N22*$E22 -> #VALUE! | S22: =$Q22*$N22/$O22*$E22 -> #VALUE! | T22: =$P22/$Q22 -> #VALUE! | U22: =R22/S22 -> #VALUE!
C23: =C22+1 -> 3 | D23: =23+C23 -> 26 | E23: 140 | F23: =$H$4*(D23-23)/12 -> #VALUE! | G23: =($G$15-$G$16)/(35-29)*(D23-35)+$G$15 -> #VALUE! | H23: =($H$15-$H$16)/(35-29)*(D23-35)+$H$15 -> #VALUE! | I23: =($J$15-$J$16)/(35-29)*(D23-35)+$J$15 -> #VALUE! | J23: =($K$15-$K$16)/(35-29)*(D23-35)+$K$15 -> #VALUE! | K23: =($M$15-$M$16)/(35-29)*(D23-35)+$M$15 -> #VALUE! | L23: =($N$15-$N$16)/(35-29)*(D23-35)+$N$15 -> #VALUE! | M23: =IF(F23<=G23,1,IF(F23<=I23,2,IF(F23<=K23,3,IF(F23>K23,4)))) -> #VALUE! | N23: =(1<=F23/G23)+(1>F23/G23)*(F23/G23) -> #VALUE! | O23: =1-$S$12*(1-N23) -> #VALUE! | P23: =($F23<=$G23)*$G23+(($G23<$F23)*($F23<=$I23))*$F23+(($I23<$F23)*($F23<=$K23))*$F23+($F23>$K23)*$K23 -> #VALUE! | Q23: =($F23<=$G23)*$H23+(($G23<$F23)*($F23<=$I23))*IF($G23=$I23,0,(($S$16-$S$14)/($Q$16-$Q$14)*($D23-$Q$16)+$S$16))+(($I23<$F23)*($F23<=$K23))*IF($I23=$K23,0,(($S$15-$S$16)/($Q$15-$Q$16)*($D23-$Q$15)+$S$15))+($F23>$K23)*$L23 -> #VALUE! | R23: =$P23*$N23*$E23 -> #VALUE! | S23: =$Q23*$N23/$O23*$E23 -> #VALUE! | T23: =$P23/$Q23 -> #VALUE! | U23: =R23/S23 -> #VALUE!
C24: =C23+1 -> 4 | D24: =23+C24 -> 27 | E24: 130 | F24: =$H$4*(D24-23)/12 -> #VALUE! | G24: =($G$15-$G$16)/(35-29)*(D24-35)+$G$15 -> #VALUE! | H24: =($H$15-$H$16)/(35-29)*(D24-35)+$H$15 -> #VALUE! | I24: =($J$15-$J$16)/(35-29)*(D24-35)+$J$15 -> #VALUE! | J24: =($K$15-$K$16)/(35-29)*(D24-35)+$K$15 -> #VALUE! | K24: =($M$15-$M$16)/(35-29)*(D24-35)+$M$15 -> #VALUE! | L24: =($N$15-$N$16)/(35-29)*(D24-35)+$N$15 -> #VALUE! | M24: =IF(F24<=G24,1,IF(F24<=I24,2,IF(F24<=K24,3,IF(F24>K24,4)))) -> #VALUE! | N24: =(1<=F24/G24)+(1>F24/G24)*(F24/G24) -> #VALUE! | O24: =1-$S$12*(1-N24) -> #VALUE! | P24: =($F24<=$G24)*$G24+(($G24<$F24)*($F24<=$I24))*$F24+(($I24<$F24)*($F24<=$K24))*$F24+($F24>$K24)*$K24 -> #VALUE! | Q24: =($F24<=$G24)*$H24+(($G24<$F24)*($F24<=$I24))*IF($G24=$I24,0,(($S$16-$S$14)/($Q$16-$Q$14)*($D24-$Q$16)+$S$16))+(($I24<$F24)*($F24<=$K24))*IF($I24=$K24,0,(($S$15-$S$16)/($Q$15-$Q$16)*($D24-$Q$15)+$S$15))+($F24>$K24)*$L24 -> #VALUE! | R24: =$P24*$N24*$E24 -> #VALUE! | S24: =$Q24*$N24/$O24*$E24 -> #VALUE! | T24: =$P24/$Q24 -> #VALUE! | U24: =R24/S24 -> #VALUE!
C25: =C24+1 -> 5 | D25: =23+C25 -> 28 | E25: 112 | F25: =$H$4*(D25-23)/12 -> #VALUE! | G25: =($G$15-$G$16)/(35-29)*(D25-35)+$G$15 -> #VALUE! | H25: =($H$15-$H$16)/(35-29)*(D25-35)+$H$15 -> #VALUE! | I25: =($J$15-$J$16)/(35-29)*(D25-35)+$J$15 -> #VALUE! | J25: =($K$15-$K$16)/(35-29)*(D25-35)+$K$15 -> #VALUE! | K25: =($M$15-$M$16)/(35-29)*(D25-35)+$M$15 -> #VALUE! | L25: =($N$15-$N$16)/(35-29)*(D25-35)+$N$15 -> #VALUE! | M25: =IF(F25<=G25,1,IF(F25<=I25,2,IF(F25<=K25,3,IF(F25>K25,4)))) -> #VALUE! | N25: =(1<=F25/G25)+(1>F25/G25)*(F25/G25) -> #VALUE! | O25: =1-$S$12*(1-N25) -> #VALUE! | P25: =($F25<=$G25)*$G25+(($G25<$F25)*($F25<=$I25))*$F25+(($I25<$F25)*($F25<=$K25))*$F25+($F25>$K25)*$K25 -> #VALUE! | Q25: =($F25<=$G25)*$H25+(($G25<$F25)*($F25<=$I25))*IF($G25=$I25,0,(($S$16-$S$14)/($Q$16-$Q$14)*($D25-$Q$16)+$S$16))+(($I25<$F25)*($F25<=$K25))*IF($I25=$K25,0,(($S$15-$S$16)/($Q$15-$Q$16)*($D25-$Q$15)+$S$15))+($F25>$K25)*$L25 -> #VALUE! | R25: =$P25*$N25*$E25 -> #VALUE! | S25: =$Q25*$N25/$O25*$E25 -> #VALUE! | T25: =$P25/$Q25 -> #VALUE! | U25: =R25/S25 -> #VALUE!
C26: =C25+1 -> 6 | D26: =23+C26 -> 29 | E26: 89 | F26: =$H$4*(D26-23)/12 -> #VALUE! | G26: =($G$15-$G$16)/(35-29)*(D26-35)+$G$15 -> #VALUE! | H26: =($H$15-$H$16)/(35-29)*(D26-35)+$H$15 -> #VALUE! | I26: =($J$15-$J$16)/(35-29)*(D26-35)+$J$15 -> #VALUE! | J26: =($K$15-$K$16)/(35-29)*(D26-35)+$K$15 -> #VALUE! | K26: =($M$15-$M$16)/(35-29)*(D26-35)+$M$15 -> #VALUE! | L26: =($N$15-$N$16)/(35-29)*(D26-35)+$N$15 -> #VALUE! | M26: =IF(F26<=G26,1,IF(F26<=I26,2,IF(F26<=K26,3,IF(F26>K26,4)))) -> #VALUE! | N26: =(1<=F26/G26)+(1>F26/G26)*(F26/G26) -> #VALUE! | O26: =1-$S$12*(1-N26) -> #VALUE! | P26: =($F26<=$G26)*$G26+(($G26<$F26)*($F26<=$I26))*$F26+(($I26<$F26)*($F26<=$K26))*$F26+($F26>$K26)*$K26 -> #VALUE! | Q26: =($F26<=$G26)*$H26+(($G26<$F26)*($F26<=$I26))*IF($G26=$I26,0,(($S$16-$S$14)/($Q$16-$Q$14)*($D26-$Q$16)+$S$16))+(($I26<$F26)*($F26<=$K26))*IF($I26=$K26,0,(($S$15-$S$16)/($Q$15-$Q$16)*($D26-$Q$15)+$S$15))+($F26>$K26)*$L26 -> #VALUE! | R26: =$P26*$N26*$E26 -> #VALUE! | S26: =$Q26*$N26/$O26*$E26 -> #VALUE! | T26: =$P26/$Q26 -> #VALUE! | U26: =R26/S26 -> #VALUE!
C27: =C26+1 -> 7 | D27: =23+C27 -> 30 | E27: 69 | F27: =$H$4*(D27-23)/12 -> #VALUE! | G27: =($G$15-$G$16)/(35-29)*(D27-35)+$G$15 -> #VALUE! | H27: =($H$15-$H$16)/(35-29)*(D27-35)+$H$15 -> #VALUE! | I27: =($J$15-$J$16)/(35-29)*(D27-35)+$J$15 -> #VALUE! | J27: =($K$15-$K$16)/(35-29)*(D27-35)+$K$15 -> #VALUE! | K27: =($M$15-$M$16)/(35-29)*(D27-35)+$M$15 -> #VALUE! | L27: =($N$15-$N$16)/(35-29)*(D27-35)+$N$15 -> #VALUE! | M27: =IF(F27<=G27,1,IF(F27<=I27,2,IF(F27<=K27,3,IF(F27>K27,4)))) -> #VALUE! | N27: =(1<=F27/G27)+(1>F27/G27)*(F27/G27) -> #VALUE! | O27: =1-$S$12*(1-N27) -> #VALUE! | P27: =($F27<=$G27)*$G27+(($G27<$F27)*($F27<=$I27))*$F27+(($I27<$F27)*($F27<=$K27))*$F27+($F27>$K27)*$K27 -> #VALUE! | Q27: =($F27<=$G27)*$H27+(($G27<$F27)*($F27<=$I27))*IF($G27=$I27,0,(($S$16-$S$14)/($Q$16-$Q$14)*($D27-$Q$16)+$S$16))+(($I27<$F27)*($F27<=$K27))*IF($I27=$K27,0,(($S$15-$S$16)/($Q$15-$Q$16)*($D27-$Q$15)+$S$15))+($F27>$K27)*$L27 -> #VALUE! | R27: =$P27*$N27*$E27 -> #VALUE! | S27: =$Q27*$N27/$O27*$E27 -> #VALUE! | T27: =$P27/$Q27 -> #VALUE! | U27: =R27/S27 -> #VALUE!
C28: =C27+1 -> 8 | D28: =23+C28 -> 31 | E28: 47 | F28: =$H$4*(D28-23)/12 -> #VALUE! | G28: =($G$15-$G$16)/(35-29)*(D28-35)+$G$15 -> #VALUE! | H28: =($H$15-$H$16)/(35-29)*(D28-35)+$H$15 -> #VALUE! | I28: =($J$15-$J$16)/(35-29)*(D28-35)+$J$15 -> #VALUE! | J28: =($K$15-$K$16)/(35-29)*(D28-35)+$K$15 -> #VALUE! | K28: =($M$15-$M$16)/(35-29)*(D28-35)+$M$15 -> #VALUE! | L28: =($N$15-$N$16)/(35-29)*(D28-35)+$N$15 -> #VALUE! | M28: =IF(F28<=G28,1,IF(F28<=I28,2,IF(F28<=K28,3,IF(F28>K28,4)))) -> #VALUE! | N28: =(1<=F28/G28)+(1>F28/G28)*(F28/G28) -> #VALUE! | O28: =1-$S$12*(1-N28) -> #VALUE! | P28: =($F28<=$G28)*$G28+(($G28<$F28)*($F28<=$I28))*$F28+(($I28<$F28)*($F28<=$K28))*$F28+($F28>$K28)*$K28 -> #VALUE! | Q28: =($F28<=$G28)*$H28+(($G28<$F28)*($F28<=$I28))*IF($G28=$I28,0,(($S$16-$S$14)/($Q$16-$Q$14)*($D28-$Q$16)+$S$16))+(($I28<$F28)*($F28<=$K28))*IF($I28=$K28,0,(($S$15-$S$16)/($Q$15-$Q$16)*($D28-$Q$15)+$S$15))+($F28>$K28)*$L28 -> #VALUE! | R28: =$P28*$N28*$E28 -> #VALUE! | S28: =$Q28*$N28/$O28*$E28 -> #VALUE! | T28: =$P28/$Q28 -> #VALUE! | U28: =R28/S28 -> #VALUE!
C29: =C28+1 -> 9 | D29: =23+C29 -> 32 | E29: 29 | F29: =$H$4*(D29-23)/12 -> #VALUE! | G29: =($G$15-$G$16)/(35-29)*(D29-35)+$G$15 -> #VALUE! | H29: =($H$15-$H$16)/(35-29)*(D29-35)+$H$15 -> #VALUE! | I29: =($J$15-$J$16)/(35-29)*(D29-35)+$J$15 -> #VALUE! | J29: =($K$15-$K$16)/(35-29)*(D29-35)+$K$15 -> #VALUE! | K29: =($M$15-$M$16)/(35-29)*(D29-35)+$M$15 -> #VALUE! | L29: =($N$15-$N$16)/(35-29)*(D29-35)+$N$15 -> #VALUE! | M29: =IF(F29<=G29,1,IF(F29<=I29,2,IF(F29<=K29,3,IF(F29>K29,4)))) -> #VALUE! | N29: =(1<=F29/G29)+(1>F29/G29)*(F29/G29) -> #VALUE! | O29: =1-$S$12*(1-N29) -> #VALUE! | P29: =($F29<=$G29)*$G29+(($G29<$F29)*($F29<=$I29))*$F29+(($I29<$F29)*($F29<=$K29))*$F29+($F29>$K29)*$K29 -> #VALUE! | Q29: =($F29<=$G29)*$H29+(($G29<$F29)*($F29<=$I29))*IF($G29=$I29,0,(($S$16-$S$14)/($Q$16-$Q$14)*($D29-$Q$16)+$S$16))+(($I29<$F29)*($F29<=$K29))*IF($I29=$K29,0,(($S$15-$S$16)/($Q$15-$Q$16)*($D29-$Q$15)+$S$15))+($F29>$K29)*$L29 -> #VALUE! | R29: =$P29*$N29*$E29 -> #VALUE! | S29: =$Q29*$N29/$O29*$E29 -> #VALUE! | T29: =$P29/$Q29 -> #VALUE! | U29: =R29/S29 -> #VALUE!
C30: =C29+1 -> 10 | D30: =23+C30 -> 33 | E30: 14 | F30: =$H$4*(D30-23)/12 -> #VALUE! | G30: =($G$15-$G$16)/(35-29)*(D30-35)+$G$15 -> #VALUE! | H30: =($H$15-$H$16)/(35-29)*(D30-35)+$H$15 -> #VALUE! | I30: =($J$15-$J$16)/(35-29)*(D30-35)+$J$15 -> #VALUE! | J30: =($K$15-$K$16)/(35-29)*(D30-35)+$K$15 -> #VALUE! | K30: =($M$15-$M$16)/(35-29)*(D30-35)+$M$15 -> #VALUE! | L30: =($N$15-$N$16)/(35-29)*(D30-35)+$N$15 -> #VALUE! | M30: =IF(F30<=G30,1,IF(F30<=I30,2,IF(F30<=K30,3,IF(F30>K30,4)))) -> #VALUE! | N30: =(1<=F30/G30)+(1>F30/G30)*(F30/G30) -> #VALUE! | O30: =1-$S$12*(1-N30) -> #VALUE! | P30: =($F30<=$G30)*$G30+(($G30<$F30)*($F30<=$I30))*$F30+(($I30<$F30)*($F30<=$K30))*$F30+($F30>$K30)*$K30 -> #VALUE! | Q30: =($F30<=$G30)*$H30+(($G30<$F30)*($F30<=$I30))*IF($G30=$I30,0,(($S$16-$S$14)/($Q$16-$Q$14)*($D30-$Q$16)+$S$16))+(($I30<$F30)*($F30<=$K30))*IF($I30=$K30,0,(($S$15-$S$16)/($Q$15-$Q$16)*($D30-$Q$15)+$S$15))+($F30>$K30)*$L30 -> #VALUE! | R30: =$P30*$N30*$E30 -> #VALUE! | S30: =$Q30*$N30/$O30*$E30 -> #VALUE! | T30: =$P30/$Q30 -> #VALUE! | U30: =R30/S30 -> #VALUE!
C31: =C30+1 -> 11 | D31: =23+C31 -> 34 | E31: 6 | F31: =$H$4*(D31-23)/12 -> #VALUE! | G31: =($G$15-$G$16)/(35-29)*(D31-35)+$G$15 -> #VALUE! | H31: =($H$15-$H$16)/(35-29)*(D31-35)+$H$15 -> #VALUE! | I31: =($J$15-$J$16)/(35-29)*(D31-35)+$J$15 -> #VALUE! | J31: =($K$15-$K$16)/(35-29)*(D31-35)+$K$15 -> #VALUE! | K31: =($M$15-$M$16)/(35-29)*(D31-35)+$M$15 -> #VALUE! | L31: =($N$15-$N$16)/(35-29)*(D31-35)+$N$15 -> #VALUE! | M31: =IF(F31<=G31,1,IF(F31<=I31,2,IF(F31<=K31,3,IF(F31>K31,4)))) -> #VALUE! | N31: =(1<=F31/G31)+(1>F31/G31)*(F31/G31) -> #VALUE! | O31: =1-$S$12*(1-N31) -> #VALUE! | P31: =($F31<=$G31)*$G31+(($G31<$F31)*($F31<=$I31))*$F31+(($I31<$F31)*($F31<=$K31))*$F31+($F31>$K31)*$K31 -> #VALUE! | Q31: =($F31<=$G31)*$H31+(($G31<$F31)*($F31<=$I31))*IF($G31=$I31,0,(($S$16-$S$14)/($Q$16-$Q$14)*($D31-$Q$16)+$S$16))+(($I31<$F31)*($F31<=$K31))*IF($I31=$K31,0,(($S$15-$S$16)/($Q$15-$Q$16)*($D31-$Q$15)+$S$15))+($F31>$K31)*$L31 -> #VALUE! | R31: =$P31*$N31*$E31 -> #VALUE! | S31: =$Q31*$N31/$O31*$E31 -> #VALUE! | T31: =$P31/$Q31 -> #VALUE! | U31: =R31/S31 -> #VALUE!
C32: =C31+1 -> 12 | D32: =23+C32 -> 35 | E32: 4 | F32: =$H$4*(D32-23)/12 -> #VALUE! | G32: =($G$15-$G$16)/(35-29)*(D32-35)+$G$15 -> #VALUE! | H32: =($H$15-$H$16)/(35-29)*(D32-35)+$H$15 -> #VALUE! | I32: =($J$15-$J$16)/(35-29)*(D32-35)+$J$15 -> #VALUE! | J32: =($K$15-$K$16)/(35-29)*(D32-35)+$K$15 -> #VALUE! | K32: =($M$15-$M$16)/(35-29)*(D32-35)+$M$15 -> #VALUE! | L32: =($N$15-$N$16)/(35-29)*(D32-35)+$N$15 -> #VALUE! | M32: =IF(F32<=G32,1,IF(F32<=I32,2,IF(F32<=K32,3,IF(F32>K32,4)))) -> #VALUE! | N32: =(1<=F32/G32)+(1>F32/G32)*(F32/G32) -> #VALUE! | O32: =1-$S$12*(1-N32) -> #VALUE! | P32: =($F32<=$G32)*$G32+(($G32<$F32)*($F32<=$I32))*$F32+(($I32<$F32)*($F32<=$K32))*$F32+($F32>$K32)*$K32 -> #VALUE! | Q32: =($F32<=$G32)*$H32+(($G32<$F32)*($F32<=$I32))*IF($G32=$I32,0,(($S$16-$S$14)/($Q$16-$Q$14)*($D32-$Q$16)+$S$16))+(($I32<$F32)*($F32<=$K32))*IF($I32=$K32,0,(($S$15-$S$16)/($Q$15-$Q$16)*($D32-$Q$15)+$S$15))+($F32>$K32)*$L32 -> #VALUE! | R32: =$P32*$N32*$E32 -> #VALUE! | S32: =$Q32*$N32/$O32*$E32 -> #VALUE! | T32: =$P32/$Q32 -> #VALUE! | U32: =R32/S32 -> #VALUE!
C33: =C32+1 -> 13 | D33: =23+C33 -> 36 | E33: 2 | F33: =$H$4*(D33-23)/12 -> #VALUE! | G33: =($G$15-$G$16)/(35-29)*(D33-35)+$G$15 -> #VALUE! | H33: =($H$15-$H$16)/(35-29)*(D33-35)+$H$15 -> #VALUE! | I33: =($J$15-$J$16)/(35-29)*(D33-35)+$J$15 -> #VALUE! | J33: =($K$15-$K$16)/(35-29)*(D33-35)+$K$15 -> #VALUE! | K33: =($M$15-$M$16)/(35-29)*(D33-35)+$M$15 -> #VALUE! | L33: =($N$15-$N$16)/(35-29)*(D33-35)+$N$15 -> #VALUE! | M33: =IF(F33<=G33,1,IF(F33<=I33,2,IF(F33<=K33,3,IF(F33>K33,4)))) -> #VALUE! | N33: =(1<=F33/G33)+(1>F33/G33)*(F33/G33) -> #VALUE! | O33: =1-$S$12*(1-N33) -> #VALUE! | P33: =($F33<=$G33)*$G33+(($G33<$F33)*($F33<=$I33))*$F33+(($I33<$F33)*($F33<=$K33))*$F33+($F33>$K33)*$K33 -> #VALUE! | Q33: =($F33<=$G33)*$H33+(($G33<$F33)*($F33<=$I33))*IF($G33=$I33,0,(($S$16-$S$14)/($Q$16-$Q$14)*($D33-$Q$16)+$S$16))+(($I33<$F33)*($F33<=$K33))*IF($I33=$K33,0,(($S$15-$S$16)/($Q$15-$Q$16)*($D33-$Q$15)+$S$15))+($F33>$K33)*$L33 -> #VALUE! | R33: =$P33*$N33*$E33 -> #VALUE! | S33: =$Q33*$N33/$O33*$E33 -> #VALUE! | T33: =$P33/$Q33 -> #VALUE! | U33: =R33/S33 -> #VALUE!
... C35: =C34+1 -> 15 | D35: =23+C35 -> 38 | E35: 0 | F35: =$H$4*(D35-23)/12 -> #VALUE! | G35: =($G$15-$G$16)/(35-29)*(D35-35)+$G$15 -> #VALUE! | H35: =($H$15-$H$16)/(35-29)*(D35-35)+$H$15 -> #VALUE! | I35: =($J$15-$J$16)/(35-29)*(D35-35)+$J$15 -> #VALUE! | J35: =($K$15-$K$16)/(35-29)*(D35-35)+$K$15 -> #VALUE! | K35: =($M$15-$M$16)/(35-29)*(D35-35)+$M$15 -> #VALUE! | L35: =($N$15-$N$16)/(35-29)*(D35-35)+$N$15 -> #VALUE! | M35: =IF(F35<=G35,1,IF(F35<=I35,2,IF(F35<=K35,3,IF(F35>K35,4)))) -> #VALUE! | N35: =(1<=F35/G35)+(1>F35/G35)*(F35/G35) -> #VALUE! | O35: =1-$S$12*(1-N35) -> #VALUE! | P35: =($F35<=$G35)*$G35+(($G35<$F35)*($F35<=$I35))*$F35+(($I35<$F35)*($F35<=$K35))*$F35+($F35>$K35)*$K35 -> #VALUE! | Q35: =($F35<=$G35)*$H35+(($G35<$F35)*($F35<=$I35))*IF($G35=$I35,0,(($S$16-$S$14)/($Q$16-$Q$14)*($D35-$Q$16)+$S$16))+(($I35<$F35)*($F35<=$K35))*IF($I35=$K35,0,(($S$15-$S$16)/($Q$15-$Q$16)*($D35-$Q$15)+$S$15))+($F35>$K35)*$L35 -> #VALUE! | R35: =$P35*$N35*$E35 -> #VALUE! | S35: =$Q35*$N35/$O35*$E35 -> #VALUE! | T35: =$P35/$Q35 -> #VALUE! | U35: =R35/S35 -> #VALUE!
C36: 계 | E36: =SUM(E21:E35) -> 941 | R36: =SUM(R21:R35) -> #VALUE! | S36: =SUM(S21:S35) -> #VALUE! | U36: =R36/S36 -> #VALUE!
