Workbook

Sheet 효율계산(냉방기)
A1: 전기냉방기 효율등급 계산시트
J2: Ver.6 2026.09.21
A3: 적용고시 | B3: 기후에너지환경부 제2026-137호 효율관리기자재운용규정
A4: 적용기준 | B4: KS C 9306 : 에어컨디셔너
A6: 1. 일반사항 | J6: * 노란셀 입력
A7: 전기냉방기 구분 | C7: 홈 멀티형 | F7: =IF(C7="싱글형(일체형)", "-", IF(C7="싱글형(분리형)", IF(H16<4000, "정격냉방능력 4 kW 미만", IF(H16<10000, "정격냉방능력 4 kW 이상 10 kW 미만", IF(H16<17500, "정격냉방능력 10 kW 이상 17.5 kW 미만", IF(H16<23000, "정격냉방능력 17.5 kW 이상 23 kW 미만", "")))), IF(C7="홈 멀티형", IF(H16<10000, "정격냉방능력 10 kW 미만", IF(H16<20000, "정격냉방능력 10 kW 이상 20 kW 미만", "")), IF(C7="멀티형", IF(H16<10000, "정격냉방능력 10 kW 미만", IF(H16<20000, "정격냉방능력 10 kW 이상 20 kW 미만", "")), "")))) -> 정격냉방능력 10 kW 미만
A8: 판매사 / 제조사 | F8: 안전인증번호 | H8: "직접입력"
A9: 실외유닛 | B9: 모델명
B10: 사용냉매 (냉매량) | C10: R32 (0.55 kg) | F10: 정격전압 | H10: 단상, 220 V, 60 Hz
B11: 실외유닛 정격냉방소비전력1) [W]
A12: 실내유닛 | B12: 모델명(타입) X 대수
B13: 조합 냉방능력 [W] | C13: 3900 | F13: 실외유닛 및 실내유닛 조합상태 | H13: 1:1
B14: 정격풍량1) [m3/min] | C14: 30 | F14: 조합 비율2) [%] | H14: =ROUND(C13/H16*100,1) -> 100
B15: 시험풍량1)[m3/min] | C15: =ROUND(5.31*(H16/1000),2) -> 20.71 | F15: 정격전압 | H15: 단상, 220 V, 60 Hz
A16: 압축기제어방식 | C16: 가변용량 | F16: 정격냉방능력 [W] | H16: 3900
A17: 네트워크 기능 | C17: 네트워크제품 | F17: 정격냉방소비전력3) [W] | H17: 1150
A18: 대기모드4) | C18: =IF(C7="멀티형","해당없음", IF(C17="일반제품","수동대기",IF(C17="네트워크제품","능동대기"))) -> 능동대기
A19: 스마트기능 구현 | C19: 구현 (어플리케이션 : 스마트폰, 표시 : 본체, 스마트폰)
A20: 연결 냉매 배관길이 (주배관) | C20: 5 m
A21: 시험일시
A22: ※ 비고 1) 멀티형 전기냉방기의 경우에만 해당 2) 실외유닛 대비 실내유닛의 조합 냉방능력 비 3) 멀티형의 경우 실외기 유닛 소비전력과 실내기 유닛 소비전력 합산 4) 싱글형 및 홈멀티 전기냉방기의 경우에만 해당
A24: 2. 측정결과 및 시스템 운전
A25: 항목 | E25: 시험결과 | F25: 시스템 운전
F26: 압축기 주파수 [Hz] | G26: 실내팬 [RPM] | H26: 실외팬 [RPM] | I26: EEV 개도 [pulse] | J26: EEV full open [pulse]
A27: 냉방운전 | B27: 냉방표준 | C27: 정격 | D27: 능력 [W]
D28: 소비전력 [W]
D29: 실내기 총 풍량[m3/min]
C30: 중간 | D30: 능력 [W]
D31: 소비전력 [W]
D32: 실내기 총 풍량[m3/min]
B33: 냉방저온 | C33: 최소 | D33: 능력 [W]
D34: 소비전력 [W]
D35: 실내기 총 풍량[m3/min]
A36: 풍량 결과 | B36: 실내기 총 풍량(최대값)[m3/min] | E36: =IF(C7="멀티형", MAX(E29,E32,E35), "해당없음") -> 해당없음 | F36: =IF(E37>E38,"5.31 m3/(min〮kW) 이하 만족",IF(E37<=E38,"정격풍량 105 % 이하 만족","확인 필요")) -> 정격풍량 105 % 이하 만족
B37: 기준값 [m3/min] | C37: 정격 풍량의 105 % | E37: =IF(C7="멀티형", ROUND(C14*1.05, 2), "해당없음") -> 해당없음
C38: 정격냉방능력 기준(5.31 m3/(min〮kW)) | E38: =IF(C7="멀티형", ROUND(5.31*H16/1000,2), "해당없음") -> 해당없음
A39: 대기전력[W] | E39: 1
A41: 3. 시험결과
A42: 시험항목 | C42: 단위 | D42: 정격(표시치) | E42: 시험결과 | G42: 허용오차범위 | I42: 합부 판정 | J42: 소수점
A43: 냉방표준능력 | C43: W | D43: =H16 -> 3900 | E43: =ROUND(E27,0) -> 0 | F43: =E43/D43 -> 0 | G43: 표시값의 92%이상 | I43: =IF(E43>=D43*0.92,"합격","불합격") -> 불합격 | J43: 정수
A44: 냉방표준소비전력 | C44: W | D44: =H17 -> 1150 | E44: =ROUND(E28,0) -> 0 | F44: =E44/D44 -> 0 | G44: 정격소비전력 110% 이하 | I44: =IF(E44<=D44*1.1,"합격","불합격") -> 합격 | J44: 정수
A45: 대기모드(능동/수동) | C45: - | D45: - | E45: =IF(C7="멀티형","해당없음", LEFT(C18,2)) -> 능동 | F45: - | G45: - | I45: - | J45: -
A46: 대기전력1) | C46: W | D46: 1 | E46: =IF(C7="멀티형","해당없음", ROUND(E39,1)) -> 1 | F46: =IF(E46="해당없음", "-", E46/D46) -> 1 | G46: - | I46: - | J46: 첫째
A47: 1시간소비전력량 | C47: W·h | D47: =E47 -> #DIV/0! | E47: =ROUND(E48*1000/941,0) -> #DIV/0! | F47: =E47/D47 -> #DIV/0! | G47: - | I47: - | J47: 정수
A48: 연간소비전력량 | C48: kW·h/년 | D48: =ROUND(D55*2.5,1) -> #DIV/0! | E48: =ROUND('가변용량(일반)'!J9*2.5,1) -> #DIV/0! | F48: =E48/D48 -> #DIV/0! | G48: - | I48: - | J48: 첫째
A49: 냉방기간에너지소비효율 | C49: W/W(CSPF) | D49: 6 | E49: ='가변용량(일반)'!D9 -> #DIV/0! | F49: =E49/D49 -> #DIV/0! | G49: 표시값의 92%이상 | I49: =IF(E49>=D49*0.92,"합격","불합격") -> #DIV/0! | J49: 셋째
A50: 냉방기간 월간소비전력량 | C50: kW·h/월 | E50: ='가변용량(일반)'!F9 -> #DIV/0! | F50: =E50/D50 -> #DIV/0! | G50: 표시값의 110%이하 | I50: =IF(E50<=D50*1.1,"합격","불합격") -> #DIV/0! | J50: 첫째
A51: 1시간사용시CO2배출량 | C51: g/h | E51: =ROUND(E47*0.425,0) -> #DIV/0! | F51: =E51/D51 -> #DIV/0! | G51: - | I51: - | J51: 정수
A52: 월간에너지비용 | C52: 원 | E52: =ROUND(E50*221,-3) -> #DIV/0! | F52: =E52/D52 -> #DIV/0! | G52: 표시값의 110%이하 | I52: =IF(E52<=D52*1.1,"합격","불합격") -> #DIV/0! | J52: 정수
A53: 소비효율등급부여지표(R) | C53: - | D53: =D49 -> 6 | E53: =E49 -> #DIV/0! | F53: =E53/D53 -> #DIV/0! | G53: - | I53: - | J53: -
A54: 소비효율등급 | C54: - | D54: 3 | E54: 3 | F54: - | G54: - | I54: - | J54: -
A55: 냉방기간총소비전력량 | C55: kW·h | D55: =E55 -> #DIV/0! | E55: ='가변용량(일반)'!J9 -> #DIV/0! | F55: =E55/D55 -> #DIV/0! | G55: - | I55: - | J55: 첫째
A56: 최대시험풍량2) | C56: m3/min | D56: =IF(C7="멀티형",IF(E37>E38,E38,IF(E37<=E38,E37,"확인 필요")),"해당없음") -> 해당없음 | E56: =IF(C7="멀티형", ROUND(E36,2), "해당없음") -> 해당없음 | G56: =IF(C7="멀티형", F36, "해당없음") -> 해당없음 | I56: =IF(C7="멀티형", IF(E56<=D56,"합격", IF(E56>D56,"불합격","확인필요")), "해당없음") -> 해당없음 | J56: 둘째
A57: ※ 비고 1) 싱글형 및 홈멀티 전기냉방기의 경우에만 해당 2) 멀티형 전기냉방기의 경우에만 해당
A60: ★ 참고 : 소비효율 등급 표

Sheet 시험사진(냉방기)
A1: 전기냉방기 효율등급 계산시트(제품사진)
J2: Ver.1 2026.07.28
A3: 적용고시 | B3: ='효율계산(냉방기)'!B3 -> 기후에너지환경부 제2026-137호 효율관리기자재운용규정
A4: 적용기준 | B4: KS C 9306 : 에어컨디셔너
A6: 4. 제품사진
A7: 1) 실내기 전,후 사진 (설치사진 포함)
A8: 전면, 후면, 설치사진
A21: 2) 실외기 전,후 사진 (설치사진 포함)
A22: 전면, 후면, 설치사진
A39: 3) 대기전력 측정 사진 | B39: 대기전력[W]
A40: 설치사진, 측정사진
A57: 4) 스마트 구현
A58: 설치사진, 측정사진

Sheet 가변용량(일반)
B1: 전기냉방기 효율등급 계산시트(SPF-가변용량)
C3: 모델명(실외기) | H3: ='효율계산(냉방기)'!C9 -> 0
C4: 정격냉방능력 | H4: ='효율계산(냉방기)'!D43 -> 3900
B6: 가변용량형 (3점식) CSPF
C8: 결과 | D8: CSPF | E8: 냉방기간 소비전력량 (kWh) | F8: 냉방기간 월간소비전력량 (kWh/월) | G8: 1시간당 소비전력량 (W/h) | H8: CO2 배출량 (g/h) | I8: 냉방기간 총 냉방량 합계 (kWh) | J8: 냉방기간 총 냉방소비전력량합계 (kWh) | K8: 냉방월간에너지비용 [\]
D9: =U36 -> #DIV/0! | E9: =ROUND(J9*2.5,1) -> #DIV/0! | F9: =E9/4 -> #DIV/0! | G9: =ROUND(E9*1000/941,0) -> #DIV/0! | H9: =G9*0.425 -> #DIV/0! | I9: =R36/1000 -> #DIV/0! | J9: =ROUND(S36/1000,1) -> #DIV/0! | K9: =ROUND(F9*221,-3) -> #DIV/0!
E12: 시험조건 | G12: 최소운전 | J12: 중간운전 | M12: 정격운전 | P12: 온도저하계수 | S12: 0.25
E13: 실내측 | F13: 실외측 | G13: 능력 | H13: 소비전력 | I13: EER | J13: 능력 | K13: 소비전력 | L13: EER | M13: 능력 | N13: 소비전력 | O13: EER | P13: 결과보간
E14: 건구/습구 | F14: 건구/습구 | G14: W | H14: W | J14: W | K14: W | M14: W | N14: W | P14: 온도(ta) | Q14: =(70*G16-58*G15+23*H4)/(2*G16-2*G15+H4) -> 23 | R14: 전력(ta) | S14: =H15+(H16-H15)*(35-Q14)/6 -> 0 | T14: 능력(ta) | U14: =($G$15-$G$16)/(35-29)*(Q14-35)+$G$15 -> 0
C15: 표준조건 | E15: 27/19 | F15: 35/24 | G15: =ROUND(G16/1.077,0) -> 0 | H15: =ROUND(H16/0.864,0) -> 0 | I15: =G15/H15 -> #DIV/0! | J15: =ROUND('효율계산(냉방기)'!E30,0) -> 0 | K15: =ROUND('효율계산(냉방기)'!E31,0) -> 0 | L15: =J15/K15 -> #DIV/0! | M15: =ROUND('효율계산(냉방기)'!E27,0) -> 0 | N15: =ROUND('효율계산(냉방기)'!E28,0) -> 0 | O15: =M15/N15 -> #DIV/0! | P15: 온도(tb) | Q15: =(70*M16-58*M15+23*H4)/(2*M16-2*M15+H4) -> 23 | R15: 전력(tb) | S15: =N15+(N16-N15)*(35-Q15)/6 -> 0 | T15: 능력(tb) | U15: =($M$15-$M$16)/(35-29)*(Q15-35)+$M$15 -> 0
C16: 저온조건 | F16: 29/19 | G16: =ROUND('효율계산(냉방기)'!E33,0) -> 0 | H16: =ROUND('효율계산(냉방기)'!E34,0) -> 0 | I16: =G16/H16 -> #DIV/0! | J16: =ROUND(1.077*J15,0) -> 0 | K16: =ROUND(0.864*K15,0) -> 0 | L16: =J16/K16 -> #DIV/0! | M16: =ROUND(1.077*M15,0) -> 0 | N16: =ROUND(0.864*N15,0) -> 0 | O16: =M16/N16 -> #DIV/0! | P16: 온도(tc) | Q16: =(70*J16-58*J15+23*H4)/(2*J16-2*J15+H4) -> 23 | R16: 전력(tc) | S16: =K15+(K16-K15)*(35-Q16)/6 -> 0 | T16: 능력(tc) | U16: =($J$15-$J$16)/(35-29)*(Q16-35)+$J$15 -> 0
C18: 온도빈 | G18: 최소운전 | H18: 최소운전 | I18: 중간운전 | J18: 중간운전 | K18: 정격운전 | L18: 정격운전 | M18: 운전 | R18: 냉방기간 | S18: 냉방기간
C19: 온도구분 | D19: 온도 | E19: 시간 | F19: 건물부하 | G19: 냉방능력 | H19: 소비전력 | I19: 냉방능력 | J19: 소비전력 | K19: 냉방능력 | L19: 소비전력 | M19: 조건 | N19: 가동율 | O19: 운전비율 | P19: 냉방능력 | Q19: 소비전력 | R19: 냉방량 | S19: 냉방소비전력량 | T19: EER | U19: CSPF
C20: J | D20: ℃ | E20: h | F20: W | G20: W | H20: W | I20: W | J20: W | K20: W | L20: W | M20: (1,2,3,4) | N20: X | O20: PLF | P20: W | Q20: W | R20: Wh | S20: Wh
C21: 1 | D21: =23+C21 -> 24 | E21: 152 | F21: =$H$4*(D21-23)/12 -> 325 | G21: =($G$15-$G$16)/(35-29)*(D21-35)+$G$15 -> 0 | H21: =($H$15-$H$16)/(35-29)*(D21-35)+$H$15 -> 0 | I21: =($J$15-$J$16)/(35-29)*(D21-35)+$J$15 -> 0 | J21: =($K$15-$K$16)/(35-29)*(D21-35)+$K$15 -> 0 | K21: =($M$15-$M$16)/(35-29)*(D21-35)+$M$15 -> 0 | L21: =($N$15-$N$16)/(35-29)*(D21-35)+$N$15 -> 0 | M21: =IF(F21<=G21,1,IF(F21<=I21,2,IF(F21<=K21,3,IF(F21>K21,4)))) -> 4 | N21: =(1<=F21/G21)+(1>F21/G21)*(F21/G21) -> #DIV/0! | O21: =1-$S$12*(1-N21) -> #DIV/0! | P21: =($F21<=$G21)*$G21+(($G21<$F21)*($F21<=$I21))*$F21+(($I21<$F21)*($F21<=$K21))*$F21+($F21>$K21)*$K21 -> 0 | Q21: =($F21<=$G21)*$H21+(($G21<$F21)*($F21<=$I21))*IF($G21=$I21,0,(($S$16-$S$14)/($Q$16-$Q$14)*($D21-$Q$16)+$S$16))+(($I21<$F21)*($F21<=$K21))*IF($I21=$K21,0,(($S$15-$S$16)/($Q$15-$Q$16)*($D21-$Q$15)+$S$15))+($F21>$K21)*$L21 -> 0 | R21: =$P21*$N21*$E21 -> #DIV/0! | S21: =$Q21*$N21/$O21*$E21 -> #DIV/0! | T21: =$P21/$Q21 -> #DIV/0! | U21: =R21/S21 -> #DIV/0!
C22: =C21+1 -> 2 | D22: =23+C22 -> 25 | E22: 146 | F22: =$H$4*(D22-23)/12 -> 650 | G22: =($G$15-$G$16)/(35-29)*(D22-35)+$G$15 -> 0 | H22: =($H$15-$H$16)/(35-29)*(D22-35)+$H$15 -> 0 | I22: =($J$15-$J$16)/(35-29)*(D22-35)+$J$15 -> 0 | J22: =($K$15-$K$16)/(35-29)*(D22-35)+$K$15 -> 0 | K22: =($M$15-$M$16)/(35-29)*(D22-35)+$M$15 -> 0 | L22: =($N$15-$N$16)/(35-29)*(D22-35)+$N$15 -> 0 | M22: =IF(F22<=G22,1,IF(F22<=I22,2,IF(F22<=K22,3,IF(F22>K22,4)))) -> 4 | N22: =(1<=F22/G22)+(1>F22/G22)*(F22/G22) -> #DIV/0! | O22: =1-$S$12*(1-N22) -> #DIV/0! | P22: =($F22<=$G22)*$G22+(($G22<$F22)*($F22<=$I22))*$F22+(($I22<$F22)*($F22<=$K22))*$F22+($F22>$K22)*$K22 -> 0 | Q22: =($F22<=$G22)*$H22+(($G22<$F22)*($F22<=$I22))*IF($G22=$I22,0,(($S$16-$S$14)/($Q$16-$Q$14)*($D22-$Q$16)+$S$16))+(($I22<$F22)*($F22<=$K22))*IF($I22=$K22,0,(($S$15-$S$16)/($Q$15-$Q$16)*($D22-$Q$15)+$S$15))+($F22>$K22)*$L22 -> 0 | R22: =$P22*$N22*$E22 -> #DIV/0! | S22: =$Q22*$N22/$O22*$E22 -> #DIV/0! | T22: =$P22/$Q22 -> #DIV/0! | U22: =R22/S22 -> #DIV/0!
C23: =C22+1 -> 3 | D23: =23+C23 -> 26 | E23: 140 | F23: =$H$4*(D23-23)/12 -> 975 | G23: =($G$15-$G$16)/(35-29)*(D23-35)+$G$15 -> 0 | H23: =($H$15-$H$16)/(35-29)*(D23-35)+$H$15 -> 0 | I23: =($J$15-$J$16)/(35-29)*(D23-35)+$J$15 -> 0 | J23: =($K$15-$K$16)/(35-29)*(D23-35)+$K$15 -> 0 | K23: =($M$15-$M$16)/(35-29)*(D23-35)+$M$15 -> 0 | L23: =($N$15-$N$16)/(35-29)*(D23-35)+$N$15 -> 0 | M23: =IF(F23<=G23,1,IF(F23<=I23,2,IF(F23<=K23,3,IF(F23>K23,4)))) -> 4 | N23: =(1<=F23/G23)+(1>F23/G23)*(F23/G23) -> #DIV/0! | O23: =1-$S$12*(1-N23) -> #DIV/0! | P23: =($F23<=$G23)*$G23+(($G23<$F23)*($F23<=$I23))*$F23+(($I23<$F23)*($F23<=$K23))*$F23+($F23>$K23)*$K23 -> 0 | Q23: =($F23<=$G23)*$H23+(($G23<$F23)*($F23<=$I23))*IF($G23=$I23,0,(($S$16-$S$14)/($Q$16-$Q$14)*($D23-$Q$16)+$S$16))+(($I23<$F23)*($F23<=$K23))*IF($I23=$K23,0,(($S$15-$S$16)/($Q$15-$Q$16)*($D23-$Q$15)+$S$15))+($F23>$K23)*$L23 -> 0 | R23: =$P23*$N23*$E23 -> #DIV/0! | S23: =$Q23*$N23/$O23*$E23 -> #DIV/0! | T23: =$P23/$Q23 -> #DIV/0! | U23: =R23/S23 -> #DIV/0!
C24: =C23+1 -> 4 | D24: =23+C24 -> 27 | E24: 130 | F24: =$H$4*(D24-23)/12 -> 1300 | G24: =($G$15-$G$16)/(35-29)*(D24-35)+$G$15 -> 0 | H24: =($H$15-$H$16)/(35-29)*(D24-35)+$H$15 -> 0 | I24: =($J$15-$J$16)/(35-29)*(D24-35)+$J$15 -> 0 | J24: =($K$15-$K$16)/(35-29)*(D24-35)+$K$15 -> 0 | K24: =($M$15-$M$16)/(35-29)*(D24-35)+$M$15 -> 0 | L24: =($N$15-$N$16)/(35-29)*(D24-35)+$N$15 -> 0 | M24: =IF(F24<=G24,1,IF(F24<=I24,2,IF(F24<=K24,3,IF(F24>K24,4)))) -> 4 | N24: =(1<=F24/G24)+(1>F24/G24)*(F24/G24) -> #DIV/0! | O24: =1-$S$12*(1-N24) -> #DIV/0! | P24: =($F24<=$G24)*$G24+(($G24<$F24)*($F24<=$I24))*$F24+(($I24<$F24)*($F24<=$K24))*$F24+($F24>$K24)*$K24 -> 0 | Q24: =($F24<=$G24)*$H24+(($G24<$F24)*($F24<=$I24))*IF($G24=$I24,0,(($S$16-$S$14)/($Q$16-$Q$14)*($D24-$Q$16)+$S$16))+(($I24<$F24)*($F24<=$K24))*IF($I24=$K24,0,(($S$15-$S$16)/($Q$15-$Q$16)*($D24-$Q$15)+$S$15))+($F24>$K24)*$L24 -> 0 | R24: =$P24*$N24*$E24 -> #DIV/0! | S24: =$Q24*$N24/$O24*$E24 -> #DIV/0! | T24: =$P24/$Q24 -> #DIV/0! | U24: =R24/S24 -> #DIV/0!
C25: =C24+1 -> 5 | D25: =23+C25 -> 28 | E25: 112 | F25: =$H$4*(D25-23)/12 -> 1625 | G25: =($G$15-$G$16)/(35-29)*(D25-35)+$G$15 -> 0 | H25: =($H$15-$H$16)/(35-29)*(D25-35)+$H$15 -> 0 | I25: =($J$15-$J$16)/(35-29)*(D25-35)+$J$15 -> 0 | J25: =($K$15-$K$16)/(35-29)*(D25-35)+$K$15 -> 0 | K25: =($M$15-$M$16)/(35-29)*(D25-35)+$M$15 -> 0 | L25: =($N$15-$N$16)/(35-29)*(D25-35)+$N$15 -> 0 | M25: =IF(F25<=G25,1,IF(F25<=I25,2,IF(F25<=K25,3,IF(F25>K25,4)))) -> 4 | N25: =(1<=F25/G25)+(1>F25/G25)*(F25/G25) -> #DIV/0! | O25: =1-$S$12*(1-N25) -> #DIV/0! | P25: =($F25<=$G25)*$G25+(($G25<$F25)*($F25<=$I25))*$F25+(($I25<$F25)*($F25<=$K25))*$F25+($F25>$K25)*$K25 -> 0 | Q25: =($F25<=$G25)*$H25+(($G25<$F25)*($F25<=$I25))*IF($G25=$I25,0,(($S$16-$S$14)/($Q$16-$Q$14)*($D25-$Q$16)+$S$16))+(($I25<$F25)*($F25<=$K25))*IF($I25=$K25,0,(($S$15-$S$16)/($Q$15-$Q$16)*($D25-$Q$15)+$S$15))+($F25>$K25)*$L25 -> 0 | R25: =$P25*$N25*$E25 -> #DIV/0! | S25: =$Q25*$N25/$O25*$E25 -> #DIV/0! | T25: =$P25/$Q25 -> #DIV/0! | U25: =R25/S25 -> #DIV/0!
C26: =C25+1 -> 6 | D26: =23+C26 -> 29 | E26: 89 | F26: =$H$4*(D26-23)/12 -> 1950 | G26: =($G$15-$G$16)/(35-29)*(D26-35)+$G$15 -> 0 | H26: =($H$15-$H$16)/(35-29)*(D26-35)+$H$15 -> 0 | I26: =($J$15-$J$16)/(35-29)*(D26-35)+$J$15 -> 0 | J26: =($K$15-$K$16)/(35-29)*(D26-35)+$K$15 -> 0 | K26: =($M$15-$M$16)/(35-29)*(D26-35)+$M$15 -> 0 | L26: =($N$15-$N$16)/(35-29)*(D26-35)+$N$15 -> 0 | M26: =IF(F26<=G26,1,IF(F26<=I26,2,IF(F26<=K26,3,IF(F26>K26,4)))) -> 4 | N26: =(1<=F26/G26)+(1>F26/G26)*(F26/G26) -> #DIV/0! | O26: =1-$S$12*(1-N26) -> #DIV/0! | P26: =($F26<=$G26)*$G26+(($G26<$F26)*($F26<=$I26))*$F26+(($I26<$F26)*($F26<=$K26))*$F26+($F26>$K26)*$K26 -> 0 | Q26: =($F26<=$G26)*$H26+(($G26<$F26)*($F26<=$I26))*IF($G26=$I26,0,(($S$16-$S$14)/($Q$16-$Q$14)*($D26-$Q$16)+$S$16))+(($I26<$F26)*($F26<=$K26))*IF($I26=$K26,0,(($S$15-$S$16)/($Q$15-$Q$16)*($D26-$Q$15)+$S$15))+($F26>$K26)*$L26 -> 0 | R26: =$P26*$N26*$E26 -> #DIV/0! | S26: =$Q26*$N26/$O26*$E26 -> #DIV/0! | T26: =$P26/$Q26 -> #DIV/0! | U26: =R26/S26 -> #DIV/0!
C27: =C26+1 -> 7 | D27: =23+C27 -> 30 | E27: 69 | F27: =$H$4*(D27-23)/12 -> 2275 | G27: =($G$15-$G$16)/(35-29)*(D27-35)+$G$15 -> 0 | H27: =($H$15-$H$16)/(35-29)*(D27-35)+$H$15 -> 0 | I27: =($J$15-$J$16)/(35-29)*(D27-35)+$J$15 -> 0 | J27: =($K$15-$K$16)/(35-29)*(D27-35)+$K$15 -> 0 | K27: =($M$15-$M$16)/(35-29)*(D27-35)+$M$15 -> 0 | L27: =($N$15-$N$16)/(35-29)*(D27-35)+$N$15 -> 0 | M27: =IF(F27<=G27,1,IF(F27<=I27,2,IF(F27<=K27,3,IF(F27>K27,4)))) -> 4 | N27: =(1<=F27/G27)+(1>F27/G27)*(F27/G27) -> #DIV/0! | O27: =1-$S$12*(1-N27) -> #DIV/0! | P27: =($F27<=$G27)*$G27+(($G27<$F27)*($F27<=$I27))*$F27+(($I27<$F27)*($F27<=$K27))*$F27+($F27>$K27)*$K27 -> 0 | Q27: =($F27<=$G27)*$H27+(($G27<$F27)*($F27<=$I27))*IF($G27=$I27,0,(($S$16-$S$14)/($Q$16-$Q$14)*($D27-$Q$16)+$S$16))+(($I27<$F27)*($F27<=$K27))*IF($I27=$K27,0,(($S$15-$S$16)/($Q$15-$Q$16)*($D27-$Q$15)+$S$15))+($F27>$K27)*$L27 -> 0 | R27: =$P27*$N27*$E27 -> #DIV/0! | S27: =$Q27*$N27/$O27*$E27 -> #DIV/0! | T27: =$P27/$Q27 -> #DIV/0! | U27: =R27/S27 -> #DIV/0!
C28: =C27+1 -> 8 | D28: =23+C28 -> 31 | E28: 47 | F28: =$H$4*(D28-23)/12 -> 2600 | G28: =($G$15-$G$16)/(35-29)*(D28-35)+$G$15 -> 0 | H28: =($H$15-$H$16)/(35-29)*(D28-35)+$H$15 -> 0 | I28: =($J$15-$J$16)/(35-29)*(D28-35)+$J$15 -> 0 | J28: =($K$15-$K$16)/(35-29)*(D28-35)+$K$15 -> 0 | K28: =($M$15-$M$16)/(35-29)*(D28-35)+$M$15 -> 0 | L28: =($N$15-$N$16)/(35-29)*(D28-35)+$N$15 -> 0 | M28: =IF(F28<=G28,1,IF(F28<=I28,2,IF(F28<=K28,3,IF(F28>K28,4)))) -> 4 | N28: =(1<=F28/G28)+(1>F28/G28)*(F28/G28) -> #DIV/0! | O28: =1-$S$12*(1-N28) -> #DIV/0! | P28: =($F28<=$G28)*$G28+(($G28<$F28)*($F28<=$I28))*$F28+(($I28<$F28)*($F28<=$K28))*$F28+($F28>$K28)*$K28 -> 0 | Q28: =($F28<=$G28)*$H28+(($G28<$F28)*($F28<=$I28))*IF($G28=$I28,0,(($S$16-$S$14)/($Q$16-$Q$14)*($D28-$Q$16)+$S$16))+(($I28<$F28)*($F28<=$K28))*IF($I28=$K28,0,(($S$15-$S$16)/($Q$15-$Q$16)*($D28-$Q$15)+$S$15))+($F28>$K28)*$L28 -> 0 | R28: =$P28*$N28*$E28 -> #DIV/0! | S28: =$Q28*$N28/$O28*$E28 -> #DIV/0! | T28: =$P28/$Q28 -> #DIV/0! | U28: =R28/S28 -> #DIV/0!
C29: =C28+1 -> 9 | D29: =23+C29 -> 32 | E29: 29 | F29: =$H$4*(D29-23)/12 -> 2925 | G29: =($G$15-$G$16)/(35-29)*(D29-35)+$G$15 -> 0 | H29: =($H$15-$H$16)/(35-29)*(D29-35)+$H$15 -> 0 | I29: =($J$15-$J$16)/(35-29)*(D29-35)+$J$15 -> 0 | J29: =($K$15-$K$16)/(35-29)*(D29-35)+$K$15 -> 0 | K29: =($M$15-$M$16)/(35-29)*(D29-35)+$M$15 -> 0 | L29: =($N$15-$N$16)/(35-29)*(D29-35)+$N$15 -> 0 | M29: =IF(F29<=G29,1,IF(F29<=I29,2,IF(F29<=K29,3,IF(F29>K29,4)))) -> 4 | N29: =(1<=F29/G29)+(1>F29/G29)*(F29/G29) -> #DIV/0! | O29: =1-$S$12*(1-N29) -> #DIV/0! | P29: =($F29<=$G29)*$G29+(($G29<$F29)*($F29<=$I29))*$F29+(($I29<$F29)*($F29<=$K29))*$F29+($F29>$K29)*$K29 -> 0 | Q29: =($F29<=$G29)*$H29+(($G29<$F29)*($F29<=$I29))*IF($G29=$I29,0,(($S$16-$S$14)/($Q$16-$Q$14)*($D29-$Q$16)+$S$16))+(($I29<$F29)*($F29<=$K29))*IF($I29=$K29,0,(($S$15-$S$16)/($Q$15-$Q$16)*($D29-$Q$15)+$S$15))+($F29>$K29)*$L29 -> 0 | R29: =$P29*$N29*$E29 -> #DIV/0! | S29: =$Q29*$N29/$O29*$E29 -> #DIV/0! | T29: =$P29/$Q29 -> #DIV/0! | U29: =R29/S29 -> #DIV/0!
C30: =C29+1 -> 10 | D30: =23+C30 -> 33 | E30: 14 | F30: =$H$4*(D30-23)/12 -> 3250 | G30: =($G$15-$G$16)/(35-29)*(D30-35)+$G$15 -> 0 | H30: =($H$15-$H$16)/(35-29)*(D30-35)+$H$15 -> 0 | I30: =($J$15-$J$16)/(35-29)*(D30-35)+$J$15 -> 0 | J30: =($K$15-$K$16)/(35-29)*(D30-35)+$K$15 -> 0 | K30: =($M$15-$M$16)/(35-29)*(D30-35)+$M$15 -> 0 | L30: =($N$15-$N$16)/(35-29)*(D30-35)+$N$15 -> 0 | M30: =IF(F30<=G30,1,IF(F30<=I30,2,IF(F30<=K30,3,IF(F30>K30,4)))) -> 4 | N30: =(1<=F30/G30)+(1>F30/G30)*(F30/G30) -> #DIV/0! | O30: =1-$S$12*(1-N30) -> #DIV/0! | P30: =($F30<=$G30)*$G30+(($G30<$F30)*($F30<=$I30))*$F30+(($I30<$F30)*($F30<=$K30))*$F30+($F30>$K30)*$K30 -> 0 | Q30: =($F30<=$G30)*$H30+(($G30<$F30)*($F30<=$I30))*IF($G30=$I30,0,(($S$16-$S$14)/($Q$16-$Q$14)*($D30-$Q$16)+$S$16))+(($I30<$F30)*($F30<=$K30))*IF($I30=$K30,0,(($S$15-$S$16)/($Q$15-$Q$16)*($D30-$Q$15)+$S$15))+($F30>$K30)*$L30 -> 0 | R30: =$P30*$N30*$E30 -> #DIV/0! | S30: =$Q30*$N30/$O30*$E30 -> #DIV/0! | T30: =$P30/$Q30 -> #DIV/0! | U30: =R30/S30 -> #DIV/0!
C31: =C30+1 -> 11 | D31: =23+C31 -> 34 | E31: 6 | F31: =$H$4*(D31-23)/12 -> 3575 | G31: =($G$15-$G$16)/(35-29)*(D31-35)+$G$15 -> 0 | H31: =($H$15-$H$16)/(35-29)*(D31-35)+$H$15 -> 0 | I31: =($J$15-$J$16)/(35-29)*(D31-35)+$J$15 -> 0 | J31: =($K$15-$K$16)/(35-29)*(D31-35)+$K$15 -> 0 | K31: =($M$15-$M$16)/(35-29)*(D31-35)+$M$15 -> 0 | L31: =($N$15-$N$16)/(35-29)*(D31-35)+$N$15 -> 0 | M31: =IF(F31<=G31,1,IF(F31<=I31,2,IF(F31<=K31,3,IF(F31>K31,4)))) -> 4 | N31: =(1<=F31/G31)+(1>F31/G31)*(F31/G31) -> #DIV/0! | O31: =1-$S$12*(1-N31) -> #DIV/0! | P31: =($F31<=$G31)*$G31+(($G31<$F31)*($F31<=$I31))*$F31+(($I31<$F31)*($F31<=$K31))*$F31+($F31>$K31)*$K31 -> 0 | Q31: =($F31<=$G31)*$H31+(($G31<$F31)*($F31<=$I31))*IF($G31=$I31,0,(($S$16-$S$14)/($Q$16-$Q$14)*($D31-$Q$16)+$S$16))+(($I31<$F31)*($F31<=$K31))*IF($I31=$K31,0,(($S$15-$S$16)/($Q$15-$Q$16)*($D31-$Q$15)+$S$15))+($F31>$K31)*$L31 -> 0 | R31: =$P31*$N31*$E31 -> #DIV/0! | S31: =$Q31*$N31/$O31*$E31 -> #DIV/0! | T31: =$P31/$Q31 -> #DIV/0! | U31: =R31/S31 -> #DIV/0!
C32: =C31+1 -> 12 | D32: =23+C32 -> 35 | E32: 4 | F32: =$H$4*(D32-23)/12 -> 3900 | G32: =($G$15-$G$16)/(35-29)*(D32-35)+$G$15 -> 0 | H32: =($H$15-$H$16)/(35-29)*(D32-35)+$H$15 -> 0 | I32: =($J$15-$J$16)/(35-29)*(D32-35)+$J$15 -> 0 | J32: =($K$15-$K$16)/(35-29)*(D32-35)+$K$15 -> 0 | K32: =($M$15-$M$16)/(35-29)*(D32-35)+$M$15 -> 0 | L32: =($N$15-$N$16)/(35-29)*(D32-35)+$N$15 -> 0 | M32: =IF(F32<=G32,1,IF(F32<=I32,2,IF(F32<=K32,3,IF(F32>K32,4)))) -> 4 | N32: =(1<=F32/G32)+(1>F32/G32)*(F32/G32) -> #DIV/0! | O32: =1-$S$12*(1-N32) -> #DIV/0! | P32: =($F32<=$G32)*$G32+(($G32<$F32)*($F32<=$I32))*$F32+(($I32<$F32)*($F32<=$K32))*$F32+($F32>$K32)*$K32 -> 0 | Q32: =($F32<=$G32)*$H32+(($G32<$F32)*($F32<=$I32))*IF($G32=$I32,0,(($S$16-$S$14)/($Q$16-$Q$14)*($D32-$Q$16)+$S$16))+(($I32<$F32)*($F32<=$K32))*IF($I32=$K32,0,(($S$15-$S$16)/($Q$15-$Q$16)*($D32-$Q$15)+$S$15))+($F32>$K32)*$L32 -> 0 | R32: =$P32*$N32*$E32 -> #DIV/0! | S32: =$Q32*$N32/$O32*$E32 -> #DIV/0! | T32: =$P32/$Q32 -> #DIV/0! | U32: =R32/S32 -> #DIV/0!
C33: =C32+1 -> 13 | D33: =23+C33 -> 36 | E33: 2 | F33: =$H$4*(D33-23)/12 -> 4225 | G33: =($G$15-$G$16)/(35-29)*(D33-35)+$G$15 -> 0 | H33: =($H$15-$H$16)/(35-29)*(D33-35)+$H$15 -> 0 | I33: =($J$15-$J$16)/(35-29)*(D33-35)+$J$15 -> 0 | J33: =($K$15-$K$16)/(35-29)*(D33-35)+$K$15 -> 0 | K33: =($M$15-$M$16)/(35-29)*(D33-35)+$M$15 -> 0 | L33: =($N$15-$N$16)/(35-29)*(D33-35)+$N$15 -> 0 | M33: =IF(F33<=G33,1,IF(F33<=I33,2,IF(F33<=K33,3,IF(F33>K33,4)))) -> 4 | N33: =(1<=F33/G33)+(1>F33/G33)*(F33/G33) -> #DIV/0! | O33: =1-$S$12*(1-N33) -> #DIV/0! | P33: =($F33<=$G33)*$G33+(($G33<$F33)*($F33<=$I33))*$F33+(($I33<$F33)*($F33<=$K33))*$F33+($F33>$K33)*$K33 -> 0 | Q33: =($F33<=$G33)*$H33+(($G33<$F33)*($F33<=$I33))*IF($G33=$I33,0,(($S$16-$S$14)/($Q$16-$Q$14)*($D33-$Q$16)+$S$16))+(($I33<$F33)*($F33<=$K33))*IF($I33=$K33,0,(($S$15-$S$16)/($Q$15-$Q$16)*($D33-$Q$15)+$S$15))+($F33>$K33)*$L33 -> 0 | R33: =$P33*$N33*$E33 -> #DIV/0! | S33: =$Q33*$N33/$O33*$E33 -> #DIV/0! | T33: =$P33/$Q33 -> #DIV/0! | U33: =R33/S33 -> #DIV/0!
... C35: =C34+1 -> 15 | D35: =23+C35 -> 38 | E35: 0 | F35: =$H$4*(D35-23)/12 -> 4875 | G35: =($G$15-$G$16)/(35-29)*(D35-35)+$G$15 -> 0 | H35: =($H$15-$H$16)/(35-29)*(D35-35)+$H$15 -> 0 | I35: =($J$15-$J$16)/(35-29)*(D35-35)+$J$15 -> 0 | J35: =($K$15-$K$16)/(35-29)*(D35-35)+$K$15 -> 0 | K35: =($M$15-$M$16)/(35-29)*(D35-35)+$M$15 -> 0 | L35: =($N$15-$N$16)/(35-29)*(D35-35)+$N$15 -> 0 | M35: =IF(F35<=G35,1,IF(F35<=I35,2,IF(F35<=K35,3,IF(F35>K35,4)))) -> 4 | N35: =(1<=F35/G35)+(1>F35/G35)*(F35/G35) -> #DIV/0! | O35: =1-$S$12*(1-N35) -> #DIV/0! | P35: =($F35<=$G35)*$G35+(($G35<$F35)*($F35<=$I35))*$F35+(($I35<$F35)*($F35<=$K35))*$F35+($F35>$K35)*$K35 -> 0 | Q35: =($F35<=$G35)*$H35+(($G35<$F35)*($F35<=$I35))*IF($G35=$I35,0,(($S$16-$S$14)/($Q$16-$Q$14)*($D35-$Q$16)+$S$16))+(($I35<$F35)*($F35<=$K35))*IF($I35=$K35,0,(($S$15-$S$16)/($Q$15-$Q$16)*($D35-$Q$15)+$S$15))+($F35>$K35)*$L35 -> 0 | R35: =$P35*$N35*$E35 -> #DIV/0! | S35: =$Q35*$N35/$O35*$E35 -> #DIV/0! | T35: =$P35/$Q35 -> #DIV/0! | U35: =R35/S35 -> #DIV/0!
C36: 계 | E36: =SUM(E21:E35) -> 941 | R36: =SUM(R21:R35) -> #DIV/0! | S36: =SUM(S21:S35) -> #DIV/0! | U36: =R36/S36 -> #DIV/0!
