Workbook

Sheet 효율계산(냉난방기)
A1: 전기냉난방기 효율등급 계산시트
J2: Ver.5 2026.09.21
A3: 적용고시 | B3: 기후에너지환경부 제2026-137호 효율관리기자재운용규정
A4: 적용기준 | B4: KS C 9306 : 에어컨디셔너
A6: 1. 일반사항 | J6: * 노란셀 입력
A7: 전기냉난방기 구분 | C7: 싱글형 | F7: =IF(C7="싱글형", IF(C17<4000,"정격냉방능력 4 kW 미만", IF(C17<10000,"정격냉방능력 4 kW 이상 10 kW 미만", IF(C17<23000,"정격냉방능력 10 kW 이상 23 kW 미만",""))), IF(C7="멀티형", IF(C17<38000, IF(C17>=20000,"정격냉방능력 20 kW 이상 38 kW 미만",""), IF(C17<50000,"정격냉방능력 38 kW 이상 50 kW 미만", IF(C17<70000,"정격냉방능력 50 kW 이상 70 kW 미만",""))), ""))
A8: 판매사 / 제조사 | F8: 안전인증번호 | H8: "직접입력"
A9: 실외유닛 | B9: 모델명
B10: 사용냉매 (냉매량) | C10: R-410A (8.4 kg) | F10: 정격전압 | H10: 3상, 4선, 380 V, 60 Hz
B11: 실외유닛 정격냉방소비전력1) [W] | F11: 실외유닛 정격난방소비전력1) [W]
A12: 실내유닛 | B12: 모델명(타입) X 대수
B13: 조합 냉방능력 [W] | C13: 38000 | F13: 실외유닛 및 실내유닛 조합상태 | H13: 1:8
B14: 정격풍량1) [m3/min] | C14: 196 | F14: 조합 비율2) [%] | H14: =ROUND(C13/C17*100,1) -> 109.2
B15: 시험풍량1)[m3/min] | C15: =IF(C7="멀티형","해당없음", IF(C7="싱글형",ROUND(5.31*(C17/1000),2),"확인필요")) -> 184.79 | F15: 정격전압 | H15: 단상, 220 V, 60 Hz
A16: 압축기제어방식 | C16: 가변용량 | F16: 보조히터 용량 [W] | H16: 0
A17: 정격냉방능력 [W] | C17: 34800 | F17: 정격냉방소비전력3) [W] | H17: 10900
A18: 정격난방능력 [W] | C18: 39200 | F18: 정격난방소비전력3) [W] | H18: 10450
A19: 정격한랭지난방능력1) [W] | C19: 32500 | F19: 정격한랭지난방소비전력1)3) [W] | H19: 16500
A20: 네트워크 기능 | C20: 네트워크제품 | F20: 대기모드4) | H20: =IF(C7="멀티형", "해당없음", IF(C20="일반제품","수동대기",IF(C20="네트워크제품","능동대기"))) -> 능동대기
A21: 스마트기능 구현 | C21: 구현 (어플리케이션 : 스마트폰, 표시 : 본체, 스마트폰)
A22: 연결 냉매 배관길이 (주배관) | C22: 50 m (주배관 : 35 m)
A23: 시험일시
A24: ※ 비고 1) 멀티형 전기냉난방기의 경우에만 해당 2) 실외유닛 대비 실내유닛의 조합 냉방능력 비 3) 멀티형의 경우 실외기 유닛 소비전력과 실내기 유닛 소비전력 합산 4) 싱글형 전기냉난방기의 경우에만 해당
A26: 2. 측정결과 및 시스템 운전
A27: 항목 | E27: 시험결과 | F27: 시스템 운전
F28: 압축기 주파수 [Hz] | G28: 실내팬 [RPM] | H28: 실외팬 [RPM] | I28: EEV 개도 [pulse] | J28: EEV full open [pulse]
A29: 냉방운전 | B29: 냉방표준 | C29: 정격 | D29: 능력 [W]
D30: 소비전력 [W]
D31: 실내기 총 풍량[m3/min]
C32: 중간 | D32: 능력 [W]
D33: 소비전력 [W]
D34: 실내기 총 풍량[m3/min]
B35: 냉방저온 | C35: 최소 | D35: 능력 [W]
D36: 소비전력 [W]
D37: 실내기 총 풍량[m3/min]
A38: 난방운전 | B38: 난방표준 | C38: 정격 | D38: 능력 [W]
D39: 소비전력 [W]
D40: 실내기 총 풍량[m3/min]
C41: 중간 | D41: 능력 [W]
D42: 소비전력 [W]
...

Sheet 시험사진(냉난방기)
A1: 전기냉난방기 효율등급 계산시트(제품사진)
J2: Ver.1 2026.06.25
A3: 적용고시 | B3: ='효율계산(냉난방기)'!B3 -> 기후에너지환경부 제2026-137호 효율관리기자재운용규정
A4: 적용기준 | B4: KS C 9306 : 에어컨디셔너
A6: 4. 제품사진
A7: 1) 실내기 전,후 사진 (설치사진 포함)
A8: 전면, 후면, 설치사진
A21: 2) 실외기 전,후 사진 (설치사진 포함)
A22: 전면, 후면, 설치사진
A39: 3) 대기전력 측정 사진 | B39: 대기전력[W]
A40: 설치사진, 측정사진
A57: 4) 스마트 구현
A58: 설치사진, 측정사진

Sheet 가변용량(일반)
B1: 전기냉난방기 효율등급 계산시트(SPF-가변용량)
C3: 모델명(실외기) | H3: ='효율계산(냉난방기)'!C9 -> 0
C4: 정격냉방능력 | H4: ='효율계산(냉난방기)'!D63 -> 34800
B6: 가변용량형 (3점식) CSPF
C8: 결과 | D8: CSPF | E8: 냉방기간 소비전력량 (kWh) | F8: 냉방기간 월간소비전력량 (kWh/월) | G8: 1시간당 소비전력량 (W/h) | H8: CO2 배출량 (g/h) | I8: 냉방기간 총 냉방량 합계 (kWh) | J8: 냉방기간 총 냉방소비전력량합계 (kWh) | K8: 냉방월간에너지비용 [\]
D9: =U36 -> #DIV/0! | E9: =ROUND(J9*2.5,1) -> #DIV/0! | F9: =E9/4 -> #DIV/0! | G9: =ROUND(E9*1000/941,0) -> #DIV/0! | H9: =G9*0.425 -> #DIV/0! | I9: =R36/1000 -> #DIV/0! | J9: =ROUND(S36/1000,1) -> #DIV/0! | K9: =ROUND(F9*113,-3) -> #DIV/0!
E12: 시험조건 | G12: 최소운전 | J12: 중간운전 | M12: 정격운전 | P12: 온도저하계수 | S12: 0.25
E13: 실내측 | F13: 실외측 | G13: 능력 | H13: 소비전력 | I13: EER | J13: 능력 | K13: 소비전력 | L13: EER | M13: 능력 | N13: 소비전력 | O13: EER | P13: 결과보간
E14: 건구/습구 | F14: 건구/습구 | G14: W | H14: W | J14: W | K14: W | M14: W | N14: W | P14: 온도(ta) | Q14: =(70*G16-58*G15+23*H4)/(2*G16-2*G15+H4) -> 23 | R14: 전력(ta) | S14: =H15+(H16-H15)*(35-Q14)/6 -> 0 | T14: 능력(ta) | U14: =($G$15-$G$16)/(35-29)*(Q14-35)+$G$15 -> 0
C15: 표준조건 | E15: 27/19 | F15: 35/24 | G15: =ROUND(G16/1.077,0) -> 0 | H15: =ROUND(H16/0.864,0) -> 0 | I15: =G15/H15 -> #DIV/0! | J15: =ROUND('효율계산(냉난방기)'!E32,0) -> 0 | K15: =ROUND('효율계산(냉난방기)'!E33,0) -> 0 | L15: =J15/K15 -> #DIV/0! | M15: =ROUND('효율계산(냉난방기)'!E29,0) -> 0 | N15: =ROUND('효율계산(냉난방기)'!E30,0) -> 0 | O15: =M15/N15 -> #DIV/0! | P15: 온도(tb) | Q15: =(70*M16-58*M15+23*H4)/(2*M16-2*M15+H4) -> 23 | R15: 전력(tb) | S15: =N15+(N16-N15)*(35-Q15)/6 -> 0 | T15: 능력(tb) | U15: =($M$15-$M$16)/(35-29)*(Q15-35)+$M$15 -> 0
C16: 저온조건 | F16: 29/19 | G16: =ROUND('효율계산(냉난방기)'!E35,0) -> 0 | H16: =ROUND('효율계산(냉난방기)'!E36,0) -> 0 | I16: =G16/H16 -> #DIV/0! | J16: =ROUND(1.077*J15,0) -> 0 | K16: =ROUND(0.864*K15,0) -> 0 | L16: =J16/K16 -> #DIV/0! | M16: =ROUND(1.077*M15,0) -> 0 | N16: =ROUND(0.864*N15,0) -> 0 | O16: =M16/N16 -> #DIV/0! | P16: 온도(tc) | Q16: =(70*J16-58*J15+23*H4)/(2*J16-2*J15+H4) -> 23 | R16: 전력(tc) | S16: =K15+(K16-K15)*(35-Q16)/6 -> 0 | T16: 능력(tc) | U16: =($J$15-$J$16)/(35-29)*(Q16-35)+$J$15 -> 0
C18: 온도빈 | G18: 최소운전 | H18: 최소운전 | I18: 중간운전 | J18: 중간운전 | K18: 정격운전 | L18: 정격운전 | M18: 운전 | R18: 냉방기간 | S18: 냉방기간
C19: 온도구분 | D19: 온도 | E19: 시간 | F19: 건물부하 | G19: 냉방능력 | H19: 소비전력 | I19: 냉방능력 | J19: 소비전력 | K19: 냉방능력 | L19: 소비전력 | M19: 조건 | N19: 가동율 | O19: 운전비율 | P19: 냉방능력 | Q19: 소비전력 | R19: 냉방량 | S19: 냉방소비전력량 | T19: EER | U19: CSPF
C20: J | D20: ℃ | E20: h | F20: W | G20: W | H20: W | I20: W | J20: W | K20: W | L20: W | M20: (1,2,3,4) | N20: X | O20: PLF | P20: W | Q20: W | R20: Wh | S20: Wh
C21: 1 | D21: =23+C21 -> 24 | E21: 152 | F21: =$H$4*(D21-23)/12 -> 2900 | G21: =($G$15-$G$16)/(35-29)*(D21-35)+$G$15 -> 0 | H21: =($H$15-$H$16)/(35-29)*(D21-35)+$H$15 -> 0 | I21: =($J$15-$J$16)/(35-29)*(D21-35)+$J$15 -> 0 | J21: =($K$15-$K$16)/(35-29)*(D21-35)+$K$15 -> 0 | K21: =($M$15-$M$16)/(35-29)*(D21-35)+$M$15 -> 0 | L21: =($N$15-$N$16)/(35-29)*(D21-35)+$N$15 -> 0 | M21: =IF(F21<=G21,1,IF(F21<=I21,2,IF(F21<=K21,3,IF(F21>K21,4)))) -> 4 | N21: =(1<=F21/G21)+(1>F21/G21)*(F21/G21) -> #DIV/0! | O21: =1-$S$12*(1-N21) -> #DIV/0! | P21: =($F21<=$G21)*$G21+(($G21<$F21)*($F21<=$I21))*$F21+(($I21<$F21)*($F21<=$K21))*$F21+($F21>$K21)*$K21 -> 0 | Q21: =($F21<=$G21)*$H21+(($G21<$F21)*($F21<=$I21))*IF($G21=$I21,0,(($S$16-$S$14)/($Q$16-$Q$14)*($D21-$Q$16)+$S$16))+(($I21<$F21)*($F21<=$K21))*IF($I21=$K21,0,(($S$15-$S$16)/($Q$15-$Q$16)*($D21-$Q$15)+$S$15))+($F21>$K21)*$L21 -> 0 | R21: =$P21*$N21*$E21 -> #DIV/0! | S21: =$Q21*$N21/$O21*$E21 -> #DIV/0! | T21: =$P21/$Q21 -> #DIV/0! | U21: =R21/S21 -> #DIV/0!
C22: =C21+1 -> 2 | D22: =23+C22 -> 25 | E22: 146 | F22: =$H$4*(D22-23)/12 -> 5800 | G22: =($G$15-$G$16)/(35-29)*(D22-35)+$G$15 -> 0 | H22: =($H$15-$H$16)/(35-29)*(D22-35)+$H$15 -> 0 | I22: =($J$15-$J$16)/(35-29)*(D22-35)+$J$15 -> 0 | J22: =($K$15-$K$16)/(35-29)*(D22-35)+$K$15 -> 0 | K22: =($M$15-$M$16)/(35-29)*(D22-35)+$M$15 -> 0 | L22: =($N$15-$N$16)/(35-29)*(D22-35)+$N$15 -> 0 | M22: =IF(F22<=G22,1,IF(F22<=I22,2,IF(F22<=K22,3,IF(F22>K22,4)))) -> 4 | N22: =(1<=F22/G22)+(1>F22/G22)*(F22/G22) -> #DIV/0! | O22: =1-$S$12*(1-N22) -> #DIV/0! | P22: =($F22<=$G22)*$G22+(($G22<$F22)*($F22<=$I22))*$F22+(($I22<$F22)*($F22<=$K22))*$F22+($F22>$K22)*$K22 -> 0 | Q22: =($F22<=$G22)*$H22+(($G22<$F22)*($F22<=$I22))*IF($G22=$I22,0,(($S$16-$S$14)/($Q$16-$Q$14)*($D22-$Q$16)+$S$16))+(($I22<$F22)*($F22<=$K22))*IF($I22=$K22,0,(($S$15-$S$16)/($Q$15-$Q$16)*($D22-$Q$15)+$S$15))+($F22>$K22)*$L22 -> 0 | R22: =$P22*$N22*$E22 -> #DIV/0! | S22: =$Q22*$N22/$O22*$E22 -> #DIV/0! | T22: =$P22/$Q22 -> #DIV/0! | U22: =R22/S22 -> #DIV/0!
C23: =C22+1 -> 3 | D23: =23+C23 -> 26 | E23: 140 | F23: =$H$4*(D23-23)/12 -> 8700 | G23: =($G$15-$G$16)/(35-29)*(D23-35)+$G$15 -> 0 | H23: =($H$15-$H$16)/(35-29)*(D23-35)+$H$15 -> 0 | I23: =($J$15-$J$16)/(35-29)*(D23-35)+$J$15 -> 0 | J23: =($K$15-$K$16)/(35-29)*(D23-35)+$K$15 -> 0 | K23: =($M$15-$M$16)/(35-29)*(D23-35)+$M$15 -> 0 | L23: =($N$15-$N$16)/(35-29)*(D23-35)+$N$15 -> 0 | M23: =IF(F23<=G23,1,IF(F23<=I23,2,IF(F23<=K23,3,IF(F23>K23,4)))) -> 4 | N23: =(1<=F23/G23)+(1>F23/G23)*(F23/G23) -> #DIV/0! | O23: =1-$S$12*(1-N23) -> #DIV/0! | P23: =($F23<=$G23)*$G23+(($G23<$F23)*($F23<=$I23))*$F23+(($I23<$F23)*($F23<=$K23))*$F23+($F23>$K23)*$K23 -> 0 | Q23: =($F23<=$G23)*$H23+(($G23<$F23)*($F23<=$I23))*IF($G23=$I23,0,(($S$16-$S$14)/($Q$16-$Q$14)*($D23-$Q$16)+$S$16))+(($I23<$F23)*($F23<=$K23))*IF($I23=$K23,0,(($S$15-$S$16)/($Q$15-$Q$16)*($D23-$Q$15)+$S$15))+($F23>$K23)*$L23 -> 0 | R23: =$P23*$N23*$E23 -> #DIV/0! | S23: =$Q23*$N23/$O23*$E23 -> #DIV/0! | T23: =$P23/$Q23 -> #DIV/0! | U23: =R23/S23 -> #DIV/0!
C24: =C23+1 -> 4 | D24: =23+C24 -> 27 | E24: 130 | F24: =$H$4*(D24-23)/12 -> 11600 | G24: =($G$15-$G$16)/(35-29)*(D24-35)+$G$15 -> 0 | H24: =($H$15-$H$16)/(35-29)*(D24-35)+$H$15 -> 0 | I24: =($J$15-$J$16)/(35-29)*(D24-35)+$J$15 -> 0 | J24: =($K$15-$K$16)/(35-29)*(D24-35)+$K$15 -> 0 | K24: =($M$15-$M$16)/(35-29)*(D24-35)+$M$15 -> 0 | L24: =($N$15-$N$16)/(35-29)*(D24-35)+$N$15 -> 0 | M24: =IF(F24<=G24,1,IF(F24<=I24,2,IF(F24<=K24,3,IF(F24>K24,4)))) -> 4 | N24: =(1<=F24/G24)+(1>F24/G24)*(F24/G24) -> #DIV/0! | O24: =1-$S$12*(1-N24) -> #DIV/0! | P24: =($F24<=$G24)*$G24+(($G24<$F24)*($F24<=$I24))*$F24+(($I24<$F24)*($F24<=$K24))*$F24+($F24>$K24)*$K24 -> 0 | Q24: =($F24<=$G24)*$H24+(($G24<$F24)*($F24<=$I24))*IF($G24=$I24,0,(($S$16-$S$14)/($Q$16-$Q$14)*($D24-$Q$16)+$S$16))+(($I24<$F24)*($F24<=$K24))*IF($I24=$K24,0,(($S$15-$S$16)/($Q$15-$Q$16)*($D24-$Q$15)+$S$15))+($F24>$K24)*$L24 -> 0 | R24: =$P24*$N24*$E24 -> #DIV/0! | S24: =$Q24*$N24/$O24*$E24 -> #DIV/0! | T24: =$P24/$Q24 -> #DIV/0! | U24: =R24/S24 -> #DIV/0!
C25: =C24+1 -> 5 | D25: =23+C25 -> 28 | E25: 112 | F25: =$H$4*(D25-23)/12 -> 14500 | G25: =($G$15-$G$16)/(35-29)*(D25-35)+$G$15 -> 0 | H25: =($H$15-$H$16)/(35-29)*(D25-35)+$H$15 -> 0 | I25: =($J$15-$J$16)/(35-29)*(D25-35)+$J$15 -> 0 | J25: =($K$15-$K$16)/(35-29)*(D25-35)+$K$15 -> 0 | K25: =($M$15-$M$16)/(35-29)*(D25-35)+$M$15 -> 0 | L25: =($N$15-$N$16)/(35-29)*(D25-35)+$N$15 -> 0 | M25: =IF(F25<=G25,1,IF(F25<=I25,2,IF(F25<=K25,3,IF(F25>K25,4)))) -> 4 | N25: =(1<=F25/G25)+(1>F25/G25)*(F25/G25) -> #DIV/0! | O25: =1-$S$12*(1-N25) -> #DIV/0! | P25: =($F25<=$G25)*$G25+(($G25<$F25)*($F25<=$I25))*$F25+(($I25<$F25)*($F25<=$K25))*$F25+($F25>$K25)*$K25 -> 0 | Q25: =($F25<=$G25)*$H25+(($G25<$F25)*($F25<=$I25))*IF($G25=$I25,0,(($S$16-$S$14)/($Q$16-$Q$14)*($D25-$Q$16)+$S$16))+(($I25<$F25)*($F25<=$K25))*IF($I25=$K25,0,(($S$15-$S$16)/($Q$15-$Q$16)*($D25-$Q$15)+$S$15))+($F25>$K25)*$L25 -> 0 | R25: =$P25*$N25*$E25 -> #DIV/0! | S25: =$Q25*$N25/$O25*$E25 -> #DIV/0! | T25: =$P25/$Q25 -> #DIV/0! | U25: =R25/S25 -> #DIV/0!
C26: =C25+1 -> 6 | D26: =23+C26 -> 29 | E26: 89 | F26: =$H$4*(D26-23)/12 -> 17400 | G26: =($G$15-$G$16)/(35-29)*(D26-35)+$G$15 -> 0 | H26: =($H$15-$H$16)/(35-29)*(D26-35)+$H$15 -> 0 | I26: =($J$15-$J$16)/(35-29)*(D26-35)+$J$15 -> 0 | J26: =($K$15-$K$16)/(35-29)*(D26-35)+$K$15 -> 0 | K26: =($M$15-$M$16)/(35-29)*(D26-35)+$M$15 -> 0 | L26: =($N$15-$N$16)/(35-29)*(D26-35)+$N$15 -> 0 | M26: =IF(F26<=G26,1,IF(F26<=I26,2,IF(F26<=K26,3,IF(F26>K26,4)))) -> 4 | N26: =(1<=F26/G26)+(1>F26/G26)*(F26/G26) -> #DIV/0! | O26: =1-$S$12*(1-N26) -> #DIV/0! | P26: =($F26<=$G26)*$G26+(($G26<$F26)*($F26<=$I26))*$F26+(($I26<$F26)*($F26<=$K26))*$F26+($F26>$K26)*$K26 -> 0 | Q26: =($F26<=$G26)*$H26+(($G26<$F26)*($F26<=$I26))*IF($G26=$I26,0,(($S$16-$S$14)/($Q$16-$Q$14)*($D26-$Q$16)+$S$16))+(($I26<$F26)*($F26<=$K26))*IF($I26=$K26,0,(($S$15-$S$16)/($Q$15-$Q$16)*($D26-$Q$15)+$S$15))+($F26>$K26)*$L26 -> 0 | R26: =$P26*$N26*$E26 -> #DIV/0! | S26: =$Q26*$N26/$O26*$E26 -> #DIV/0! | T26: =$P26/$Q26 -> #DIV/0! | U26: =R26/S26 -> #DIV/0!
C27: =C26+1 -> 7 | D27: =23+C27 -> 30 | E27: 69 | F27: =$H$4*(D27-23)/12 -> 20300 | G27: =($G$15-$G$16)/(35-29)*(D27-35)+$G$15 -> 0 | H27: =($H$15-$H$16)/(35-29)*(D27-35)+$H$15 -> 0 | I27: =($J$15-$J$16)/(35-29)*(D27-35)+$J$15 -> 0 | J27: =($K$15-$K$16)/(35-29)*(D27-35)+$K$15 -> 0 | K27: =($M$15-$M$16)/(35-29)*(D27-35)+$M$15 -> 0 | L27: =($N$15-$N$16)/(35-29)*(D27-35)+$N$15 -> 0 | M27: =IF(F27<=G27,1,IF(F27<=I27,2,IF(F27<=K27,3,IF(F27>K27,4)))) -> 4 | N27: =(1<=F27/G27)+(1>F27/G27)*(F27/G27) -> #DIV/0! | O27: =1-$S$12*(1-N27) -> #DIV/0! | P27: =($F27<=$G27)*$G27+(($G27<$F27)*($F27<=$I27))*$F27+(($I27<$F27)*($F27<=$K27))*$F27+($F27>$K27)*$K27 -> 0 | Q27: =($F27<=$G27)*$H27+(($G27<$F27)*($F27<=$I27))*IF($G27=$I27,0,(($S$16-$S$14)/($Q$16-$Q$14)*($D27-$Q$16)+$S$16))+(($I27<$F27)*($F27<=$K27))*IF($I27=$K27,0,(($S$15-$S$16)/($Q$15-$Q$16)*($D27-$Q$15)+$S$15))+($F27>$K27)*$L27 -> 0 | R27: =$P27*$N27*$E27 -> #DIV/0! | S27: =$Q27*$N27/$O27*$E27 -> #DIV/0! | T27: =$P27/$Q27 -> #DIV/0! | U27: =R27/S27 -> #DIV/0!
C28: =C27+1 -> 8 | D28: =23+C28 -> 31 | E28: 47 | F28: =$H$4*(D28-23)/12 -> 23200 | G28: =($G$15-$G$16)/(35-29)*(D28-35)+$G$15 -> 0 | H28: =($H$15-$H$16)/(35-29)*(D28-35)+$H$15 -> 0 | I28: =($J$15-$J$16)/(35-29)*(D28-35)+$J$15 -> 0 | J28: =($K$15-$K$16)/(35-29)*(D28-35)+$K$15 -> 0 | K28: =($M$15-$M$16)/(35-29)*(D28-35)+$M$15 -> 0 | L28: =($N$15-$N$16)/(35-29)*(D28-35)+$N$15 -> 0 | M28: =IF(F28<=G28,1,IF(F28<=I28,2,IF(F28<=K28,3,IF(F28>K28,4)))) -> 4 | N28: =(1<=F28/G28)+(1>F28/G28)*(F28/G28) -> #DIV/0! | O28: =1-$S$12*(1-N28) -> #DIV/0! | P28: =($F28<=$G28)*$G28+(($G28<$F28)*($F28<=$I28))*$F28+(($I28<$F28)*($F28<=$K28))*$F28+($F28>$K28)*$K28 -> 0 | Q28: =($F28<=$G28)*$H28+(($G28<$F28)*($F28<=$I28))*IF($G28=$I28,0,(($S$16-$S$14)/($Q$16-$Q$14)*($D28-$Q$16)+$S$16))+(($I28<$F28)*($F28<=$K28))*IF($I28=$K28,0,(($S$15-$S$16)/($Q$15-$Q$16)*($D28-$Q$15)+$S$15))+($F28>$K28)*$L28 -> 0 | R28: =$P28*$N28*$E28 -> #DIV/0! | S28: =$Q28*$N28/$O28*$E28 -> #DIV/0! | T28: =$P28/$Q28 -> #DIV/0! | U28: =R28/S28 -> #DIV/0!
C29: =C28+1 -> 9 | D29: =23+C29 -> 32 | E29: 29 | F29: =$H$4*(D29-23)/12 -> 26100 | G29: =($G$15-$G$16)/(35-29)*(D29-35)+$G$15 -> 0 | H29: =($H$15-$H$16)/(35-29)*(D29-35)+$H$15 -> 0 | I29: =($J$15-$J$16)/(35-29)*(D29-35)+$J$15 -> 0 | J29: =($K$15-$K$16)/(35-29)*(D29-35)+$K$15 -> 0 | K29: =($M$15-$M$16)/(35-29)*(D29-35)+$M$15 -> 0 | L29: =($N$15-$N$16)/(35-29)*(D29-35)+$N$15 -> 0 | M29: =IF(F29<=G29,1,IF(F29<=I29,2,IF(F29<=K29,3,IF(F29>K29,4)))) -> 4 | N29: =(1<=F29/G29)+(1>F29/G29)*(F29/G29) -> #DIV/0! | O29: =1-$S$12*(1-N29) -> #DIV/0! | P29: =($F29<=$G29)*$G29+(($G29<$F29)*($F29<=$I29))*$F29+(($I29<$F29)*($F29<=$K29))*$F29+($F29>$K29)*$K29 -> 0 | Q29: =($F29<=$G29)*$H29+(($G29<$F29)*($F29<=$I29))*IF($G29=$I29,0,(($S$16-$S$14)/($Q$16-$Q$14)*($D29-$Q$16)+$S$16))+(($I29<$F29)*($F29<=$K29))*IF($I29=$K29,0,(($S$15-$S$16)/($Q$15-$Q$16)*($D29-$Q$15)+$S$15))+($F29>$K29)*$L29 -> 0 | R29: =$P29*$N29*$E29 -> #DIV/0! | S29: =$Q29*$N29/$O29*$E29 -> #DIV/0! | T29: =$P29/$Q29 -> #DIV/0! | U29: =R29/S29 -> #DIV/0!
C30: =C29+1 -> 10 | D30: =23+C30 -> 33 | E30: 14 | F30: =$H$4*(D30-23)/12 -> 29000 | G30: =($G$15-$G$16)/(35-29)*(D30-35)+$G$15 -> 0 | H30: =($H$15-$H$16)/(35-29)*(D30-35)+$H$15 -> 0 | I30: =($J$15-$J$16)/(35-29)*(D30-35)+$J$15 -> 0 | J30: =($K$15-$K$16)/(35-29)*(D30-35)+$K$15 -> 0 | K30: =($M$15-$M$16)/(35-29)*(D30-35)+$M$15 -> 0 | L30: =($N$15-$N$16)/(35-29)*(D30-35)+$N$15 -> 0 | M30: =IF(F30<=G30,1,IF(F30<=I30,2,IF(F30<=K30,3,IF(F30>K30,4)))) -> 4 | N30: =(1<=F30/G30)+(1>F30/G30)*(F30/G30) -> #DIV/0! | O30: =1-$S$12*(1-N30) -> #DIV/0! | P30: =($F30<=$G30)*$G30+(($G30<$F30)*($F30<=$I30))*$F30+(($I30<$F30)*($F30<=$K30))*$F30+($F30>$K30)*$K30 -> 0 | Q30: =($F30<=$G30)*$H30+(($G30<$F30)*($F30<=$I30))*IF($G30=$I30,0,(($S$16-$S$14)/($Q$16-$Q$14)*($D30-$Q$16)+$S$16))+(($I30<$F30)*($F30<=$K30))*IF($I30=$K30,0,(($S$15-$S$16)/($Q$15-$Q$16)*($D30-$Q$15)+$S$15))+($F30>$K30)*$L30 -> 0 | R30: =$P30*$N30*$E30 -> #DIV/0! | S30: =$Q30*$N30/$O30*$E30 -> #DIV/0! | T30: =$P30/$Q30 -> #DIV/0! | U30: =R30/S30 -> #DIV/0!
C31: =C30+1 -> 11 | D31: =23+C31 -> 34 | E31: 6 | F31: =$H$4*(D31-23)/12 -> 31900 | G31: =($G$15-$G$16)/(35-29)*(D31-35)+$G$15 -> 0 | H31: =($H$15-$H$16)/(35-29)*(D31-35)+$H$15 -> 0 | I31: =($J$15-$J$16)/(35-29)*(D31-35)+$J$15 -> 0 | J31: =($K$15-$K$16)/(35-29)*(D31-35)+$K$15 -> 0 | K31: =($M$15-$M$16)/(35-29)*(D31-35)+$M$15 -> 0 | L31: =($N$15-$N$16)/(35-29)*(D31-35)+$N$15 -> 0 | M31: =IF(F31<=G31,1,IF(F31<=I31,2,IF(F31<=K31,3,IF(F31>K31,4)))) -> 4 | N31: =(1<=F31/G31)+(1>F31/G31)*(F31/G31) -> #DIV/0! | O31: =1-$S$12*(1-N31) -> #DIV/0! | P31: =($F31<=$G31)*$G31+(($G31<$F31)*($F31<=$I31))*$F31+(($I31<$F31)*($F31<=$K31))*$F31+($F31>$K31)*$K31 -> 0 | Q31: =($F31<=$G31)*$H31+(($G31<$F31)*($F31<=$I31))*IF($G31=$I31,0,(($S$16-$S$14)/($Q$16-$Q$14)*($D31-$Q$16)+$S$16))+(($I31<$F31)*($F31<=$K31))*IF($I31=$K31,0,(($S$15-$S$16)/($Q$15-$Q$16)*($D31-$Q$15)+$S$15))+($F31>$K31)*$L31 -> 0 | R31: =$P31*$N31*$E31 -> #DIV/0! | S31: =$Q31*$N31/$O31*$E31 -> #DIV/0! | T31: =$P31/$Q31 -> #DIV/0! | U31: =R31/S31 -> #DIV/0!
C32: =C31+1 -> 12 | D32: =23+C32 -> 35 | E32: 4 | F32: =$H$4*(D32-23)/12 -> 34800 | G32: =($G$15-$G$16)/(35-29)*(D32-35)+$G$15 -> 0 | H32: =($H$15-$H$16)/(35-29)*(D32-35)+$H$15 -> 0 | I32: =($J$15-$J$16)/(35-29)*(D32-35)+$J$15 -> 0 | J32: =($K$15-$K$16)/(35-29)*(D32-35)+$K$15 -> 0 | K32: =($M$15-$M$16)/(35-29)*(D32-35)+$M$15 -> 0 | L32: =($N$15-$N$16)/(35-29)*(D32-35)+$N$15 -> 0 | M32: =IF(F32<=G32,1,IF(F32<=I32,2,IF(F32<=K32,3,IF(F32>K32,4)))) -> 4 | N32: =(1<=F32/G32)+(1>F32/G32)*(F32/G32) -> #DIV/0! | O32: =1-$S$12*(1-N32) -> #DIV/0! | P32: =($F32<=$G32)*$G32+(($G32<$F32)*($F32<=$I32))*$F32+(($I32<$F32)*($F32<=$K32))*$F32+($F32>$K32)*$K32 -> 0 | Q32: =($F32<=$G32)*$H32+(($G32<$F32)*($F32<=$I32))*IF($G32=$I32,0,(($S$16-$S$14)/($Q$16-$Q$14)*($D32-$Q$16)+$S$16))+(($I32<$F32)*($F32<=$K32))*IF($I32=$K32,0,(($S$15-$S$16)/($Q$15-$Q$16)*($D32-$Q$15)+$S$15))+($F32>$K32)*$L32 -> 0 | R32: =$P32*$N32*$E32 -> #DIV/0! | S32: =$Q32*$N32/$O32*$E32 -> #DIV/0! | T32: =$P32/$Q32 -> #DIV/0! | U32: =R32/S32 -> #DIV/0!
C33: =C32+1 -> 13 | D33: =23+C33 -> 36 | E33: 2 | F33: =$H$4*(D33-23)/12 -> 37700 | G33: =($G$15-$G$16)/(35-29)*(D33-35)+$G$15 -> 0 | H33: =($H$15-$H$16)/(35-29)*(D33-35)+$H$15 -> 0 | I33: =($J$15-$J$16)/(35-29)*(D33-35)+$J$15 -> 0 | J33: =($K$15-$K$16)/(35-29)*(D33-35)+$K$15 -> 0 | K33: =($M$15-$M$16)/(35-29)*(D33-35)+$M$15 -> 0 | L33: =($N$15-$N$16)/(35-29)*(D33-35)+$N$15 -> 0 | M33: =IF(F33<=G33,1,IF(F33<=I33,2,IF(F33<=K33,3,IF(F33>K33,4)))) -> 4 | N33: =(1<=F33/G33)+(1>F33/G33)*(F33/G33) -> #DIV/0! | O33: =1-$S$12*(1-N33) -> #DIV/0! | P33: =($F33<=$G33)*$G33+(($G33<$F33)*($F33<=$I33))*$F33+(($I33<$F33)*($F33<=$K33))*$F33+($F33>$K33)*$K33 -> 0 | Q33: =($F33<=$G33)*$H33+(($G33<$F33)*($F33<=$I33))*IF($G33=$I33,0,(($S$16-$S$14)/($Q$16-$Q$14)*($D33-$Q$16)+$S$16))+(($I33<$F33)*($F33<=$K33))*IF($I33=$K33,0,(($S$15-$S$16)/($Q$15-$Q$16)*($D33-$Q$15)+$S$15))+($F33>$K33)*$L33 -> 0 | R33: =$P33*$N33*$E33 -> #DIV/0! | S33: =$Q33*$N33/$O33*$E33 -> #DIV/0! | T33: =$P33/$Q33 -> #DIV/0! | U33: =R33/S33 -> #DIV/0!
... C35: =C34+1 -> 15 | D35: =23+C35 -> 38 | E35: 0 | F35: =$H$4*(D35-23)/12 -> 43500 | G35: =($G$15-$G$16)/(35-29)*(D35-35)+$G$15 -> 0 | H35: =($H$15-$H$16)/(35-29)*(D35-35)+$H$15 -> 0 | I35: =($J$15-$J$16)/(35-29)*(D35-35)+$J$15 -> 0 | J35: =($K$15-$K$16)/(35-29)*(D35-35)+$K$15 -> 0 | K35: =($M$15-$M$16)/(35-29)*(D35-35)+$M$15 -> 0 | L35: =($N$15-$N$16)/(35-29)*(D35-35)+$N$15 -> 0 | M35: =IF(F35<=G35,1,IF(F35<=I35,2,IF(F35<=K35,3,IF(F35>K35,4)))) -> 4 | N35: =(1<=F35/G35)+(1>F35/G35)*(F35/G35) -> #DIV/0! | O35: =1-$S$12*(1-N35) -> #DIV/0! | P35: =($F35<=$G35)*$G35+(($G35<$F35)*($F35<=$I35))*$F35+(($I35<$F35)*($F35<=$K35))*$F35+($F35>$K35)*$K35 -> 0 | Q35: =($F35<=$G35)*$H35+(($G35<$F35)*($F35<=$I35))*IF($G35=$I35,0,(($S$16-$S$14)/($Q$16-$Q$14)*($D35-$Q$16)+$S$16))+(($I35<$F35)*($F35<=$K35))*IF($I35=$K35,0,(($S$15-$S$16)/($Q$15-$Q$16)*($D35-$Q$15)+$S$15))+($F35>$K35)*$L35 -> 0 | R35: =$P35*$N35*$E35 -> #DIV/0! | S35: =$Q35*$N35/$O35*$E35 -> #DIV/0! | T35: =$P35/$Q35 -> #DIV/0! | U35: =R35/S35 -> #DIV/0!
C36: 계 | E36: =SUM(E21:E35) -> 941 | R36: =SUM(R21:R35) -> #DIV/0! | S36: =SUM(S21:S35) -> #DIV/0! | U36: =R36/S36 -> #DIV/0!
B42: 가변용량형 (5점식) HSPF
C44: 결과 | D44: HSPF | E44: 난방기간 소비전력량 (kWh) | F44: 난방기간 월간소비 전력량 (kWh/월) | G44: 1시간당 소비전력량 (W/h) | H44: CO2 배출량 (g/h) | I44: 건물난방부하합계 (kWh) | J44: 난방기간 총난방소비 전력량합계 (kWh) | K44: 난방월간 에너지비용 [\] | N44: 결과보간 | O44: a | P44: b | Q44: c | R44: d | S44: e | T44: f | U44: g
N45: 온도 | O45: =(224*U51-112*M53-112*M56)/(14*U51+16*M53-16*M56) -> 16 | P45: =(144*U51-112*M54*P54/P55-32*M56)/(9*U51+16*M54*P54/P55-16*M56) -> #DIV/0! | Q45: =(224*U51-112*G53-112*G56)/(14*U51+16*G53-16*G56) -> 16 | R45: =(144*U51-112*G54*P54/P55-32*G56)/(9*U51+16*G54*P54/P55-16*G56) -> #DIV/0! | S45: =(224*U51-112*J53-112*J56)/(14*U51+16*J53-16*J56) -> 16 | T45: =(144*U51-112*J54*P54/P55-32*J56)/(9*U51+16*J54*P54/P55-16*J56) -> #DIV/0! | U45: =(144*U51-112*P54-32*P56)/(9*U51+16*P54-16*P56) -> 16
N46: 능력 | O46: =M56+(M53-M56)*(O45-(-7))/(7-(-7)) -> 0 | P46: =M56+(M54*P54/P55-M56)*(P45-(-7))/(2-(-7)) -> #DIV/0! | Q46: =G56+(G53-G56)*(Q45-(-7))/(7-(-7)) -> 0 | R46: =G56+(G54*P54/P55-G56)*(R45-(-7))/(2-(-7)) -> #DIV/0! | S46: =J56+(J53-J56)*(S45-(-7))/(7-(-7)) -> 0 | T46: =J56+(J54*P55/P54-J56)*(T45-(-7))/(2-(-7)) -> #DIV/0! | U46: =P56+(P54-P56)*(U45-(-7))/(2-(-7)) -> 0
D47: =R91/(S91+T91) -> #DIV/0! | E47: =ROUND((S91+T91)/1000,1) -> #DIV/0! | F47: =E47/4 -> #DIV/0! | G47: =ROUND(E47*1000/2849,0) -> #DIV/0! | H47: =G47*0.425 -> #DIV/0! | I47: =R91/1000 -> 64295.175 | J47: =ROUND((S91+T91)/1000,1) -> #DIV/0! | K47: =ROUND(F47*113,-3) -> #DIV/0! | N47: 소비전력 | O47: =N56+(N53-N56)*(O45-(-7))/(7-(-7)) -> 0 | P47: =N56+(N54*Q54/Q55-N56)*(P45-(-7))/(2-(-7)) -> #DIV/0! | Q47: =H56+(H53-H56)*(Q45-(-7))/(7-(-7)) -> 0 | R47: =H56+(H54*Q54/Q55-H56)*(R45-(-7))/(2-(-7)) -> #DIV/0! | S47: =K56+(K53-K56)*(S45-(-7))/(7-(-7)) -> 0 | T47: =K56+(K54*Q54/Q55-K56)*(T45-(-7))/(2-(-7)) -> #DIV/0! | U47: =Q56+(Q54-Q56)*(U45-(-7))/(2-(-7)) -> 0
E50: 시험조건 | G50: 최소운전 | J50: 중간운전 | M50: 정격운전 | P50: 최대운전 | S50: 냉방능력 | U50: =H4 -> 34800
E51: 실내측 | F51: 실외측 | G51: 능력 | H51: 소비전력 | I51: COP | J51: 능력 | K51: 소비전력 | L51: COP | M51: 능력 | N51: 소비전력 | O51: COP | P51: 능력 | Q51: 소비전력 | R51: COP | S51: 난방건물부하 (0℃) | U51: =$U$50*0.82 -> 28536
E52: 건구/습구 | F52: 건구/습구 | G52: W | H52: W | J52: W | K52: W | M52: W | N52: W | P52: W | Q52: W | S52: 보조히터 | U52: ='효율계산(냉난방기)'!D73 -> 0
C53: 표준조건 | E53: 20/15 | F53: 7/6 | G53: =ROUND('효율계산(냉난방기)'!E44,0) -> 0 | H53: =ROUND('효율계산(냉난방기)'!E45,0) -> 0 | I53: =G53/H53 -> #DIV/0! | J53: =ROUND('효율계산(냉난방기)'!E41,0) -> 0 | K53: =ROUND('효율계산(냉난방기)'!E42,0) -> 0 | L53: =J53/K53 -> #DIV/0! | M53: =ROUND('효율계산(냉난방기)'!E38,0) -> 0 | N53: =ROUND('효율계산(냉난방기)'!E39,0) -> 0 | O53: =M53/N53 -> #DIV/0! | P53: - | Q53: - | R53: - | S53: 운전율 | U53: =IF((U52*1000/U50)<1,U52*1000/U50,1) -> 0
C54: 제상조건 | D54: 착상 | E54: 20/15 | F54: 2/1 | G54: =ROUND(G56+(G53-G56)*(2-(-7))/(7-(-7)),0) -> 0 | H54: =ROUND(H56+(H53-H56)*(2-(-7))/(7-(-7)),0) -> 0 | I54: =G54/H54 -> #DIV/0! | J54: =ROUND(J56+(J53-J56)*(2-(-7))/(7-(-7)),0) -> 0 | K54: =ROUND(K56+(K53-K56)*(2-(-7))/(7-(-7)),0) -> 0 | L54: =J54/K54 -> #DIV/0! | M54: =ROUND(M56+(M53-M56)*(2-(-7))/(7-(-7)),0) -> 0 | N54: =ROUND(N56+(N53-N56)*(2-(-7))/(7-(-7)),0) -> 0 | O54: =M54/N54 -> #DIV/0! | P54: =ROUND('효율계산(냉난방기)'!E47,0) -> 0 | Q54: =ROUND('효율계산(냉난방기)'!E48,0) -> 0 | R54: =P54/Q54 -> #DIV/0! | S54: 온도저하계수 | U54: 0.25
D55: 무착상 | E55: 20/15 | F55: 2/1 | G55: - | H55: - | I55: - | J55: - | K55: - | L55: - | M55: - | N55: - | O55: - | P55: =ROUND(P54*1.12,0) -> 0 | Q55: =ROUND(Q54*1.06,0) -> 0 | R55: =P55/Q55 -> #DIV/0!
...
