Workbook

Sheet 효율계산(냉난방기)
A1: 전기냉난방기 효율등급 계산시트
J2: Ver.5 2026.09.21
A3: 적용고시 | B3: 기후에너지환경부 제2026-137호 효율관리기자재운용규정
A4: 적용기준 | B4: KS C 9306 : 에어컨디셔너
A6: 1. 일반사항 | J6: * 노란셀 입력
A7: 전기냉난방기 구분 | C7: 싱글형 | F7: =IF(C7="싱글형", IF(C17<4000,"정격냉방능력 4 kW 미만", IF(C17<10000,"정격냉방능력 4 kW 이상 10 kW 미만", IF(C17<23000,"정격냉방능력 10 kW 이상 23 kW 미만",""))), IF(C7="멀티형", IF(C17<38000, IF(C17>=20000,"정격냉방능력 20 kW 이상 38 kW 미만",""), IF(C17<50000,"정격냉방능력 38 kW 이상 50 kW 미만", IF(C17<70000,"정격냉방능력 50 kW 이상 70 kW 미만",""))), ""))
A8: 판매사 / 제조사 | F8: 안전인증번호 | H8: "직접입력"
A9: 실외유닛 | B9: 모델명
B10: 사용냉매 (냉매량) | C10: R-410A (8.4 kg) | F10: 정격전압 | H10: 3상, 4선, 380 V, 60 Hz
B11: 실외유닛 정격냉방소비전력1) [W] | F11: 실외유닛 정격난방소비전력1) [W]
A12: 실내유닛 | B12: 모델명(타입) X 대수
B13: 조합 냉방능력 [W] | C13: 38000 | F13: 실외유닛 및 실내유닛 조합상태 | H13: 1:8
B14: 정격풍량1) [m3/min] | C14: 196 | F14: 조합 비율2) [%] | H14: =ROUND(C13/C17*100,1) -> 109.2
B15: 시험풍량1)[m3/min] | C15: =IF(C7="멀티형","해당없음", IF(C7="싱글형",ROUND(5.31*(C17/1000),2),"확인필요")) -> 184.79 | F15: 정격전압 | H15: 단상, 220 V, 60 Hz
A16: 압축기제어방식 | C16: 가변용량 | F16: 보조히터 용량 [W] | H16: 0
A17: 정격냉방능력 [W] | C17: 34800 | F17: 정격냉방소비전력3) [W] | H17: 10900
A18: 정격난방능력 [W] | C18: 39200 | F18: 정격난방소비전력3) [W] | H18: 10450
A19: 정격한랭지난방능력1) [W] | C19: 32500 | F19: 정격한랭지난방소비전력1)3) [W] | H19: 16500
A20: 네트워크 기능 | C20: 네트워크제품 | F20: 대기모드4) | H20: =IF(C7="멀티형", "해당없음", IF(C20="일반제품","수동대기",IF(C20="네트워크제품","능동대기"))) -> 능동대기
A21: 스마트기능 구현 | C21: 구현 (어플리케이션 : 스마트폰, 표시 : 본체, 스마트폰)
A22: 연결 냉매 배관길이 (주배관) | C22: 50 m (주배관 : 35 m)
A23: 시험일시
A24: ※ 비고 1) 멀티형 전기냉난방기의 경우에만 해당 2) 실외유닛 대비 실내유닛의 조합 냉방능력 비 3) 멀티형의 경우 실외기 유닛 소비전력과 실내기 유닛 소비전력 합산 4) 싱글형 전기냉난방기의 경우에만 해당
A26: 2. 측정결과 및 시스템 운전
A27: 항목 | E27: 시험결과 | F27: 시스템 운전
F28: 압축기 주파수 [Hz] | G28: 실내팬 [RPM] | H28: 실외팬 [RPM] | I28: EEV 개도 [pulse] | J28: EEV full open [pulse]
A29: 냉방운전 | B29: 냉방표준 | C29: 정격 | D29: 능력 [W]
D30: 소비전력 [W]
D31: 실내기 총 풍량[m3/min]
C32: 중간 | D32: 능력 [W]
D33: 소비전력 [W]
D34: 실내기 총 풍량[m3/min]
B35: 냉방저온 | C35: 최소 | D35: 능력 [W]
D36: 소비전력 [W]
D37: 실내기 총 풍량[m3/min]
A38: 난방운전 | B38: 난방표준 | C38: 정격 | D38: 능력 [W]
D39: 소비전력 [W]
D40: 실내기 총 풍량[m3/min]
C41: 중간 | D41: 능력 [W]
D42: 소비전력 [W]
D43: 실내기 총 풍량[m3/min]
C44: 최소 | D44: 능력 [W]
D45: 소비전력 [W]
D46: 실내기 총 풍량[m3/min]
B47: 난방제상 | C47: 최대 | D47: 능력 [W]
D48: 소비전력 [W]
D49: 실내기 총 풍량[m3/min]
B50: 난방저온 | C50: 최대 | D50: 능력 [W]
D51: 소비전력 [W]
D52: 실내기 총 풍량[m3/min]
B53: 한랭지 | C53: 최대 | D53: 능력 [W]
D54: 소비전력 [W]
D55: 실내기 총 풍량[m3/min]
A56: 풍량 결과 | B56: 실내기 총 풍량(최대값)[m3/min] | E56: =IF(C7="멀티형", MAX(E31,E34,E37,E40,E43,E46,E49,E52,E55), "해당없음") -> 해당없음 | F56: =IF(E57>E58,"5.31 m3/(min〮kW) 이하 만족",IF(E57<E58,"정격풍량 105 % 이하 만족","확인 필요")) -> 확인 필요
B57: 기준값 [m3/min] | C57: 정격 풍량의 105 % | E57: =IF(C7="멀티형", ROUND(C14*1.05,2), "해당없음") -> 해당없음
C58: 정격냉방능력 기준(5.31 m3/(min․kW)) | E58: =IF(C7="멀티형", ROUND(5.31*C17/1000,2), "해당없음") -> 해당없음
A59: 대기전력[W] | E59: -
A61: 3. 시험결과
A62: 시험항목 | C62: 단위 | D62: 정격(표시치) | E62: 시험결과 | G62: 허용오차범위 | I62: 합부 판정 | J62: 소수점
A63: 정격냉방능력 | C63: W | D63: =C17 -> 34800 | E63: =ROUND(E29,0) -> 0 | F63: =E63/D63 -> 0 | G63: 표시값의 92%이상 | I63: =IF(E63>=D63*0.92,"합격","불합격") -> 불합격 | J63: 정수
A64: 정격난방능력 | C64: W | D64: =C18 -> 39200 | E64: =ROUND(E38,0) -> 0 | F64: =E64/D64 -> 0 | G64: 표시값의 92%이상 | I64: =IF(E64>=D64*0.92,"합격","불합격") -> 불합격 | J64: 정수
A65: 냉방표준소비전력 | C65: W | D65: =H17 -> 10900 | E65: =ROUND(E30,0) -> 0 | F65: =E65/D65 -> 0 | G65: 정격소비전력 110% 이하 | I65: =IF(E65<=D65*1.1,"합격","불합격") -> 합격 | J65: 정수
A66: 난방표준소비전력 | C66: W | D66: =H18 -> 10450 | E66: =ROUND(E39,0) -> 0 | F66: =E66/D66 -> 0 | G66: 정격소비전력 110% 이하 | I66: =IF(E66<=D66*1.1,"합격","불합격") -> 합격 | J66: 정수
A67: 대기모드(능동/수동)1) | C67: - | D67: - | E67: =IF(C7="멀티형","해당없음", LEFT(H20,2)) -> 능동 | F67: - | G67: - | I67: - | J67: -
A68: 대기전력1) | C68: W | D68: - | E68: =IF(C7="멀티형","해당없음", ROUND(E59,1)) -> #VALUE! | F68: =IF(E68="해당없음", "-", E68/D68) -> #VALUE! | G68: - | I68: - | J68: 첫째
A69: 냉방기간연간소비전력량 | C69: kW·h/년 | D69: =ROUND(D76*2.5,1) -> #DIV/0! | E69: =ROUND(E76*2.5,1) -> #DIV/0! | F69: =E69/D69 -> #DIV/0! | G69: - | I69: - | J69: 첫째
A70: 난방기간연간소비전력량 | C70: kW·h/년 | D70: =D77 -> #DIV/0! | E70: =E77 -> #DIV/0! | F70: =E70/D70 -> #DIV/0! | G70: - | I70: - | J70: 첫째
A71: 냉방기간월간소비전력량 | C71: kW·h | D71: =ROUND(D69/4,1) -> #DIV/0! | E71: =ROUND(E69/4,1) -> #DIV/0! | F71: =E71/D71 -> #DIV/0! | G71: - | I71: - | J71: 첫째
A72: 난방기간월간소비전력량 | C72: kW·h | D72: =ROUND(D77/4,1) -> #DIV/0! | E72: =ROUND(E77/4,1) -> #DIV/0! | F72: =E72/D72 -> #DIV/0! | G72: - | I72: - | J72: 첫째
A73: 보조히터용량 | C73: W | D73: =H16 -> 0 | E73: =ROUND(D73,0) -> 0 | F73: - | G73: - | I73: - | J73: 정수
A74: 냉방기간에너지소비효율 | C74: W/W(CSPF) | D74: 5.9 | E74: ='가변용량(일반)'!D9 -> #DIV/0! | F74: =E74/D74 -> #DIV/0! | G74: 표시값의 92%이상 | I74: =IF(E74>=D74*0.92,"합격","불합격") -> #DIV/0! | J74: 셋째
A75: 난방기간에너지소비효율 | C75: W/W(HSPF) | D75: 3.14 | E75: ='가변용량(일반)'!D47 -> #DIV/0! | F75: =E75/D75 -> #DIV/0! | G75: 표시값의 92%이상 | I75: =IF(E75>=D75*0.92,"합격","불합격") -> #DIV/0! | J75: 셋째
A76: 냉방기간총소비전력량 | C76: kW·h | D76: =E76 -> #DIV/0! | E76: ='가변용량(일반)'!J9 -> #DIV/0! | F76: =E76/D76 -> #DIV/0! | G76: - | I76: - | J76: 첫째
A77: 난방기간총소비전력량 | C77: kW·h | D77: =E77 -> #DIV/0! | E77: ='가변용량(일반)'!$J$47 -> #DIV/0! | F77: =E77/D77 -> #DIV/0! | G77: - | I77: - | J77: 첫째
A78: 냉방기간1시간소비전력량 | C78: W·h | E78: =ROUND(E69*1000/941,0) -> #DIV/0! | F78: =E78/D78 -> #DIV/0! | G78: 표시값의 110%이하 | I78: =IF(E78<=D78*1.1,"합격","불합격") -> #DIV/0! | J78: 정수
A79: 난방기간1시간소비전력량 | C79: W·h | E79: =ROUND(E70*1000/2849,0) -> #DIV/0! | F79: =E79/D79 -> #DIV/0! | G79: 표시값의 110%이하 | I79: =IF(E79<=D79*1.1,"합격","불합격") -> #DIV/0! | J79: 정수
A80: 냉방기간1시간사용시CO2배출량 | C80: g/h | D80: =ROUND(D78*0.425,0) -> 0 | E80: =ROUND(E78*0.425,0) -> #DIV/0! | F80: =E80/D80 -> #DIV/0! | G80: - | I80: - | J80: 정수
A81: 난방기간1시간사용시CO2배출량 | C81: g/h | D81: =ROUND(D79*0.425,0) -> 0 | E81: =ROUND(E79*0.425,0) -> #DIV/0! | F81: =E81/D81 -> #DIV/0! | G81: - | I81: - | J81: 정수
A82: 냉방기간월간에너지비용 | C82: 원 | E82: =ROUND(E71*113,-3) -> #DIV/0! | F82: =E82/D82 -> #DIV/0! | G82: 표시값의 110%이하 | I82: =IF(E82<=D82*1.1,"합격","불합격") -> #DIV/0! | J82: 정수
A83: 난방기간월간에너지비용 | C83: 원 | E83: =ROUND(E72*113,-3) -> #DIV/0! | F83: =E83/D83 -> #DIV/0! | G83: 표시값의 110%이하 | I83: =IF(E83<=D83*1.1,"합격","불합격") -> #DIV/0! | J83: 정수
A84: 소비효율등급 | C84: - | D84: 1/1 | E84: 1/1 | F84: - | G84: - | I84: - | J84: -
A85: 한랭지난방효율2) | C85: W/W | D85: 1.97 | E85: =IF(C7="멀티형", ROUND(E86/E87,3), "해당없음") -> 해당없음 | F85: =IF(E85="해당없음", "-", E85/D85) -> - | G85: - | I85: - | J85: 셋째
A86: 한랭지난방능력2) | C86: W | D86: =IF(C7="멀티형", C19, "해당없음") -> 해당없음 | E86: =IF(C7="멀티형", ROUND(E53,0), "해당없음") -> 해당없음 | F86: =IF(E86="해당없음", "-", E86/D86) -> - | G86: 표시값의 92% 이상 정격냉방능력 83% 이상 | I86: =IF(C7="멀티형", IF(E86>=D86*0.92,IF(E86>=D63*0.83,"합격","불합격"),"불합격"), "해당없음") -> 해당없음 | J86: 정수
A87: 한랭지난방소비전력2) | C87: W | D87: =IF(C7="멀티형", H19, "해당없음") -> 해당없음 | E87: =IF(C7="멀티형", ROUND(E54,0), "해당없음") -> 해당없음 | F87: =IF(E87="해당없음", "-",E87/D87) -> - | G87: 표시값의 110%이하 | I87: =IF(C7="멀티형", IF(E87<=D87*1.1,"합격","불합격"), "해당없음") -> 해당없음 | J87: 정수
A88: 최대시험풍량2) | C88: m3/min | D88: =IF(C7="멀티형", IF(E57>E58,E58, IF(E57<=E58,E57,"확인필요")), "해당없음") -> 해당없음 | E88: =IF(C7="멀티형", ROUND(E56,2), "해당없음") -> 해당없음 | G88: =IF(C7="멀티형", F56, "해당없음") -> 해당없음 | I88: =IF(C7="멀티형", IF(E88<=D88,"합격", IF(E88>D88,"불합격","확인필요")), "해당없음") -> 해당없음 | J88: 둘째
A89: ※ 비고 1) 싱글형 전기냉난방기의 경우에만 해당 2) 멀티형 전기냉난방기의 경우에만 해당
A92: ★ 참고 : 소비효율 등급 표

Sheet 시험사진(냉난방기)
A1: 전기냉난방기 효율등급 계산시트(제품사진)
J2: Ver.1 2026.06.25
A3: 적용고시 | B3: ='효율계산(냉난방기)'!B3 -> 기후에너지환경부 제2026-137호 효율관리기자재운용규정
A4: 적용기준 | B4: KS C 9306 : 에어컨디셔너
A6: 4. 제품사진
A7: 1) 실내기 전,후 사진 (설치사진 포함)
A8: 전면, 후면, 설치사진
A21: 2) 실외기 전,후 사진 (설치사진 포함)
A22: 전면, 후면, 설치사진
A39: 3) 대기전력 측정 사진 | B39: 대기전력[W]
A40: 설치사진, 측정사진
A57: 4) 스마트 구현
A58: 설치사진, 측정사진

Sheet 가변용량(일반)
B1: 전기냉난방기 효율등급 계산시트(SPF-가변용량)
C3: 모델명(실외기) | H3: ='효율계산(냉난방기)'!C9 -> 0
C4: 정격냉방능력 | H4: ='효율계산(냉난방기)'!D63 -> 34800
B6: 가변용량형 (3점식) CSPF
C8: 결과 | D8: CSPF | E8: 냉방기간 소비전력량 (kWh) | F8: 냉방기간 월간소비전력량 (kWh/월) | G8: 1시간당 소비전력량 (W/h) | H8: CO2 배출량 (g/h) | I8: 냉방기간 총 냉방량 합계 (kWh) | J8: 냉방기간 총 냉방소비전력량합계 (kWh) | K8: 냉방월간에너지비용 [\]
D9: =U36 -> #DIV/0! | E9: =ROUND(J9*2.5,1) -> #DIV/0! | F9: =E9/4 -> #DIV/0! | G9: =ROUND(E9*1000/941,0) -> #DIV/0! | H9: =G9*0.425 -> #DIV/0! | I9: =R36/1000 -> #DIV/0! | J9: =ROUND(S36/1000,1) -> #DIV/0! | K9: =ROUND(F9*113,-3) -> #DIV/0!
E12: 시험조건 | G12: 최소운전 | J12: 중간운전 | M12: 정격운전 | P12: 온도저하계수 | S12: 0.25
E13: 실내측 | F13: 실외측 | G13: 능력 | H13: 소비전력 | I13: EER | J13: 능력 | K13: 소비전력 | L13: EER | M13: 능력 | N13: 소비전력 | O13: EER | P13: 결과보간
E14: 건구/습구 | F14: 건구/습구 | G14: W | H14: W | J14: W | K14: W | M14: W | N14: W | P14: 온도(ta) | Q14: =(70*G16-58*G15+23*H4)/(2*G16-2*G15+H4) -> 23 | R14: 전력(ta) | S14: =H15+(H16-H15)*(35-Q14)/6 -> 0 | T14: 능력(ta) | U14: =($G$15-$G$16)/(35-29)*(Q14-35)+$G$15 -> 0
C15: 표준조건 | E15: 27/19 | F15: 35/24 | G15: =ROUND(G16/1.077,0) -> 0 | H15: =ROUND(H16/0.864,0) -> 0 | I15: =G15/H15 -> #DIV/0! | J15: =ROUND('효율계산(냉난방기)'!E32,0) -> 0 | K15: =ROUND('효율계산(냉난방기)'!E33,0) -> 0 | L15: =J15/K15 -> #DIV/0! | M15: =ROUND('효율계산(냉난방기)'!E29,0) -> 0 | N15: =ROUND('효율계산(냉난방기)'!E30,0) -> 0 | O15: =M15/N15 -> #DIV/0! | P15: 온도(tb) | Q15: =(70*M16-58*M15+23*H4)/(2*M16-2*M15+H4) -> 23 | R15: 전력(tb) | S15: =N15+(N16-N15)*(35-Q15)/6 -> 0 | T15: 능력(tb) | U15: =($M$15-$M$16)/(35-29)*(Q15-35)+$M$15 -> 0
C16: 저온조건 | F16: 29/19 | G16: =ROUND('효율계산(냉난방기)'!E35,0) -> 0 | H16: =ROUND('효율계산(냉난방기)'!E36,0) -> 0 | I16: =G16/H16 -> #DIV/0! | J16: =ROUND(1.077*J15,0) -> 0 | K16: =ROUND(0.864*K15,0) -> 0 | L16: =J16/K16 -> #DIV/0! | M16: =ROUND(1.077*M15,0) -> 0 | N16: =ROUND(0.864*N15,0) -> 0 | O16: =M16/N16 -> #DIV/0! | P16: 온도(tc) | Q16: =(70*J16-58*J15+23*H4)/(2*J16-2*J15+H4) -> 23 | R16: 전력(tc) | S16: =K15+(K16-K15)*(35-Q16)/6 -> 0 | T16: 능력(tc) | U16: =($J$15-$J$16)/(35-29)*(Q16-35)+$J$15 -> 0
C18: 온도빈 | G18: 최소운전 | H18: 최소운전 | I18: 중간운전 | J18: 중간운전 | K18: 정격운전 | L18: 정격운전 | M18: 운전 | R18: 냉방기간 | S18: 냉방기간
C19: 온도구분 | D19: 온도 | E19: 시간 | F19: 건물부하 | G19: 냉방능력 | H19: 소비전력 | I19: 냉방능력 | J19: 소비전력 | K19: 냉방능력 | L19: 소비전력 | M19: 조건 | N19: 가동율 | O19: 운전비율 | P19: 냉방능력 | Q19: 소비전력 | R19: 냉방량 | S19: 냉방소비전력량 | T19: EER | U19: CSPF
C20: J | D20: ℃ | E20: h | F20: W | G20: W | H20: W | I20: W | J20: W | K20: W | L20: W | M20: (1,2,3,4) | N20: X | O20: PLF | P20: W | Q20: W | R20: Wh | S20: Wh
C21: 1 | D21: =23+C21 -> 24 | E21: 152 | F21: =$H$4*(D21-23)/12 -> 2900 | G21: =($G$15-$G$16)/(35-29)*(D21-35)+$G$15 -> 0 | H21: =($H$15-$H$16)/(35-29)*(D21-35)+$H$15 -> 0 | I21: =($J$15-$J$16)/(35-29)*(D21-35)+$J$15 -> 0 | J21: =($K$15-$K$16)/(35-29)*(D21-35)+$K$15 -> 0 | K21: =($M$15-$M$16)/(35-29)*(D21-35)+$M$15 -> 0 | L21: =($N$15-$N$16)/(35-29)*(D21-35)+$N$15 -> 0 | M21: =IF(F21<=G21,1,IF(F21<=I21,2,IF(F21<=K21,3,IF(F21>K21,4)))) -> 4 | N21: =(1<=F21/G21)+(1>F21/G21)*(F21/G21) -> #DIV/0! | O21: =1-$S$12*(1-N21) -> #DIV/0! | P21: =($F21<=$G21)*$G21+(($G21<$F21)*($F21<=$I21))*$F21+(($I21<$F21)*($F21<=$K21))*$F21+($F21>$K21)*$K21 -> 0 | Q21: =($F21<=$G21)*$H21+(($G21<$F21)*($F21<=$I21))*IF($G21=$I21,0,(($S$16-$S$14)/($Q$16-$Q$14)*($D21-$Q$16)+$S$16))+(($I21<$F21)*($F21<=$K21))*IF($I21=$K21,0,(($S$15-$S$16)/($Q$15-$Q$16)*($D21-$Q$15)+$S$15))+($F21>$K21)*$L21 -> 0 | R21: =$P21*$N21*$E21 -> #DIV/0! | S21: =$Q21*$N21/$O21*$E21 -> #DIV/0! | T21: =$P21/$Q21 -> #DIV/0! | U21: =R21/S21 -> #DIV/0!
C22: =C21+1 -> 2 | D22: =23+C22 -> 25 | E22: 146 | F22: =$H$4*(D22-23)/12 -> 5800 | G22: =($G$15-$G$16)/(35-29)*(D22-35)+$G$15 -> 0 | H22: =($H$15-$H$16)/(35-29)*(D22-35)+$H$15 -> 0 | I22: =($J$15-$J$16)/(35-29)*(D22-35)+$J$15 -> 0 | J22: =($K$15-$K$16)/(35-29)*(D22-35)+$K$15 -> 0 | K22: =($M$15-$M$16)/(35-29)*(D22-35)+$M$15 -> 0 | L22: =($N$15-$N$16)/(35-29)*(D22-35)+$N$15 -> 0 | M22: =IF(F22<=G22,1,IF(F22<=I22,2,IF(F22<=K22,3,IF(F22>K22,4)))) -> 4 | N22: =(1<=F22/G22)+(1>F22/G22)*(F22/G22) -> #DIV/0! | O22: =1-$S$12*(1-N22) -> #DIV/0! | P22: =($F22<=$G22)*$G22+(($G22<$F22)*($F22<=$I22))*$F22+(($I22<$F22)*($F22<=$K22))*$F22+($F22>$K22)*$K22 -> 0 | Q22: =($F22<=$G22)*$H22+(($G22<$F22)*($F22<=$I22))*IF($G22=$I22,0,(($S$16-$S$14)/($Q$16-$Q$14)*($D22-$Q$16)+$S$16))+(($I22<$F22)*($F22<=$K22))*IF($I22=$K22,0,(($S$15-$S$16)/($Q$15-$Q$16)*($D22-$Q$15)+$S$15))+($F22>$K22)*$L22 -> 0 | R22: =$P22*$N22*$E22 -> #DIV/0! | S22: =$Q22*$N22/$O22*$E22 -> #DIV/0! | T22: =$P22/$Q22 -> #DIV/0! | U22: =R22/S22 -> #DIV/0!
C23: =C22+1 -> 3 | D23: =23+C23 -> 26 | E23: 140 | F23: =$H$4*(D23-23)/12 -> 8700 | G23: =($G$15-$G$16)/(35-29)*(D23-35)+$G$15 -> 0 | H23: =($H$15-$H$16)/(35-29)*(D23-35)+$H$15 -> 0 | I23: =($J$15-$J$16)/(35-29)*(D23-35)+$J$15 -> 0 | J23: =($K$15-$K$16)/(35-29)*(D23-35)+$K$15 -> 0 | K23: =($M$15-$M$16)/(35-29)*(D23-35)+$M$15 -> 0 | L23: =($N$15-$N$16)/(35-29)*(D23-35)+$N$15 -> 0 | M23: =IF(F23<=G23,1,IF(F23<=I23,2,IF(F23<=K23,3,IF(F23>K23,4)))) -> 4 | N23: =(1<=F23/G23)+(1>F23/G23)*(F23/G23) -> #DIV/0! | O23: =1-$S$12*(1-N23) -> #DIV/0! | P23: =($F23<=$G23)*$G23+(($G23<$F23)*($F23<=$I23))*$F23+(($I23<$F23)*($F23<=$K23))*$F23+($F23>$K23)*$K23 -> 0 | Q23: =($F23<=$G23)*$H23+(($G23<$F23)*($F23<=$I23))*IF($G23=$I23,0,(($S$16-$S$14)/($Q$16-$Q$14)*($D23-$Q$16)+$S$16))+(($I23<$F23)*($F23<=$K23))*IF($I23=$K23,0,(($S$15-$S$16)/($Q$15-$Q$16)*($D23-$Q$15)+$S$15))+($F23>$K23)*$L23 -> 0 | R23: =$P23*$N23*$E23 -> #DIV/0! | S23: =$Q23*$N23/$O23*$E23 -> #DIV/0! | T23: =$P23/$Q23 -> #DIV/0! | U23: =R23/S23 -> #DIV/0!
C24: =C23+1 -> 4 | D24: =23+C24 -> 27 | E24: 130 | F24: =$H$4*(D24-23)/12 -> 11600 | G24: =($G$15-$G$16)/(35-29)*(D24-35)+$G$15 -> 0 | H24: =($H$15-$H$16)/(35-29)*(D24-35)+$H$15 -> 0 | I24: =($J$15-$J$16)/(35-29)*(D24-35)+$J$15 -> 0 | J24: =($K$15-$K$16)/(35-29)*(D24-35)+$K$15 -> 0 | K24: =($M$15-$M$16)/(35-29)*(D24-35)+$M$15 -> 0 | L24: =($N$15-$N$16)/(35-29)*(D24-35)+$N$15 -> 0 | M24: =IF(F24<=G24,1,IF(F24<=I24,2,IF(F24<=K24,3,IF(F24>K24,4)))) -> 4 | N24: =(1<=F24/G24)+(1>F24/G24)*(F24/G24) -> #DIV/0! | O24: =1-$S$12*(1-N24) -> #DIV/0! | P24: =($F24<=$G24)*$G24+(($G24<$F24)*($F24<=$I24))*$F24+(($I24<$F24)*($F24<=$K24))*$F24+($F24>$K24)*$K24 -> 0 | Q24: =($F24<=$G24)*$H24+(($G24<$F24)*($F24<=$I24))*IF($G24=$I24,0,(($S$16-$S$14)/($Q$16-$Q$14)*($D24-$Q$16)+$S$16))+(($I24<$F24)*($F24<=$K24))*IF($I24=$K24,0,(($S$15-$S$16)/($Q$15-$Q$16)*($D24-$Q$15)+$S$15))+($F24>$K24)*$L24 -> 0 | R24: =$P24*$N24*$E24 -> #DIV/0! | S24: =$Q24*$N24/$O24*$E24 -> #DIV/0! | T24: =$P24/$Q24 -> #DIV/0! | U24: =R24/S24 -> #DIV/0!
C25: =C24+1 -> 5 | D25: =23+C25 -> 28 | E25: 112 | F25: =$H$4*(D25-23)/12 -> 14500 | G25: =($G$15-$G$16)/(35-29)*(D25-35)+$G$15 -> 0 | H25: =($H$15-$H$16)/(35-29)*(D25-35)+$H$15 -> 0 | I25: =($J$15-$J$16)/(35-29)*(D25-35)+$J$15 -> 0 | J25: =($K$15-$K$16)/(35-29)*(D25-35)+$K$15 -> 0 | K25: =($M$15-$M$16)/(35-29)*(D25-35)+$M$15 -> 0 | L25: =($N$15-$N$16)/(35-29)*(D25-35)+$N$15 -> 0 | M25: =IF(F25<=G25,1,IF(F25<=I25,2,IF(F25<=K25,3,IF(F25>K25,4)))) -> 4 | N25: =(1<=F25/G25)+(1>F25/G25)*(F25/G25) -> #DIV/0! | O25: =1-$S$12*(1-N25) -> #DIV/0! | P25: =($F25<=$G25)*$G25+(($G25<$F25)*($F25<=$I25))*$F25+(($I25<$F25)*($F25<=$K25))*$F25+($F25>$K25)*$K25 -> 0 | Q25: =($F25<=$G25)*$H25+(($G25<$F25)*($F25<=$I25))*IF($G25=$I25,0,(($S$16-$S$14)/($Q$16-$Q$14)*($D25-$Q$16)+$S$16))+(($I25<$F25)*($F25<=$K25))*IF($I25=$K25,0,(($S$15-$S$16)/($Q$15-$Q$16)*($D25-$Q$15)+$S$15))+($F25>$K25)*$L25 -> 0 | R25: =$P25*$N25*$E25 -> #DIV/0! | S25: =$Q25*$N25/$O25*$E25 -> #DIV/0! | T25: =$P25/$Q25 -> #DIV/0! | U25: =R25/S25 -> #DIV/0!
C26: =C25+1 -> 6 | D26: =23+C26 -> 29 | E26: 89 | F26: =$H$4*(D26-23)/12 -> 17400 | G26: =($G$15-$G$16)/(35-29)*(D26-35)+$G$15 -> 0 | H26: =($H$15-$H$16)/(35-29)*(D26-35)+$H$15 -> 0 | I26: =($J$15-$J$16)/(35-29)*(D26-35)+$J$15 -> 0 | J26: =($K$15-$K$16)/(35-29)*(D26-35)+$K$15 -> 0 | K26: =($M$15-$M$16)/(35-29)*(D26-35)+$M$15 -> 0 | L26: =($N$15-$N$16)/(35-29)*(D26-35)+$N$15 -> 0 | M26: =IF(F26<=G26,1,IF(F26<=I26,2,IF(F26<=K26,3,IF(F26>K26,4)))) -> 4 | N26: =(1<=F26/G26)+(1>F26/G26)*(F26/G26) -> #DIV/0! | O26: =1-$S$12*(1-N26) -> #DIV/0! | P26: =($F26<=$G26)*$G26+(($G26<$F26)*($F26<=$I26))*$F26+(($I26<$F26)*($F26<=$K26))*$F26+($F26>$K26)*$K26 -> 0 | Q26: =($F26<=$G26)*$H26+(($G26<$F26)*($F26<=$I26))*IF($G26=$I26,0,(($S$16-$S$14)/($Q$16-$Q$14)*($D26-$Q$16)+$S$16))+(($I26<$F26)*($F26<=$K26))*IF($I26=$K26,0,(($S$15-$S$16)/($Q$15-$Q$16)*($D26-$Q$15)+$S$15))+($F26>$K26)*$L26 -> 0 | R26: =$P26*$N26*$E26 -> #DIV/0! | S26: =$Q26*$N26/$O26*$E26 -> #DIV/0! | T26: =$P26/$Q26 -> #DIV/0! | U26: =R26/S26 -> #DIV/0!
C27: =C26+1 -> 7 | D27: =23+C27 -> 30 | E27: 69 | F27: =$H$4*(D27-23)/12 -> 20300 | G27: =($G$15-$G$16)/(35-29)*(D27-35)+$G$15 -> 0 | H27: =($H$15-$H$16)/(35-29)*(D27-35)+$H$15 -> 0 | I27: =($J$15-$J$16)/(35-29)*(D27-35)+$J$15 -> 0 | J27: =($K$15-$K$16)/(35-29)*(D27-35)+$K$15 -> 0 | K27: =($M$15-$M$16)/(35-29)*(D27-35)+$M$15 -> 0 | L27: =($N$15-$N$16)/(35-29)*(D27-35)+$N$15 -> 0 | M27: =IF(F27<=G27,1,IF(F27<=I27,2,IF(F27<=K27,3,IF(F27>K27,4)))) -> 4 | N27: =(1<=F27/G27)+(1>F27/G27)*(F27/G27) -> #DIV/0! | O27: =1-$S$12*(1-N27) -> #DIV/0! | P27: =($F27<=$G27)*$G27+(($G27<$F27)*($F27<=$I27))*$F27+(($I27<$F27)*($F27<=$K27))*$F27+($F27>$K27)*$K27 -> 0 | Q27: =($F27<=$G27)*$H27+(($G27<$F27)*($F27<=$I27))*IF($G27=$I27,0,(($S$16-$S$14)/($Q$16-$Q$14)*($D27-$Q$16)+$S$16))+(($I27<$F27)*($F27<=$K27))*IF($I27=$K27,0,(($S$15-$S$16)/($Q$15-$Q$16)*($D27-$Q$15)+$S$15))+($F27>$K27)*$L27 -> 0 | R27: =$P27*$N27*$E27 -> #DIV/0! | S27: =$Q27*$N27/$O27*$E27 -> #DIV/0! | T27: =$P27/$Q27 -> #DIV/0! | U27: =R27/S27 -> #DIV/0!
C28: =C27+1 -> 8 | D28: =23+C28 -> 31 | E28: 47 | F28: =$H$4*(D28-23)/12 -> 23200 | G28: =($G$15-$G$16)/(35-29)*(D28-35)+$G$15 -> 0 | H28: =($H$15-$H$16)/(35-29)*(D28-35)+$H$15 -> 0 | I28: =($J$15-$J$16)/(35-29)*(D28-35)+$J$15 -> 0 | J28: =($K$15-$K$16)/(35-29)*(D28-35)+$K$15 -> 0 | K28: =($M$15-$M$16)/(35-29)*(D28-35)+$M$15 -> 0 | L28: =($N$15-$N$16)/(35-29)*(D28-35)+$N$15 -> 0 | M28: =IF(F28<=G28,1,IF(F28<=I28,2,IF(F28<=K28,3,IF(F28>K28,4)))) -> 4 | N28: =(1<=F28/G28)+(1>F28/G28)*(F28/G28) -> #DIV/0! | O28: =1-$S$12*(1-N28) -> #DIV/0! | P28: =($F28<=$G28)*$G28+(($G28<$F28)*($F28<=$I28))*$F28+(($I28<$F28)*($F28<=$K28))*$F28+($F28>$K28)*$K28 -> 0 | Q28: =($F28<=$G28)*$H28+(($G28<$F28)*($F28<=$I28))*IF($G28=$I28,0,(($S$16-$S$14)/($Q$16-$Q$14)*($D28-$Q$16)+$S$16))+(($I28<$F28)*($F28<=$K28))*IF($I28=$K28,0,(($S$15-$S$16)/($Q$15-$Q$16)*($D28-$Q$15)+$S$15))+($F28>$K28)*$L28 -> 0 | R28: =$P28*$N28*$E28 -> #DIV/0! | S28: =$Q28*$N28/$O28*$E28 -> #DIV/0! | T28: =$P28/$Q28 -> #DIV/0! | U28: =R28/S28 -> #DIV/0!
C29: =C28+1 -> 9 | D29: =23+C29 -> 32 | E29: 29 | F29: =$H$4*(D29-23)/12 -> 26100 | G29: =($G$15-$G$16)/(35-29)*(D29-35)+$G$15 -> 0 | H29: =($H$15-$H$16)/(35-29)*(D29-35)+$H$15 -> 0 | I29: =($J$15-$J$16)/(35-29)*(D29-35)+$J$15 -> 0 | J29: =($K$15-$K$16)/(35-29)*(D29-35)+$K$15 -> 0 | K29: =($M$15-$M$16)/(35-29)*(D29-35)+$M$15 -> 0 | L29: =($N$15-$N$16)/(35-29)*(D29-35)+$N$15 -> 0 | M29: =IF(F29<=G29,1,IF(F29<=I29,2,IF(F29<=K29,3,IF(F29>K29,4)))) -> 4 | N29: =(1<=F29/G29)+(1>F29/G29)*(F29/G29) -> #DIV/0! | O29: =1-$S$12*(1-N29) -> #DIV/0! | P29: =($F29<=$G29)*$G29+(($G29<$F29)*($F29<=$I29))*$F29+(($I29<$F29)*($F29<=$K29))*$F29+($F29>$K29)*$K29 -> 0 | Q29: =($F29<=$G29)*$H29+(($G29<$F29)*($F29<=$I29))*IF($G29=$I29,0,(($S$16-$S$14)/($Q$16-$Q$14)*($D29-$Q$16)+$S$16))+(($I29<$F29)*($F29<=$K29))*IF($I29=$K29,0,(($S$15-$S$16)/($Q$15-$Q$16)*($D29-$Q$15)+$S$15))+($F29>$K29)*$L29 -> 0 | R29: =$P29*$N29*$E29 -> #DIV/0! | S29: =$Q29*$N29/$O29*$E29 -> #DIV/0! | T29: =$P29/$Q29 -> #DIV/0! | U29: =R29/S29 -> #DIV/0!
C30: =C29+1 -> 10 | D30: =23+C30 -> 33 | E30: 14 | F30: =$H$4*(D30-23)/12 -> 29000 | G30: =($G$15-$G$16)/(35-29)*(D30-35)+$G$15 -> 0 | H30: =($H$15-$H$16)/(35-29)*(D30-35)+$H$15 -> 0 | I30: =($J$15-$J$16)/(35-29)*(D30-35)+$J$15 -> 0 | J30: =($K$15-$K$16)/(35-29)*(D30-35)+$K$15 -> 0 | K30: =($M$15-$M$16)/(35-29)*(D30-35)+$M$15 -> 0 | L30: =($N$15-$N$16)/(35-29)*(D30-35)+$N$15 -> 0 | M30: =IF(F30<=G30,1,IF(F30<=I30,2,IF(F30<=K30,3,IF(F30>K30,4)))) -> 4 | N30: =(1<=F30/G30)+(1>F30/G30)*(F30/G30) -> #DIV/0! | O30: =1-$S$12*(1-N30) -> #DIV/0! | P30: =($F30<=$G30)*$G30+(($G30<$F30)*($F30<=$I30))*$F30+(($I30<$F30)*($F30<=$K30))*$F30+($F30>$K30)*$K30 -> 0 | Q30: =($F30<=$G30)*$H30+(($G30<$F30)*($F30<=$I30))*IF($G30=$I30,0,(($S$16-$S$14)/($Q$16-$Q$14)*($D30-$Q$16)+$S$16))+(($I30<$F30)*($F30<=$K30))*IF($I30=$K30,0,(($S$15-$S$16)/($Q$15-$Q$16)*($D30-$Q$15)+$S$15))+($F30>$K30)*$L30 -> 0 | R30: =$P30*$N30*$E30 -> #DIV/0! | S30: =$Q30*$N30/$O30*$E30 -> #DIV/0! | T30: =$P30/$Q30 -> #DIV/0! | U30: =R30/S30 -> #DIV/0!
C31: =C30+1 -> 11 | D31: =23+C31 -> 34 | E31: 6 | F31: =$H$4*(D31-23)/12 -> 31900 | G31: =($G$15-$G$16)/(35-29)*(D31-35)+$G$15 -> 0 | H31: =($H$15-$H$16)/(35-29)*(D31-35)+$H$15 -> 0 | I31: =($J$15-$J$16)/(35-29)*(D31-35)+$J$15 -> 0 | J31: =($K$15-$K$16)/(35-29)*(D31-35)+$K$15 -> 0 | K31: =($M$15-$M$16)/(35-29)*(D31-35)+$M$15 -> 0 | L31: =($N$15-$N$16)/(35-29)*(D31-35)+$N$15 -> 0 | M31: =IF(F31<=G31,1,IF(F31<=I31,2,IF(F31<=K31,3,IF(F31>K31,4)))) -> 4 | N31: =(1<=F31/G31)+(1>F31/G31)*(F31/G31) -> #DIV/0! | O31: =1-$S$12*(1-N31) -> #DIV/0! | P31: =($F31<=$G31)*$G31+(($G31<$F31)*($F31<=$I31))*$F31+(($I31<$F31)*($F31<=$K31))*$F31+($F31>$K31)*$K31 -> 0 | Q31: =($F31<=$G31)*$H31+(($G31<$F31)*($F31<=$I31))*IF($G31=$I31,0,(($S$16-$S$14)/($Q$16-$Q$14)*($D31-$Q$16)+$S$16))+(($I31<$F31)*($F31<=$K31))*IF($I31=$K31,0,(($S$15-$S$16)/($Q$15-$Q$16)*($D31-$Q$15)+$S$15))+($F31>$K31)*$L31 -> 0 | R31: =$P31*$N31*$E31 -> #DIV/0! | S31: =$Q31*$N31/$O31*$E31 -> #DIV/0! | T31: =$P31/$Q31 -> #DIV/0! | U31: =R31/S31 -> #DIV/0!
C32: =C31+1 -> 12 | D32: =23+C32 -> 35 | E32: 4 | F32: =$H$4*(D32-23)/12 -> 34800 | G32: =($G$15-$G$16)/(35-29)*(D32-35)+$G$15 -> 0 | H32: =($H$15-$H$16)/(35-29)*(D32-35)+$H$15 -> 0 | I32: =($J$15-$J$16)/(35-29)*(D32-35)+$J$15 -> 0 | J32: =($K$15-$K$16)/(35-29)*(D32-35)+$K$15 -> 0 | K32: =($M$15-$M$16)/(35-29)*(D32-35)+$M$15 -> 0 | L32: =($N$15-$N$16)/(35-29)*(D32-35)+$N$15 -> 0 | M32: =IF(F32<=G32,1,IF(F32<=I32,2,IF(F32<=K32,3,IF(F32>K32,4)))) -> 4 | N32: =(1<=F32/G32)+(1>F32/G32)*(F32/G32) -> #DIV/0! | O32: =1-$S$12*(1-N32) -> #DIV/0! | P32: =($F32<=$G32)*$G32+(($G32<$F32)*($F32<=$I32))*$F32+(($I32<$F32)*($F32<=$K32))*$F32+($F32>$K32)*$K32 -> 0 | Q32: =($F32<=$G32)*$H32+(($G32<$F32)*($F32<=$I32))*IF($G32=$I32,0,(($S$16-$S$14)/($Q$16-$Q$14)*($D32-$Q$16)+$S$16))+(($I32<$F32)*($F32<=$K32))*IF($I32=$K32,0,(($S$15-$S$16)/($Q$15-$Q$16)*($D32-$Q$15)+$S$15))+($F32>$K32)*$L32 -> 0 | R32: =$P32*$N32*$E32 -> #DIV/0! | S32: =$Q32*$N32/$O32*$E32 -> #DIV/0! | T32: =$P32/$Q32 -> #DIV/0! | U32: =R32/S32 -> #DIV/0!
C33: =C32+1 -> 13 | D33: =23+C33 -> 36 | E33: 2 | F33: =$H$4*(D33-23)/12 -> 37700 | G33: =($G$15-$G$16)/(35-29)*(D33-35)+$G$15 -> 0 | H33: =($H$15-$H$16)/(35-29)*(D33-35)+$H$15 -> 0 | I33: =($J$15-$J$16)/(35-29)*(D33-35)+$J$15 -> 0 | J33: =($K$15-$K$16)/(35-29)*(D33-35)+$K$15 -> 0 | K33: =($M$15-$M$16)/(35-29)*(D33-35)+$M$15 -> 0 | L33: =($N$15-$N$16)/(35-29)*(D33-35)+$N$15 -> 0 | M33: =IF(F33<=G33,1,IF(F33<=I33,2,IF(F33<=K33,3,IF(F33>K33,4)))) -> 4 | N33: =(1<=F33/G33)+(1>F33/G33)*(F33/G33) -> #DIV/0! | O33: =1-$S$12*(1-N33) -> #DIV/0! | P33: =($F33<=$G33)*$G33+(($G33<$F33)*($F33<=$I33))*$F33+(($I33<$F33)*($F33<=$K33))*$F33+($F33>$K33)*$K33 -> 0 | Q33: =($F33<=$G33)*$H33+(($G33<$F33)*($F33<=$I33))*IF($G33=$I33,0,(($S$16-$S$14)/($Q$16-$Q$14)*($D33-$Q$16)+$S$16))+(($I33<$F33)*($F33<=$K33))*IF($I33=$K33,0,(($S$15-$S$16)/($Q$15-$Q$16)*($D33-$Q$15)+$S$15))+($F33>$K33)*$L33 -> 0 | R33: =$P33*$N33*$E33 -> #DIV/0! | S33: =$Q33*$N33/$O33*$E33 -> #DIV/0! | T33: =$P33/$Q33 -> #DIV/0! | U33: =R33/S33 -> #DIV/0!
... C35: =C34+1 -> 15 | D35: =23+C35 -> 38 | E35: 0 | F35: =$H$4*(D35-23)/12 -> 43500 | G35: =($G$15-$G$16)/(35-29)*(D35-35)+$G$15 -> 0 | H35: =($H$15-$H$16)/(35-29)*(D35-35)+$H$15 -> 0 | I35: =($J$15-$J$16)/(35-29)*(D35-35)+$J$15 -> 0 | J35: =($K$15-$K$16)/(35-29)*(D35-35)+$K$15 -> 0 | K35: =($M$15-$M$16)/(35-29)*(D35-35)+$M$15 -> 0 | L35: =($N$15-$N$16)/(35-29)*(D35-35)+$N$15 -> 0 | M35: =IF(F35<=G35,1,IF(F35<=I35,2,IF(F35<=K35,3,IF(F35>K35,4)))) -> 4 | N35: =(1<=F35/G35)+(1>F35/G35)*(F35/G35) -> #DIV/0! | O35: =1-$S$12*(1-N35) -> #DIV/0! | P35: =($F35<=$G35)*$G35+(($G35<$F35)*($F35<=$I35))*$F35+(($I35<$F35)*($F35<=$K35))*$F35+($F35>$K35)*$K35 -> 0 | Q35: =($F35<=$G35)*$H35+(($G35<$F35)*($F35<=$I35))*IF($G35=$I35,0,(($S$16-$S$14)/($Q$16-$Q$14)*($D35-$Q$16)+$S$16))+(($I35<$F35)*($F35<=$K35))*IF($I35=$K35,0,(($S$15-$S$16)/($Q$15-$Q$16)*($D35-$Q$15)+$S$15))+($F35>$K35)*$L35 -> 0 | R35: =$P35*$N35*$E35 -> #DIV/0! | S35: =$Q35*$N35/$O35*$E35 -> #DIV/0! | T35: =$P35/$Q35 -> #DIV/0! | U35: =R35/S35 -> #DIV/0!
C36: 계 | E36: =SUM(E21:E35) -> 941 | R36: =SUM(R21:R35) -> #DIV/0! | S36: =SUM(S21:S35) -> #DIV/0! | U36: =R36/S36 -> #DIV/0!
B42: 가변용량형 (5점식) HSPF
C44: 결과 | D44: HSPF | E44: 난방기간 소비전력량 (kWh) | F44: 난방기간 월간소비 전력량 (kWh/월) | G44: 1시간당 소비전력량 (W/h) | H44: CO2 배출량 (g/h) | I44: 건물난방부하합계 (kWh) | J44: 난방기간 총난방소비 전력량합계 (kWh) | K44: 난방월간 에너지비용 [\] | N44: 결과보간 | O44: a | P44: b | Q44: c | R44: d | S44: e | T44: f | U44: g
N45: 온도 | O45: =(224*U51-112*M53-112*M56)/(14*U51+16*M53-16*M56) -> 16 | P45: =(144*U51-112*M54*P54/P55-32*M56)/(9*U51+16*M54*P54/P55-16*M56) -> #DIV/0! | Q45: =(224*U51-112*G53-112*G56)/(14*U51+16*G53-16*G56) -> 16 | R45: =(144*U51-112*G54*P54/P55-32*G56)/(9*U51+16*G54*P54/P55-16*G56) -> #DIV/0! | S45: =(224*U51-112*J53-112*J56)/(14*U51+16*J53-16*J56) -> 16 | T45: =(144*U51-112*J54*P54/P55-32*J56)/(9*U51+16*J54*P54/P55-16*J56) -> #DIV/0! | U45: =(144*U51-112*P54-32*P56)/(9*U51+16*P54-16*P56) -> 16
N46: 능력 | O46: =M56+(M53-M56)*(O45-(-7))/(7-(-7)) -> 0 | P46: =M56+(M54*P54/P55-M56)*(P45-(-7))/(2-(-7)) -> #DIV/0! | Q46: =G56+(G53-G56)*(Q45-(-7))/(7-(-7)) -> 0 | R46: =G56+(G54*P54/P55-G56)*(R45-(-7))/(2-(-7)) -> #DIV/0! | S46: =J56+(J53-J56)*(S45-(-7))/(7-(-7)) -> 0 | T46: =J56+(J54*P55/P54-J56)*(T45-(-7))/(2-(-7)) -> #DIV/0! | U46: =P56+(P54-P56)*(U45-(-7))/(2-(-7)) -> 0
D47: =R91/(S91+T91) -> #DIV/0! | E47: =ROUND((S91+T91)/1000,1) -> #DIV/0! | F47: =E47/4 -> #DIV/0! | G47: =ROUND(E47*1000/2849,0) -> #DIV/0! | H47: =G47*0.425 -> #DIV/0! | I47: =R91/1000 -> 64295.175 | J47: =ROUND((S91+T91)/1000,1) -> #DIV/0! | K47: =ROUND(F47*113,-3) -> #DIV/0! | N47: 소비전력 | O47: =N56+(N53-N56)*(O45-(-7))/(7-(-7)) -> 0 | P47: =N56+(N54*Q54/Q55-N56)*(P45-(-7))/(2-(-7)) -> #DIV/0! | Q47: =H56+(H53-H56)*(Q45-(-7))/(7-(-7)) -> 0 | R47: =H56+(H54*Q54/Q55-H56)*(R45-(-7))/(2-(-7)) -> #DIV/0! | S47: =K56+(K53-K56)*(S45-(-7))/(7-(-7)) -> 0 | T47: =K56+(K54*Q54/Q55-K56)*(T45-(-7))/(2-(-7)) -> #DIV/0! | U47: =Q56+(Q54-Q56)*(U45-(-7))/(2-(-7)) -> 0
E50: 시험조건 | G50: 최소운전 | J50: 중간운전 | M50: 정격운전 | P50: 최대운전 | S50: 냉방능력 | U50: =H4 -> 34800
E51: 실내측 | F51: 실외측 | G51: 능력 | H51: 소비전력 | I51: COP | J51: 능력 | K51: 소비전력 | L51: COP | M51: 능력 | N51: 소비전력 | O51: COP | P51: 능력 | Q51: 소비전력 | R51: COP | S51: 난방건물부하 (0℃) | U51: =$U$50*0.82 -> 28536
E52: 건구/습구 | F52: 건구/습구 | G52: W | H52: W | J52: W | K52: W | M52: W | N52: W | P52: W | Q52: W | S52: 보조히터 | U52: ='효율계산(냉난방기)'!D73 -> 0
C53: 표준조건 | E53: 20/15 | F53: 7/6 | G53: =ROUND('효율계산(냉난방기)'!E44,0) -> 0 | H53: =ROUND('효율계산(냉난방기)'!E45,0) -> 0 | I53: =G53/H53 -> #DIV/0! | J53: =ROUND('효율계산(냉난방기)'!E41,0) -> 0 | K53: =ROUND('효율계산(냉난방기)'!E42,0) -> 0 | L53: =J53/K53 -> #DIV/0! | M53: =ROUND('효율계산(냉난방기)'!E38,0) -> 0 | N53: =ROUND('효율계산(냉난방기)'!E39,0) -> 0 | O53: =M53/N53 -> #DIV/0! | P53: - | Q53: - | R53: - | S53: 운전율 | U53: =IF((U52*1000/U50)<1,U52*1000/U50,1) -> 0
C54: 제상조건 | D54: 착상 | E54: 20/15 | F54: 2/1 | G54: =ROUND(G56+(G53-G56)*(2-(-7))/(7-(-7)),0) -> 0 | H54: =ROUND(H56+(H53-H56)*(2-(-7))/(7-(-7)),0) -> 0 | I54: =G54/H54 -> #DIV/0! | J54: =ROUND(J56+(J53-J56)*(2-(-7))/(7-(-7)),0) -> 0 | K54: =ROUND(K56+(K53-K56)*(2-(-7))/(7-(-7)),0) -> 0 | L54: =J54/K54 -> #DIV/0! | M54: =ROUND(M56+(M53-M56)*(2-(-7))/(7-(-7)),0) -> 0 | N54: =ROUND(N56+(N53-N56)*(2-(-7))/(7-(-7)),0) -> 0 | O54: =M54/N54 -> #DIV/0! | P54: =ROUND('효율계산(냉난방기)'!E47,0) -> 0 | Q54: =ROUND('효율계산(냉난방기)'!E48,0) -> 0 | R54: =P54/Q54 -> #DIV/0! | S54: 온도저하계수 | U54: 0.25
D55: 무착상 | E55: 20/15 | F55: 2/1 | G55: - | H55: - | I55: - | J55: - | K55: - | L55: - | M55: - | N55: - | O55: - | P55: =ROUND(P54*1.12,0) -> 0 | Q55: =ROUND(Q54*1.06,0) -> 0 | R55: =P55/Q55 -> #DIV/0!
C56: 저온조건 | E56: 20/15 | F56: -7/-8 | G56: =ROUND(0.601*G53,0) -> 0 | H56: =ROUND(0.801*H53,0) -> 0 | I56: =G56/H56 -> #DIV/0! | J56: =ROUND(0.601*J53,0) -> 0 | K56: =ROUND(0.801*K53,0) -> 0 | L56: =J56/K56 -> #DIV/0! | M56: =ROUND(0.601*M53,0) -> 0 | N56: =ROUND(0.801*N53,0) -> 0 | O56: =M56/N56 -> #DIV/0! | P56: =ROUND('효율계산(냉난방기)'!E50,0) -> 0 | Q56: ='효율계산(냉난방기)'!E51 -> 0 | R56: =P56/Q56 -> #DIV/0!
C58: 온도구분 | D58: 온도 | E58: 시간 | F58: 건물부하 | G58: 최소운전 | H58: 최소운전 | I58: 중간운전 | J58: 중간운전 | K58: 정격운전 | L58: 정격운전 | M58: 최대운전 | N58: 운전 | O58: 가동율 | P58: 운전비율 | Q58: 난방소비전력 | R58: 건물난방부하 | S58: 난방 | T58: 전열장치 | U58: HSPF
C59: J | D59: ℃ | E59: h | F59: W | G59: 난방능력 | H59: 소비전력 | I59: 난방능력 | J59: 소비전력 | K59: 난방능력 | L59: 소비전력 | M59: 난방능력 | N59: 조건 | O59: X | P59: PLF | S59: 소비전력량 | T59: 소비전력량
C60: 1 | D60: -15 | E60: 2 | F60: =(16-D60)/16*U$51 -> 55288.5 | G60: =G$56+(G$53-G$56)*(D60-(-7))/(7-(-7)) -> 0 | H60: =H$56+(H$53-H$56)*(D60-(-7))/(7-(-7)) -> 0 | I60: =J$56+(J$53-J$56)*(D60-(-7))/(7-(-7)) -> 0 | J60: =K$56+(K$53-K$56)*(D60-(-7))/(7-(-7)) -> 0 | K60: =M$56+(M$53-M$56)*(D60-(-7))/(7-(-7)) -> 0 | L60: =N$56+(N$53-N$56)*(D60-(-7))/(7-(-7)) -> 0 | M60: =P$56+(P$54-P$56)*(D60-(-7))/(2-(-7)) -> 0 | N60: =IF(F60<G60,1,2) -> 2 | O60: =IF(N60=1,F60/G60,1) -> 1 | P60: =1-U$54*(1-O60) -> 1 | Q60: =Q$56+(Q$54-Q$56)*(D60-(-7))/(2-(-7)) -> 0 | R60: =F60*E60 -> 110577 | S60: =Q60*E60*O60/P60 -> 0 | T60: =IF(F60>M60,(F60-M60)*E60+U$52*U$53*E60*1000,0) -> 110577 | U60: =R60/(S60+T60) -> 1
C61: =C60+1 -> 2 | D61: =D60+1 -> -14 | E61: 3 | F61: =(16-D61)/16*U$51 -> 53505 | G61: =G$56+(G$53-G$56)*(D61-(-7))/(7-(-7)) -> 0 | H61: =H$56+(H$53-H$56)*(D61-(-7))/(7-(-7)) -> 0 | I61: =J$56+(J$53-J$56)*(D61-(-7))/(7-(-7)) -> 0 | J61: =K$56+(K$53-K$56)*(D61-(-7))/(7-(-7)) -> 0 | K61: =M$56+(M$53-M$56)*(D61-(-7))/(7-(-7)) -> 0 | L61: =N$56+(N$53-N$56)*(D61-(-7))/(7-(-7)) -> 0 | M61: =P$56+(P$54-P$56)*(D61-(-7))/(2-(-7)) -> 0 | N61: =IF(F61<G61,1,2) -> 2 | O61: =IF(N61=1,F61/G61,1) -> 1 | P61: =1-U$54*(1-O61) -> 1 | Q61: =Q$56+(Q$54-Q$56)*(D61-(-7))/(2-(-7)) -> 0 | R61: =F61*E61 -> 160515 | S61: =Q61*E61*O61/P61 -> 0 | T61: =IF(F61>M61,(F61-M61)*E61+U$52*U$53*E61*1000,0) -> 160515 | U61: =R61/(S61+T61) -> 1
C62: =C61+1 -> 3 | D62: =D61+1 -> -13 | E62: 5 | F62: =(16-D62)/16*U$51 -> 51721.5 | G62: =G$56+(G$53-G$56)*(D62-(-7))/(7-(-7)) -> 0 | H62: =H$56+(H$53-H$56)*(D62-(-7))/(7-(-7)) -> 0 | I62: =J$56+(J$53-J$56)*(D62-(-7))/(7-(-7)) -> 0 | J62: =K$56+(K$53-K$56)*(D62-(-7))/(7-(-7)) -> 0 | K62: =M$56+(M$53-M$56)*(D62-(-7))/(7-(-7)) -> 0 | L62: =N$56+(N$53-N$56)*(D62-(-7))/(7-(-7)) -> 0 | M62: =P$56+(P$54-P$56)*(D62-(-7))/(2-(-7)) -> 0 | N62: =IF(F62<G62,1,2) -> 2 | O62: =IF(N62=1,F62/G62,1) -> 1 | P62: =1-U$54*(1-O62) -> 1 | Q62: =Q$56+(Q$54-Q$56)*(D62-(-7))/(2-(-7)) -> 0 | R62: =F62*E62 -> 258607.5 | S62: =Q62*E62*O62/P62 -> 0 | T62: =IF(F62>M62,(F62-M62)*E62+U$52*U$53*E62*1000,0) -> 258607.5 | U62: =R62/(S62+T62) -> 1
C63: =C62+1 -> 4 | D63: =D62+1 -> -12 | E63: 6 | F63: =(16-D63)/16*U$51 -> 49938 | G63: =G$56+(G$53-G$56)*(D63-(-7))/(7-(-7)) -> 0 | H63: =H$56+(H$53-H$56)*(D63-(-7))/(7-(-7)) -> 0 | I63: =J$56+(J$53-J$56)*(D63-(-7))/(7-(-7)) -> 0 | J63: =K$56+(K$53-K$56)*(D63-(-7))/(7-(-7)) -> 0 | K63: =M$56+(M$53-M$56)*(D63-(-7))/(7-(-7)) -> 0 | L63: =N$56+(N$53-N$56)*(D63-(-7))/(7-(-7)) -> 0 | M63: =P$56+(P$54-P$56)*(D63-(-7))/(2-(-7)) -> 0 | N63: =IF(F63<G63,1,2) -> 2 | O63: =IF(N63=1,F63/G63,1) -> 1 | P63: =1-U$54*(1-O63) -> 1 | Q63: =Q$56+(Q$54-Q$56)*(D63-(-7))/(2-(-7)) -> 0 | R63: =F63*E63 -> 299628 | S63: =Q63*E63*O63/P63 -> 0 | T63: =IF(F63>M63,(F63-M63)*E63+U$52*U$53*E63*1000,0) -> 299628 | U63: =R63/(S63+T63) -> 1
C64: =C63+1 -> 5 | D64: =D63+1 -> -11 | E64: 6 | F64: =(16-D64)/16*U$51 -> 48154.5 | G64: =G$56+(G$53-G$56)*(D64-(-7))/(7-(-7)) -> 0 | H64: =H$56+(H$53-H$56)*(D64-(-7))/(7-(-7)) -> 0 | I64: =J$56+(J$53-J$56)*(D64-(-7))/(7-(-7)) -> 0 | J64: =K$56+(K$53-K$56)*(D64-(-7))/(7-(-7)) -> 0 | K64: =M$56+(M$53-M$56)*(D64-(-7))/(7-(-7)) -> 0 | L64: =N$56+(N$53-N$56)*(D64-(-7))/(7-(-7)) -> 0 | M64: =P$56+(P$54-P$56)*(D64-(-7))/(2-(-7)) -> 0 | N64: =IF(F64<G64,1,2) -> 2 | O64: =IF(N64=1,F64/G64,1) -> 1 | P64: =1-U$54*(1-O64) -> 1 | Q64: =Q$56+(Q$54-Q$56)*(D64-(-7))/(2-(-7)) -> 0 | R64: =F64*E64 -> 288927 | S64: =Q64*E64*O64/P64 -> 0 | T64: =IF(F64>M64,(F64-M64)*E64+U$52*U$53*E64*1000,0) -> 288927 | U64: =R64/(S64+T64) -> 1
C65: =C64+1 -> 6 | D65: =D64+1 -> -10 | E65: 9 | F65: =(16-D65)/16*U$51 -> 46371 | G65: =G$56+(G$53-G$56)*(D65-(-7))/(7-(-7)) -> 0 | H65: =H$56+(H$53-H$56)*(D65-(-7))/(7-(-7)) -> 0 | I65: =J$56+(J$53-J$56)*(D65-(-7))/(7-(-7)) -> 0 | J65: =K$56+(K$53-K$56)*(D65-(-7))/(7-(-7)) -> 0 | K65: =M$56+(M$53-M$56)*(D65-(-7))/(7-(-7)) -> 0 | L65: =N$56+(N$53-N$56)*(D65-(-7))/(7-(-7)) -> 0 | M65: =P$56+(P$54-P$56)*(D65-(-7))/(2-(-7)) -> 0 | N65: =IF(F65<G65,1,2) -> 2 | O65: =IF(N65=1,F65/G65,1) -> 1 | P65: =1-U$54*(1-O65) -> 1 | Q65: =Q$56+(Q$54-Q$56)*(D65-(-7))/(2-(-7)) -> 0 | R65: =F65*E65 -> 417339 | S65: =Q65*E65*O65/P65 -> 0 | T65: =IF(F65>M65,(F65-M65)*E65+U$52*U$53*E65*1000,0) -> 417339 | U65: =R65/(S65+T65) -> 1
C66: =C65+1 -> 7 | D66: =D65+1 -> -9 | E66: 14 | F66: =(16-D66)/16*U$51 -> 44587.5 | G66: =G$56+(G$53-G$56)*(D66-(-7))/(7-(-7)) -> 0 | H66: =H$56+(H$53-H$56)*(D66-(-7))/(7-(-7)) -> 0 | I66: =J$56+(J$53-J$56)*(D66-(-7))/(7-(-7)) -> 0 | J66: =K$56+(K$53-K$56)*(D66-(-7))/(7-(-7)) -> 0 | K66: =M$56+(M$53-M$56)*(D66-(-7))/(7-(-7)) -> 0 | L66: =N$56+(N$53-N$56)*(D66-(-7))/(7-(-7)) -> 0 | M66: =P$56+(P$54-P$56)*(D66-(-7))/(2-(-7)) -> 0 | N66: =IF(F66<G66,1,2) -> 2 | O66: =IF(N66=1,F66/G66,1) -> 1 | P66: =1-U$54*(1-O66) -> 1 | Q66: =Q$56+(Q$54-Q$56)*(D66-(-7))/(2-(-7)) -> 0 | R66: =F66*E66 -> 624225 | S66: =Q66*E66*O66/P66 -> 0 | T66: =IF(F66>M66,(F66-M66)*E66+U$52*U$53*E66*1000,0) -> 624225 | U66: =R66/(S66+T66) -> 1
C67: =C66+1 -> 8 | D67: =D66+1 -> -8 | E67: 21 | F67: =(16-D67)/16*U$51 -> 42804 | G67: =G$56+(G$53-G$56)*(D67-(-7))/(7-(-7)) -> 0 | H67: =H$56+(H$53-H$56)*(D67-(-7))/(7-(-7)) -> 0 | I67: =J$56+(J$53-J$56)*(D67-(-7))/(7-(-7)) -> 0 | J67: =K$56+(K$53-K$56)*(D67-(-7))/(7-(-7)) -> 0 | K67: =M$56+(M$53-M$56)*(D67-(-7))/(7-(-7)) -> 0 | L67: =N$56+(N$53-N$56)*(D67-(-7))/(7-(-7)) -> 0 | M67: =P$56+(P$54-P$56)*(D67-(-7))/(2-(-7)) -> 0 | N67: =IF(F67<G67,1,2) -> 2 | O67: =IF(N67=1,F67/G67,1) -> 1 | P67: =1-U$54*(1-O67) -> 1 | Q67: =Q$56+(Q$54-Q$56)*(D67-(-7))/(2-(-7)) -> 0 | R67: =F67*E67 -> 898884 | S67: =Q67*E67*O67/P67 -> 0 | T67: =IF(F67>M67,(F67-M67)*E67+U$52*U$53*E67*1000,0) -> 898884 | U67: =R67/(S67+T67) -> 1
C68: =C67+1 -> 9 | D68: =D67+1 -> -7 | E68: 30 | F68: =(16-D68)/16*U$51 -> 41020.5 | G68: =G$56+(G$53-G$56)*(D68-(-7))/(7-(-7)) -> 0 | H68: =H$56+(H$53-H$56)*(D68-(-7))/(7-(-7)) -> 0 | I68: =J$56+(J$53-J$56)*(D68-(-7))/(7-(-7)) -> 0 | J68: =K$56+(K$53-K$56)*(D68-(-7))/(7-(-7)) -> 0 | K68: =M$56+(M$53-M$56)*(D68-(-7))/(7-(-7)) -> 0 | L68: =N$56+(N$53-N$56)*(D68-(-7))/(7-(-7)) -> 0 | M68: =P$56+(P$54-P$56)*(D68-(-7))/(2-(-7)) -> 0 | N68: =IF(F68<G68,1,2) -> 2 | O68: =IF(N68=1,F68/G68,1) -> 1 | P68: =1-U$54*(1-O68) -> 1 | Q68: =Q$56+(Q$54-Q$56)*(D68-(-7))/(2-(-7)) -> 0 | R68: =F68*E68 -> 1230615 | S68: =Q68*E68*O68/P68 -> 0 | T68: =IF(F68>M68,(F68-M68)*E68+U$52*U$53*E68*1000,0) -> 1230615 | U68: =R68/(S68+T68) -> 1
C69: =C68+1 -> 10 | D69: =D68+1 -> -6 | E69: 43 | F69: =(16-D69)/16*U$51 -> 39237 | G69: =G$56+(G$54*P$54/P$55-G$56)*(D69-(-7))/(2-(-7)) -> #DIV/0! | H69: =H$56+(H$54*Q$54/Q$55-H$56)*(D69-(-7))/(2-(-7)) -> #DIV/0! | I69: =J$56+(J$54*P$54/P$55-J$56)*(D69-(-7))/(2-(-7)) -> #DIV/0! | J69: =K$56+(K$54*Q$54/Q$55-K$56)*(D69-(-7))/(2-(-7)) -> #DIV/0! | K69: =M$56+(M$54*P$54/P$55-M$56)*(D69-(-7))/(2-(-7)) -> #DIV/0! | L69: =N$56+(N$54*Q$54/Q$55-N$56)*(D69-(-7))/(2-(-7)) -> #DIV/0! | M69: =P$56+(P$54-P$56)*(D69-(-7))/(2-(-7)) -> 0 | N69: =IF(F69<=G69,1,IF(F69<=I69,2,IF(F69<=K69,3,IF(F69<=M69,4,IF(M69<F69,5))))) -> #DIV/0! | O69: =IF(N69=1,F69/G69,1) -> #DIV/0! | P69: =1-U$54*(1-O69) -> #DIV/0! | Q69: =IF(N69=1,H$56+(H$54*Q$54/Q$55-H$56)*(D69-(-7))/(2-(-7)),IF(N69=2,T$47+(R$47-T$47)*(D69-T$45)/(R$45-T$45),IF(N69=3,P$47+(T$47-P$47)*(D69-P$45)/(T$45-P$45),IF(N69=4,U$47+(P$47-U$47)*(D69-U$45)/(P$45-U$45),IF(N69=5,Q$56+(Q$54-Q$56)*(D69-(-7))/(2-(-7))))))) -> #DIV/0! | R69: =F69*E69 -> 1687191 | S69: =Q69*E69*O69/P69 -> #DIV/0! | T69: =IF(F69>M69,(F69-M69)*E69+U$52*U$53*E69*1000,0) -> 1687191 | U69: =R69/(S69+T69) -> #DIV/0!
C70: =C69+1 -> 11 | D70: =D69+1 -> -5 | E70: 59 | F70: =(16-D70)/16*U$51 -> 37453.5 | G70: =G$56+(G$54*P$54/P$55-G$56)*(D70-(-7))/(2-(-7)) -> #DIV/0! | H70: =H$56+(H$54*Q$54/Q$55-H$56)*(D70-(-7))/(2-(-7)) -> #DIV/0! | I70: =J$56+(J$54*P$54/P$55-J$56)*(D70-(-7))/(2-(-7)) -> #DIV/0! | J70: =K$56+(K$54*Q$54/Q$55-K$56)*(D70-(-7))/(2-(-7)) -> #DIV/0! | K70: =M$56+(M$54*P$54/P$55-M$56)*(D70-(-7))/(2-(-7)) -> #DIV/0! | L70: =N$56+(N$54*Q$54/Q$55-N$56)*(D70-(-7))/(2-(-7)) -> #DIV/0! | M70: =P$56+(P$54-P$56)*(D70-(-7))/(2-(-7)) -> 0 | N70: =IF(F70<=G70,1,IF(F70<=I70,2,IF(F70<=K70,3,IF(F70<=M70,4,IF(M70<F70,5))))) -> #DIV/0! | O70: =IF(N70=1,F70/G70,1) -> #DIV/0! | P70: =1-U$54*(1-O70) -> #DIV/0! | Q70: =IF(N70=1,H$56+(H$54*Q$54/Q$55-H$56)*(D70-(-7))/(2-(-7)),IF(N70=2,T$47+(R$47-T$47)*(D70-T$45)/(R$45-T$45),IF(N70=3,P$47+(T$47-P$47)*(D70-P$45)/(T$45-P$45),IF(N70=4,U$47+(P$47-U$47)*(D70-U$45)/(P$45-U$45),IF(N70=5,Q$56+(Q$54-Q$56)*(D70-(-7))/(2-(-7))))))) -> #DIV/0! | R70: =F70*E70 -> 2209756.5 | S70: =Q70*E70*O70/P70 -> #DIV/0! | T70: =IF(F70>M70,(F70-M70)*E70+U$52*U$53*E70*1000,0) -> 2209756.5 | U70: =R70/(S70+T70) -> #DIV/0!
C71: =C70+1 -> 12 | D71: =D70+1 -> -4 | E71: 77 | F71: =(16-D71)/16*U$51 -> 35670 | G71: =G$56+(G$54*P$54/P$55-G$56)*(D71-(-7))/(2-(-7)) -> #DIV/0! | H71: =H$56+(H$54*Q$54/Q$55-H$56)*(D71-(-7))/(2-(-7)) -> #DIV/0! | I71: =J$56+(J$54*P$54/P$55-J$56)*(D71-(-7))/(2-(-7)) -> #DIV/0! | J71: =K$56+(K$54*Q$54/Q$55-K$56)*(D71-(-7))/(2-(-7)) -> #DIV/0! | K71: =M$56+(M$54*P$54/P$55-M$56)*(D71-(-7))/(2-(-7)) -> #DIV/0! | L71: =N$56+(N$54*Q$54/Q$55-N$56)*(D71-(-7))/(2-(-7)) -> #DIV/0! | M71: =P$56+(P$54-P$56)*(D71-(-7))/(2-(-7)) -> 0 | N71: =IF(F71<=G71,1,IF(F71<=I71,2,IF(F71<=K71,3,IF(F71<=M71,4,IF(M71<F71,5))))) -> #DIV/0! | O71: =IF(N71=1,F71/G71,1) -> #DIV/0! | P71: =1-U$54*(1-O71) -> #DIV/0! | Q71: =IF(N71=1,H$56+(H$54*Q$54/Q$55-H$56)*(D71-(-7))/(2-(-7)),IF(N71=2,T$47+(R$47-T$47)*(D71-T$45)/(R$45-T$45),IF(N71=3,P$47+(T$47-P$47)*(D71-P$45)/(T$45-P$45),IF(N71=4,U$47+(P$47-U$47)*(D71-U$45)/(P$45-U$45),IF(N71=5,Q$56+(Q$54-Q$56)*(D71-(-7))/(2-(-7))))))) -> #DIV/0! | R71: =F71*E71 -> 2746590 | S71: =Q71*E71*O71/P71 -> #DIV/0! | T71: =IF(F71>M71,(F71-M71)*E71+U$52*U$53*E71*1000,0) -> 2746590 | U71: =R71/(S71+T71) -> #DIV/0!
C72: =C71+1 -> 13 | D72: =D71+1 -> -3 | E72: 89 | F72: =(16-D72)/16*U$51 -> 33886.5 | G72: =G$56+(G$54*P$54/P$55-G$56)*(D72-(-7))/(2-(-7)) -> #DIV/0! | H72: =H$56+(H$54*Q$54/Q$55-H$56)*(D72-(-7))/(2-(-7)) -> #DIV/0! | I72: =J$56+(J$54*P$54/P$55-J$56)*(D72-(-7))/(2-(-7)) -> #DIV/0! | J72: =K$56+(K$54*Q$54/Q$55-K$56)*(D72-(-7))/(2-(-7)) -> #DIV/0! | K72: =M$56+(M$54*P$54/P$55-M$56)*(D72-(-7))/(2-(-7)) -> #DIV/0! | L72: =N$56+(N$54*Q$54/Q$55-N$56)*(D72-(-7))/(2-(-7)) -> #DIV/0! | M72: =P$56+(P$54-P$56)*(D72-(-7))/(2-(-7)) -> 0 | N72: =IF(F72<=G72,1,IF(F72<=I72,2,IF(F72<=K72,3,IF(F72<=M72,4,IF(M72<F72,5))))) -> #DIV/0! | O72: =IF(N72=1,F72/G72,1) -> #DIV/0! | P72: =1-U$54*(1-O72) -> #DIV/0! | Q72: =IF(N72=1,H$56+(H$54*Q$54/Q$55-H$56)*(D72-(-7))/(2-(-7)),IF(N72=2,T$47+(R$47-T$47)*(D72-T$45)/(R$45-T$45),IF(N72=3,P$47+(T$47-P$47)*(D72-P$45)/(T$45-P$45),IF(N72=4,U$47+(P$47-U$47)*(D72-U$45)/(P$45-U$45),IF(N72=5,Q$56+(Q$54-Q$56)*(D72-(-7))/(2-(-7))))))) -> #DIV/0! | R72: =F72*E72 -> 3015898.5 | S72: =Q72*E72*O72/P72 -> #DIV/0! | T72: =IF(F72>M72,(F72-M72)*E72+U$52*U$53*E72*1000,0) -> 3015898.5 | U72: =R72/(S72+T72) -> #DIV/0!
C73: =C72+1 -> 14 | D73: =D72+1 -> -2 | E73: 114 | F73: =(16-D73)/16*U$51 -> 32103 | G73: =G$56+(G$54*P$54/P$55-G$56)*(D73-(-7))/(2-(-7)) -> #DIV/0! | H73: =H$56+(H$54*Q$54/Q$55-H$56)*(D73-(-7))/(2-(-7)) -> #DIV/0! | I73: =J$56+(J$54*P$54/P$55-J$56)*(D73-(-7))/(2-(-7)) -> #DIV/0! | J73: =K$56+(K$54*Q$54/Q$55-K$56)*(D73-(-7))/(2-(-7)) -> #DIV/0! | K73: =M$56+(M$54*P$54/P$55-M$56)*(D73-(-7))/(2-(-7)) -> #DIV/0! | L73: =N$56+(N$54*Q$54/Q$55-N$56)*(D73-(-7))/(2-(-7)) -> #DIV/0! | M73: =P$56+(P$54-P$56)*(D73-(-7))/(2-(-7)) -> 0 | N73: =IF(F73<=G73,1,IF(F73<=I73,2,IF(F73<=K73,3,IF(F73<=M73,4,IF(M73<F73,5))))) -> #DIV/0! | O73: =IF(N73=1,F73/G73,1) -> #DIV/0! | P73: =1-U$54*(1-O73) -> #DIV/0! | Q73: =IF(N73=1,H$56+(H$54*Q$54/Q$55-H$56)*(D73-(-7))/(2-(-7)),IF(N73=2,T$47+(R$47-T$47)*(D73-T$45)/(R$45-T$45),IF(N73=3,P$47+(T$47-P$47)*(D73-P$45)/(T$45-P$45),IF(N73=4,U$47+(P$47-U$47)*(D73-U$45)/(P$45-U$45),IF(N73=5,Q$56+(Q$54-Q$56)*(D73-(-7))/(2-(-7))))))) -> #DIV/0! | R73: =F73*E73 -> 3659742 | S73: =Q73*E73*O73/P73 -> #DIV/0! | T73: =IF(F73>M73,(F73-M73)*E73+U$52*U$53*E73*1000,0) -> 3659742 | U73: =R73/(S73+T73) -> #DIV/0!
C74: =C73+1 -> 15 | D74: =D73+1 -> -1 | E74: 136 | F74: =(16-D74)/16*U$51 -> 30319.5 | G74: =G$56+(G$54*P$54/P$55-G$56)*(D74-(-7))/(2-(-7)) -> #DIV/0! | H74: =H$56+(H$54*Q$54/Q$55-H$56)*(D74-(-7))/(2-(-7)) -> #DIV/0! | I74: =J$56+(J$54*P$54/P$55-J$56)*(D74-(-7))/(2-(-7)) -> #DIV/0! | J74: =K$56+(K$54*Q$54/Q$55-K$56)*(D74-(-7))/(2-(-7)) -> #DIV/0! | K74: =M$56+(M$54*P$54/P$55-M$56)*(D74-(-7))/(2-(-7)) -> #DIV/0! | L74: =N$56+(N$54*Q$54/Q$55-N$56)*(D74-(-7))/(2-(-7)) -> #DIV/0! | M74: =P$56+(P$54-P$56)*(D74-(-7))/(2-(-7)) -> 0 | N74: =IF(F74<=G74,1,IF(F74<=I74,2,IF(F74<=K74,3,IF(F74<=M74,4,IF(M74<F74,5))))) -> #DIV/0! | O74: =IF(N74=1,F74/G74,1) -> #DIV/0! | P74: =1-U$54*(1-O74) -> #DIV/0! | Q74: =IF(N74=1,H$56+(H$54*Q$54/Q$55-H$56)*(D74-(-7))/(2-(-7)),IF(N74=2,T$47+(R$47-T$47)*(D74-T$45)/(R$45-T$45),IF(N74=3,P$47+(T$47-P$47)*(D74-P$45)/(T$45-P$45),IF(N74=4,U$47+(P$47-U$47)*(D74-U$45)/(P$45-U$45),IF(N74=5,Q$56+(Q$54-Q$56)*(D74-(-7))/(2-(-7))))))) -> #DIV/0! | R74: =F74*E74 -> 4123452 | S74: =Q74*E74*O74/P74 -> #DIV/0! | T74: =IF(F74>M74,(F74-M74)*E74+U$52*U$53*E74*1000,0) -> 4123452 | U74: =R74/(S74+T74) -> #DIV/0!
C75: =C74+1 -> 16 | D75: =D74+1 -> 0 | E75: 317 | F75: =(16-D75)/16*U$51 -> 28536 | G75: =G$56+(G$54*P$54/P$55-G$56)*(D75-(-7))/(2-(-7)) -> #DIV/0! | H75: =H$56+(H$54*Q$54/Q$55-H$56)*(D75-(-7))/(2-(-7)) -> #DIV/0! | I75: =J$56+(J$54*P$54/P$55-J$56)*(D75-(-7))/(2-(-7)) -> #DIV/0! | J75: =K$56+(K$54*Q$54/Q$55-K$56)*(D75-(-7))/(2-(-7)) -> #DIV/0! | K75: =M$56+(M$54*P$54/P$55-M$56)*(D75-(-7))/(2-(-7)) -> #DIV/0! | L75: =N$56+(N$54*Q$54/Q$55-N$56)*(D75-(-7))/(2-(-7)) -> #DIV/0! | M75: =P$56+(P$54-P$56)*(D75-(-7))/(2-(-7)) -> 0 | N75: =IF(F75<=G75,1,IF(F75<=I75,2,IF(F75<=K75,3,IF(F75<=M75,4,IF(M75<F75,5))))) -> #DIV/0! | O75: =IF(N75=1,F75/G75,1) -> #DIV/0! | P75: =1-U$54*(1-O75) -> #DIV/0! | Q75: =IF(N75=1,H$56+(H$54*Q$54/Q$55-H$56)*(D75-(-7))/(2-(-7)),IF(N75=2,T$47+(R$47-T$47)*(D75-T$45)/(R$45-T$45),IF(N75=3,P$47+(T$47-P$47)*(D75-P$45)/(T$45-P$45),IF(N75=4,U$47+(P$47-U$47)*(D75-U$45)/(P$45-U$45),IF(N75=5,Q$56+(Q$54-Q$56)*(D75-(-7))/(2-(-7))))))) -> #DIV/0! | R75: =F75*E75 -> 9045912 | S75: =Q75*E75*O75/P75 -> #DIV/0! | T75: =IF(F75>M75,(F75-M75)*E75+U$52*U$53*E75*1000,0) -> 9045912 | U75: =R75/(S75+T75) -> #DIV/0!
C76: =C75+1 -> 17 | D76: =D75+1 -> 1 | E76: 182 | F76: =(16-D76)/16*U$51 -> 26752.5 | G76: =G$56+(G$54*P$54/P$55-G$56)*(D76-(-7))/(2-(-7)) -> #DIV/0! | H76: =H$56+(H$54*Q$54/Q$55-H$56)*(D76-(-7))/(2-(-7)) -> #DIV/0! | I76: =J$56+(J$54*P$54/P$55-J$56)*(D76-(-7))/(2-(-7)) -> #DIV/0! | J76: =K$56+(K$54*Q$54/Q$55-K$56)*(D76-(-7))/(2-(-7)) -> #DIV/0! | K76: =M$56+(M$54*P$54/P$55-M$56)*(D76-(-7))/(2-(-7)) -> #DIV/0! | L76: =N$56+(N$54*Q$54/Q$55-N$56)*(D76-(-7))/(2-(-7)) -> #DIV/0! | M76: =P$56+(P$54-P$56)*(D76-(-7))/(2-(-7)) -> 0 | N76: =IF(F76<=G76,1,IF(F76<=I76,2,IF(F76<=K76,3,IF(F76<=M76,4,IF(M76<F76,5))))) -> #DIV/0! | O76: =IF(N76=1,F76/G76,1) -> #DIV/0! | P76: =1-U$54*(1-O76) -> #DIV/0! | Q76: =IF(N76=1,H$56+(H$54*Q$54/Q$55-H$56)*(D76-(-7))/(2-(-7)),IF(N76=2,T$47+(R$47-T$47)*(D76-T$45)/(R$45-T$45),IF(N76=3,P$47+(T$47-P$47)*(D76-P$45)/(T$45-P$45),IF(N76=4,U$47+(P$47-U$47)*(D76-U$45)/(P$45-U$45),IF(N76=5,Q$56+(Q$54-Q$56)*(D76-(-7))/(2-(-7))))))) -> #DIV/0! | R76: =F76*E76 -> 4868955 | S76: =Q76*E76*O76/P76 -> #DIV/0! | T76: =IF(F76>M76,(F76-M76)*E76+U$52*U$53*E76*1000,0) -> 4868955 | U76: =R76/(S76+T76) -> #DIV/0!
C77: =C76+1 -> 18 | D77: =D76+1 -> 2 | E77: 187 | F77: =(16-D77)/16*U$51 -> 24969 | G77: =G$56+(G$54*P$54/P$55-G$56)*(D77-(-7))/(2-(-7)) -> #DIV/0! | H77: =H$56+(H$54*Q$54/Q$55-H$56)*(D77-(-7))/(2-(-7)) -> #DIV/0! | I77: =J$56+(J$54*P$54/P$55-J$56)*(D77-(-7))/(2-(-7)) -> #DIV/0! | J77: =K$56+(K$54*Q$54/Q$55-K$56)*(D77-(-7))/(2-(-7)) -> #DIV/0! | K77: =M$56+(M$54*P$54/P$55-M$56)*(D77-(-7))/(2-(-7)) -> #DIV/0! | L77: =N$56+(N$54*Q$54/Q$55-N$56)*(D77-(-7))/(2-(-7)) -> #DIV/0! | M77: =P$56+(P$54-P$56)*(D77-(-7))/(2-(-7)) -> 0 | N77: =IF(F77<=G77,1,IF(F77<=I77,2,IF(F77<=K77,3,IF(F77<=M77,4,IF(M77<F77,5))))) -> #DIV/0! | O77: =IF(N77=1,F77/G77,1) -> #DIV/0! | P77: =1-U$54*(1-O77) -> #DIV/0! | Q77: =IF(N77=1,H$56+(H$54*Q$54/Q$55-H$56)*(D77-(-7))/(2-(-7)),IF(N77=2,T$47+(R$47-T$47)*(D77-T$45)/(R$45-T$45),IF(N77=3,P$47+(T$47-P$47)*(D77-P$45)/(T$45-P$45),IF(N77=4,U$47+(P$47-U$47)*(D77-U$45)/(P$45-U$45),IF(N77=5,Q$56+(Q$54-Q$56)*(D77-(-7))/(2-(-7))))))) -> #DIV/0! | R77: =F77*E77 -> 4669203 | S77: =Q77*E77*O77/P77 -> #DIV/0! | T77: =IF(F77>M77,(F77-M77)*E77+U$52*U$53*E77*1000,0) -> 4669203 | U77: =R77/(S77+T77) -> #DIV/0!
C78: =C77+1 -> 19 | D78: =D77+1 -> 3 | E78: 191 | F78: =(16-D78)/16*U$51 -> 23185.5 | G78: =G$56+(G$54*P$54/P$55-G$56)*(D78-(-7))/(2-(-7)) -> #DIV/0! | H78: =H$56+(H$54*Q$54/Q$55-H$56)*(D78-(-7))/(2-(-7)) -> #DIV/0! | I78: =J$56+(J$54*P$54/P$55-J$56)*(D78-(-7))/(2-(-7)) -> #DIV/0! | J78: =K$56+(K$54*Q$54/Q$55-K$56)*(D78-(-7))/(2-(-7)) -> #DIV/0! | K78: =M$56+(M$54*P$54/P$55-M$56)*(D78-(-7))/(2-(-7)) -> #DIV/0! | L78: =N$56+(N$54*Q$54/Q$55-N$56)*(D78-(-7))/(2-(-7)) -> #DIV/0! | M78: =P$56+(P$54-P$56)*(D78-(-7))/(2-(-7)) -> 0 | N78: =IF(F78<=G78,1,IF(F78<=I78,2,IF(F78<=K78,3,IF(F78<=M78,4,IF(M78<F78,5))))) -> #DIV/0! | O78: =IF(N78=1,F78/G78,1) -> #DIV/0! | P78: =1-U$54*(1-O78) -> #DIV/0! | Q78: =IF(N78=1,H$56+(H$54*Q$54/Q$55-H$56)*(D78-(-7))/(2-(-7)),IF(N78=2,T$47+(R$47-T$47)*(D78-T$45)/(R$45-T$45),IF(N78=3,P$47+(T$47-P$47)*(D78-P$45)/(T$45-P$45),IF(N78=4,U$47+(P$47-U$47)*(D78-U$45)/(P$45-U$45),IF(N78=5,Q$56+(Q$54-Q$56)*(D78-(-7))/(2-(-7))))))) -> #DIV/0! | R78: =F78*E78 -> 4428430.5 | S78: =Q78*E78*O78/P78 -> #DIV/0! | T78: =IF(F78>M78,(F78-M78)*E78+U$52*U$53*E78*1000,0) -> 4428430.5 | U78: =R78/(S78+T78) -> #DIV/0!
C79: =C78+1 -> 20 | D79: =D78+1 -> 4 | E79: 192 | F79: =(16-D79)/16*U$51 -> 21402 | G79: =G$56+(G$54*P$54/P$55-G$56)*(D79-(-7))/(2-(-7)) -> #DIV/0! | H79: =H$56+(H$54*Q$54/Q$55-H$56)*(D79-(-7))/(2-(-7)) -> #DIV/0! | I79: =J$56+(J$54*P$54/P$55-J$56)*(D79-(-7))/(2-(-7)) -> #DIV/0! | J79: =K$56+(K$54*Q$54/Q$55-K$56)*(D79-(-7))/(2-(-7)) -> #DIV/0! | K79: =M$56+(M$54*P$54/P$55-M$56)*(D79-(-7))/(2-(-7)) -> #DIV/0! | L79: =N$56+(N$54*Q$54/Q$55-N$56)*(D79-(-7))/(2-(-7)) -> #DIV/0! | M79: =P$56+(P$54-P$56)*(D79-(-7))/(2-(-7)) -> 0 | N79: =IF(F79<=G79,1,IF(F79<=I79,2,IF(F79<=K79,3,IF(F79<=M79,4,IF(M79<F79,5))))) -> #DIV/0! | O79: =IF(N79=1,F79/G79,1) -> #DIV/0! | P79: =1-U$54*(1-O79) -> #DIV/0! | Q79: =IF(N79=1,H$56+(H$54*Q$54/Q$55-H$56)*(D79-(-7))/(2-(-7)),IF(N79=2,T$47+(R$47-T$47)*(D79-T$45)/(R$45-T$45),IF(N79=3,P$47+(T$47-P$47)*(D79-P$45)/(T$45-P$45),IF(N79=4,U$47+(P$47-U$47)*(D79-U$45)/(P$45-U$45),IF(N79=5,Q$56+(Q$54-Q$56)*(D79-(-7))/(2-(-7))))))) -> #DIV/0! | R79: =F79*E79 -> 4109184 | S79: =Q79*E79*O79/P79 -> #DIV/0! | T79: =IF(F79>M79,(F79-M79)*E79+U$52*U$53*E79*1000,0) -> 4109184 | U79: =R79/(S79+T79) -> #DIV/0!
C80: =C79+1 -> 21 | D80: =D79+1 -> 5 | E80: 184 | F80: =(16-D80)/16*U$51 -> 19618.5 | G80: =G$56+(G$54*P$54/P$55-G$56)*(D80-(-7))/(2-(-7)) -> #DIV/0! | H80: =H$56+(H$54*Q$54/Q$55-H$56)*(D80-(-7))/(2-(-7)) -> #DIV/0! | I80: =J$56+(J$54*P$54/P$55-J$56)*(D80-(-7))/(2-(-7)) -> #DIV/0! | J80: =K$56+(K$54*Q$54/Q$55-K$56)*(D80-(-7))/(2-(-7)) -> #DIV/0! | K80: =M$56+(M$54*P$54/P$55-M$56)*(D80-(-7))/(2-(-7)) -> #DIV/0! | L80: =N$56+(N$54*Q$54/Q$55-N$56)*(D80-(-7))/(2-(-7)) -> #DIV/0! | M80: =P$56+(P$54-P$56)*(D80-(-7))/(2-(-7)) -> 0 | N80: =IF(F80<=G80,1,IF(F80<=I80,2,IF(F80<=K80,3,IF(F80<=M80,4,IF(M80<F80,5))))) -> #DIV/0! | O80: =IF(N80=1,F80/G80,1) -> #DIV/0! | P80: =1-U$54*(1-O80) -> #DIV/0! | Q80: =IF(N80=1,H$56+(H$54*Q$54/Q$55-H$56)*(D80-(-7))/(2-(-7)),IF(N80=2,T$47+(R$47-T$47)*(D80-T$45)/(R$45-T$45),IF(N80=3,P$47+(T$47-P$47)*(D80-P$45)/(T$45-P$45),IF(N80=4,U$47+(P$47-U$47)*(D80-U$45)/(P$45-U$45),IF(N80=5,Q$56+(Q$54-Q$56)*(D80-(-7))/(2-(-7))))))) -> #DIV/0! | R80: =F80*E80 -> 3609804 | S80: =Q80*E80*O80/P80 -> #DIV/0! | T80: =IF(F80>M80,(F80-M80)*E80+U$52*U$53*E80*1000,0) -> 3609804 | U80: =R80/(S80+T80) -> #DIV/0!
C81: =C80+1 -> 22 | D81: =D80+1 -> 6 | E81: 173 | F81: =(16-D81)/16*U$51 -> 17835 | G81: =G$56+(G$53-G$56)*(D81-(-7))/(7-(-7)) -> 0 | H81: =H$56+(H$53-H$56)*(D81-(-7))/(7-(-7)) -> 0 | I81: =J$56+(J$53-J$56)*(D81-(-7))/(7-(-7)) -> 0 | J81: =K$56+(K$53-K$56)*(D81-(-7))/(7-(-7)) -> 0 | K81: =M$56+(M$53-M$56)*(D81-(-7))/(7-(-7)) -> 0 | L81: =N$56+(N$53-N$56)*(D81-(-7))/(7-(-7)) -> 0 | M81: =P$56+(P$54-P$56)*(D81-(-7))/(2-(-7)) -> 0 | N81: =IF(F81<=G81,1,IF(F81<=I81,2,IF(F81<=M81,3))) -> FALSE | O81: =IF(N81=1,F81/G81,1) -> 1 | P81: =1-U$54*(1-O81) -> 1 | Q81: =IF(N81=1,H$56+(H$53-H$56)*(D81-(-7))/(7-(-7)),IF(N81=2,S$47+(Q$47-S$47)*(D81-S$45)/(Q$45-S$45),IF(N81=3,O$47+(S$47-O$47)*(D81-O$45)/(S$45-O$45)))) -> FALSE | R81: =F81*E81 -> 3085455 | S81: =Q81*E81*O81/P81 -> 0 | T81: =IF(F81>M81,(F81-M81)*E81+U$52*U$53*E81*1000,0) -> 3085455 | U81: =R81/(S81+T81) -> 1
C82: =C81+1 -> 23 | D82: =D81+1 -> 7 | E82: 140 | F82: =(16-D82)/16*U$51 -> 16051.5 | G82: =G$56+(G$53-G$56)*(D82-(-7))/(7-(-7)) -> 0 | H82: =H$56+(H$53-H$56)*(D82-(-7))/(7-(-7)) -> 0 | I82: =J$56+(J$53-J$56)*(D82-(-7))/(7-(-7)) -> 0 | J82: =K$56+(K$53-K$56)*(D82-(-7))/(7-(-7)) -> 0 | K82: =M$56+(M$53-M$56)*(D82-(-7))/(7-(-7)) -> 0 | L82: =N$56+(N$53-N$56)*(D82-(-7))/(7-(-7)) -> 0 | M82: =P$56+(P$54-P$56)*(D82-(-7))/(2-(-7)) -> 0 | N82: =IF(F82<=G82,1,IF(F82<=I82,2,IF(F82<=M82,3))) -> FALSE | O82: =IF(N82=1,F82/G82,1) -> 1 | P82: =1-U$54*(1-O82) -> 1 | Q82: =IF(N82=1,H$56+(H$53-H$56)*(D82-(-7))/(7-(-7)),IF(N82=2,S$47+(Q$47-S$47)*(D82-S$45)/(Q$45-S$45),IF(N82=3,O$47+(S$47-O$47)*(D82-O$45)/(S$45-O$45)))) -> FALSE | R82: =F82*E82 -> 2247210 | S82: =Q82*E82*O82/P82 -> 0 | T82: =IF(F82>M82,(F82-M82)*E82+U$52*U$53*E82*1000,0) -> 2247210 | U82: =R82/(S82+T82) -> 1
C83: =C82+1 -> 24 | D83: =D82+1 -> 8 | E83: 138 | F83: =(16-D83)/16*U$51 -> 14268 | G83: =G$56+(G$53-G$56)*(D83-(-7))/(7-(-7)) -> 0 | H83: =H$56+(H$53-H$56)*(D83-(-7))/(7-(-7)) -> 0 | I83: =J$56+(J$53-J$56)*(D83-(-7))/(7-(-7)) -> 0 | J83: =K$56+(K$53-K$56)*(D83-(-7))/(7-(-7)) -> 0 | K83: =M$56+(M$53-M$56)*(D83-(-7))/(7-(-7)) -> 0 | L83: =N$56+(N$53-N$56)*(D83-(-7))/(7-(-7)) -> 0 | M83: =P$56+(P$54-P$56)*(D83-(-7))/(2-(-7)) -> 0 | N83: =IF(F83<=G83,1,IF(F83<=I83,2,IF(F83<=M83,3))) -> FALSE | O83: =IF(N83=1,F83/G83,1) -> 1 | P83: =1-U$54*(1-O83) -> 1 | Q83: =IF(N83=1,H$56+(H$53-H$56)*(D83-(-7))/(7-(-7)),IF(N83=2,S$47+(Q$47-S$47)*(D83-S$45)/(Q$45-S$45),IF(N83=3,O$47+(S$47-O$47)*(D83-O$45)/(S$45-O$45)))) -> FALSE | R83: =F83*E83 -> 1968984 | S83: =Q83*E83*O83/P83 -> 0 | T83: =IF(F83>M83,(F83-M83)*E83+U$52*U$53*E83*1000,0) -> 1968984 | U83: =R83/(S83+T83) -> 1
C84: =C83+1 -> 25 | D84: =D83+1 -> 9 | E84: 124 | F84: =(16-D84)/16*U$51 -> 12484.5 | G84: =G$56+(G$53-G$56)*(D84-(-7))/(7-(-7)) -> 0 | H84: =H$56+(H$53-H$56)*(D84-(-7))/(7-(-7)) -> 0 | I84: =J$56+(J$53-J$56)*(D84-(-7))/(7-(-7)) -> 0 | J84: =K$56+(K$53-K$56)*(D84-(-7))/(7-(-7)) -> 0 | K84: =M$56+(M$53-M$56)*(D84-(-7))/(7-(-7)) -> 0 | L84: =N$56+(N$53-N$56)*(D84-(-7))/(7-(-7)) -> 0 | M84: =P$56+(P$54-P$56)*(D84-(-7))/(2-(-7)) -> 0 | N84: =IF(F84<=G84,1,IF(F84<=I84,2,IF(F84<=M84,3))) -> FALSE | O84: =IF(N84=1,F84/G84,1) -> 1 | P84: =1-U$54*(1-O84) -> 1 | Q84: =IF(N84=1,H$56+(H$53-H$56)*(D84-(-7))/(7-(-7)),IF(N84=2,S$47+(Q$47-S$47)*(D84-S$45)/(Q$45-S$45),IF(N84=3,O$47+(S$47-O$47)*(D84-O$45)/(S$45-O$45)))) -> FALSE | R84: =F84*E84 -> 1548078 | S84: =Q84*E84*O84/P84 -> 0 | T84: =IF(F84>M84,(F84-M84)*E84+U$52*U$53*E84*1000,0) -> 1548078 | U84: =R84/(S84+T84) -> 1
C85: =C84+1 -> 26 | D85: =D84+1 -> 10 | E85: 106 | F85: =(16-D85)/16*U$51 -> 10701 | G85: =G$56+(G$53-G$56)*(D85-(-7))/(7-(-7)) -> 0 | H85: =H$56+(H$53-H$56)*(D85-(-7))/(7-(-7)) -> 0 | I85: =J$56+(J$53-J$56)*(D85-(-7))/(7-(-7)) -> 0 | J85: =K$56+(K$53-K$56)*(D85-(-7))/(7-(-7)) -> 0 | K85: =M$56+(M$53-M$56)*(D85-(-7))/(7-(-7)) -> 0 | L85: =N$56+(N$53-N$56)*(D85-(-7))/(7-(-7)) -> 0 | M85: =P$56+(P$54-P$56)*(D85-(-7))/(2-(-7)) -> 0 | N85: =IF(F85<=G85,1,IF(F85<=I85,2,IF(F85<=M85,3))) -> FALSE | O85: =IF(N85=1,F85/G85,1) -> 1 | P85: =1-U$54*(1-O85) -> 1 | Q85: =IF(N85=1,H$56+(H$53-H$56)*(D85-(-7))/(7-(-7)),IF(N85=2,S$47+(Q$47-S$47)*(D85-S$45)/(Q$45-S$45),IF(N85=3,O$47+(S$47-O$47)*(D85-O$45)/(S$45-O$45)))) -> FALSE | R85: =F85*E85 -> 1134306 | S85: =Q85*E85*O85/P85 -> 0 | T85: =IF(F85>M85,(F85-M85)*E85+U$52*U$53*E85*1000,0) -> 1134306 | U85: =R85/(S85+T85) -> 1
C86: =C85+1 -> 27 | D86: =D85+1 -> 11 | E86: 88 | F86: =(16-D86)/16*U$51 -> 8917.5 | G86: =G$56+(G$53-G$56)*(D86-(-7))/(7-(-7)) -> 0 | H86: =H$56+(H$53-H$56)*(D86-(-7))/(7-(-7)) -> 0 | I86: =J$56+(J$53-J$56)*(D86-(-7))/(7-(-7)) -> 0 | J86: =K$56+(K$53-K$56)*(D86-(-7))/(7-(-7)) -> 0 | K86: =M$56+(M$53-M$56)*(D86-(-7))/(7-(-7)) -> 0 | L86: =N$56+(N$53-N$56)*(D86-(-7))/(7-(-7)) -> 0 | M86: =P$56+(P$54-P$56)*(D86-(-7))/(2-(-7)) -> 0 | N86: =IF(F86<=G86,1,IF(F86<=I86,2,IF(F86<=M86,3))) -> FALSE | O86: =IF(N86=1,F86/G86,1) -> 1 | P86: =1-U$54*(1-O86) -> 1 | Q86: =IF(N86=1,H$56+(H$53-H$56)*(D86-(-7))/(7-(-7)),IF(N86=2,S$47+(Q$47-S$47)*(D86-S$45)/(Q$45-S$45),IF(N86=3,O$47+(S$47-O$47)*(D86-O$45)/(S$45-O$45)))) -> FALSE | R86: =F86*E86 -> 784740 | S86: =Q86*E86*O86/P86 -> 0 | T86: =IF(F86>M86,(F86-M86)*E86+U$52*U$53*E86*1000,0) -> 784740 | U86: =R86/(S86+T86) -> 1
C87: =C86+1 -> 28 | D87: =D86+1 -> 12 | E87: 74 | F87: =(16-D87)/16*U$51 -> 7134 | G87: =G$56+(G$53-G$56)*(D87-(-7))/(7-(-7)) -> 0 | H87: =H$56+(H$53-H$56)*(D87-(-7))/(7-(-7)) -> 0 | I87: =J$56+(J$53-J$56)*(D87-(-7))/(7-(-7)) -> 0 | J87: =K$56+(K$53-K$56)*(D87-(-7))/(7-(-7)) -> 0 | K87: =M$56+(M$53-M$56)*(D87-(-7))/(7-(-7)) -> 0 | L87: =N$56+(N$53-N$56)*(D87-(-7))/(7-(-7)) -> 0 | M87: =P$56+(P$54-P$56)*(D87-(-7))/(2-(-7)) -> 0 | N87: =IF(F87<=G87,1,IF(F87<=I87,2,IF(F87<=M87,3))) -> FALSE | O87: =IF(N87=1,F87/G87,1) -> 1 | P87: =1-U$54*(1-O87) -> 1 | Q87: =IF(N87=1,H$56+(H$53-H$56)*(D87-(-7))/(7-(-7)),IF(N87=2,S$47+(Q$47-S$47)*(D87-S$45)/(Q$45-S$45),IF(N87=3,O$47+(S$47-O$47)*(D87-O$45)/(S$45-O$45)))) -> FALSE | R87: =F87*E87 -> 527916 | S87: =Q87*E87*O87/P87 -> 0 | T87: =IF(F87>M87,(F87-M87)*E87+U$52*U$53*E87*1000,0) -> 527916 | U87: =R87/(S87+T87) -> 1
C88: =C87+1 -> 29 | D88: =D87+1 -> 13 | E88: 58 | F88: =(16-D88)/16*U$51 -> 5350.5 | G88: =G$56+(G$53-G$56)*(D88-(-7))/(7-(-7)) -> 0 | H88: =H$56+(H$53-H$56)*(D88-(-7))/(7-(-7)) -> 0 | I88: =J$56+(J$53-J$56)*(D88-(-7))/(7-(-7)) -> 0 | J88: =K$56+(K$53-K$56)*(D88-(-7))/(7-(-7)) -> 0 | K88: =M$56+(M$53-M$56)*(D88-(-7))/(7-(-7)) -> 0 | L88: =N$56+(N$53-N$56)*(D88-(-7))/(7-(-7)) -> 0 | M88: =P$56+(P$54-P$56)*(D88-(-7))/(2-(-7)) -> 0 | N88: =IF(F88<=G88,1,IF(F88<=I88,2,IF(F88<=M88,3))) -> FALSE | O88: =IF(N88=1,F88/G88,1) -> 1 | P88: =1-U$54*(1-O88) -> 1 | Q88: =IF(N88=1,H$56+(H$53-H$56)*(D88-(-7))/(7-(-7)),IF(N88=2,S$47+(Q$47-S$47)*(D88-S$45)/(Q$45-S$45),IF(N88=3,O$47+(S$47-O$47)*(D88-O$45)/(S$45-O$45)))) -> FALSE | R88: =F88*E88 -> 310329 | S88: =Q88*E88*O88/P88 -> 0 | T88: =IF(F88>M88,(F88-M88)*E88+U$52*U$53*E88*1000,0) -> 310329 | U88: =R88/(S88+T88) -> 1
C89: =C88+1 -> 30 | D89: =D88+1 -> 14 | E89: 45 | F89: =(16-D89)/16*U$51 -> 3567 | G89: =G$56+(G$53-G$56)*(D89-(-7))/(7-(-7)) -> 0 | H89: =H$56+(H$53-H$56)*(D89-(-7))/(7-(-7)) -> 0 | I89: =J$56+(J$53-J$56)*(D89-(-7))/(7-(-7)) -> 0 | J89: =K$56+(K$53-K$56)*(D89-(-7))/(7-(-7)) -> 0 | K89: =M$56+(M$53-M$56)*(D89-(-7))/(7-(-7)) -> 0 | L89: =N$56+(N$53-N$56)*(D89-(-7))/(7-(-7)) -> 0 | M89: =P$56+(P$54-P$56)*(D89-(-7))/(2-(-7)) -> 0 | N89: =IF(F89<=G89,1,IF(F89<=I89,2,IF(F89<=M89,3))) -> FALSE | O89: =IF(N89=1,F89/G89,1) -> 1 | P89: =1-U$54*(1-O89) -> 1 | Q89: =IF(N89=1,H$56+(H$53-H$56)*(D89-(-7))/(7-(-7)),IF(N89=2,S$47+(Q$47-S$47)*(D89-S$45)/(Q$45-S$45),IF(N89=3,O$47+(S$47-O$47)*(D89-O$45)/(S$45-O$45)))) -> FALSE | R89: =F89*E89 -> 160515 | S89: =Q89*E89*O89/P89 -> 0 | T89: =IF(F89>M89,(F89-M89)*E89+U$52*U$53*E89*1000,0) -> 160515 | U89: =R89/(S89+T89) -> 1
C90: =C89+1 -> 31 | D90: =D89+1 -> 15 | E90: 36 | F90: =(16-D90)/16*U$51 -> 1783.5 | G90: =G$56+(G$53-G$56)*(D90-(-7))/(7-(-7)) -> 0 | H90: =H$56+(H$53-H$56)*(D90-(-7))/(7-(-7)) -> 0 | I90: =J$56+(J$53-J$56)*(D90-(-7))/(7-(-7)) -> 0 | J90: =K$56+(K$53-K$56)*(D90-(-7))/(7-(-7)) -> 0 | K90: =M$56+(M$53-M$56)*(D90-(-7))/(7-(-7)) -> 0 | L90: =N$56+(N$53-N$56)*(D90-(-7))/(7-(-7)) -> 0 | M90: =P$56+(P$54-P$56)*(D90-(-7))/(2-(-7)) -> 0 | N90: =IF(F90<=G90,1,IF(F90<=I90,2,IF(F90<=M90,3))) -> FALSE | O90: =IF(N90=1,F90/G90,1) -> 1 | P90: =1-U$54*(1-O90) -> 1 | Q90: =IF(N90=1,H$56+(H$53-H$56)*(D90-(-7))/(7-(-7)),IF(N90=2,S$47+(Q$47-S$47)*(D90-S$45)/(Q$45-S$45),IF(N90=3,O$47+(S$47-O$47)*(D90-O$45)/(S$45-O$45)))) -> FALSE | R90: =F90*E90 -> 64206 | S90: =Q90*E90*O90/P90 -> 0 | T90: =IF(F90>M90,(F90-M90)*E90+U$52*U$53*E90*1000,0) -> 64206 | U90: =R90/(S90+T90) -> 1
C91: 계 | E91: =SUM(E60:E90) -> 2849 | R91: =SUM(R60:R90) -> 64295175 | S91: =SUM(S60:S90) -> #DIV/0! | T91: =SUM(T60:T90) -> 64295175 | U91: =R91/(S91+T91) -> #DIV/0!
